BEGIN:VCALENDAR
VERSION:2.0
PRODID:-// - ECPv6.15.20//NONSGML v1.0//EN
CALSCALE:GREGORIAN
METHOD:PUBLISH
X-ORIGINAL-URL:https://www.greekboston.com
X-WR-CALDESC:Events for 
REFRESH-INTERVAL;VALUE=DURATION:PT1H
X-Robots-Tag:noindex
X-PUBLISHED-TTL:PT1H
BEGIN:VTIMEZONE
TZID:America/New_York
BEGIN:DAYLIGHT
TZOFFSETFROM:-0500
TZOFFSETTO:-0400
TZNAME:EDT
DTSTART:20130310T070000
END:DAYLIGHT
BEGIN:STANDARD
TZOFFSETFROM:-0400
TZOFFSETTO:-0500
TZNAME:EST
DTSTART:20131103T060000
END:STANDARD
BEGIN:DAYLIGHT
TZOFFSETFROM:-0500
TZOFFSETTO:-0400
TZNAME:EDT
DTSTART:20140309T070000
END:DAYLIGHT
BEGIN:STANDARD
TZOFFSETFROM:-0400
TZOFFSETTO:-0500
TZNAME:EST
DTSTART:20141102T060000
END:STANDARD
BEGIN:DAYLIGHT
TZOFFSETFROM:-0500
TZOFFSETTO:-0400
TZNAME:EDT
DTSTART:20150308T070000
END:DAYLIGHT
BEGIN:STANDARD
TZOFFSETFROM:-0400
TZOFFSETTO:-0500
TZNAME:EST
DTSTART:20151101T060000
END:STANDARD
BEGIN:DAYLIGHT
TZOFFSETFROM:-0500
TZOFFSETTO:-0400
TZNAME:EDT
DTSTART:20160313T070000
END:DAYLIGHT
BEGIN:STANDARD
TZOFFSETFROM:-0400
TZOFFSETTO:-0500
TZNAME:EST
DTSTART:20161106T060000
END:STANDARD
END:VTIMEZONE
BEGIN:VEVENT
DTSTART;TZID=America/New_York:20141203T193000
DTEND;TZID=America/New_York:20141203T220000
DTSTAMP:20260423T020128
CREATED:20141106T111750Z
LAST-MODIFIED:20141106T111750Z
UID:44479-1417635000-1417644000@www.greekboston.com
SUMMARY:HCHC Annual Family Feud Night
DESCRIPTION:Hellenic College Class of 2016 hosting 1st Annual Family Feud Night!!! Faculty\, staff\, and students are encouraged to participate!!! Event will be on December 3rd at the Maliotis Center at 7:30 pm.
URL:https://www.greekboston.com/event/hchc-family-feud/
LOCATION:Maliotis Cultural Center\, 50 Goddard Avenue\, Brookline\, MA\, 02130\, United States
CATEGORIES:Greek Events in Boston and the New England Area
ATTACH;FMTTYPE=image/jpeg:https://e498h76z5mp.exactdn.com/wp-content/uploads/2014/11/1551657_10153469857025200_4936938744513743781_n.jpg
END:VEVENT
BEGIN:VEVENT
DTSTART;TZID=America/New_York:20141205T160000
DTEND;TZID=America/New_York:20141205T160000
DTSTAMP:20260423T020128
CREATED:20141124T194152Z
LAST-MODIFIED:20141124T194152Z
UID:44850-1417795200-1417795200@www.greekboston.com
SUMMARY:Movie Showing of "Frozen" at Annunciation Greek Orthodox Church in Woburn\, MA
DESCRIPTION:
URL:https://www.greekboston.com/event/movie-frozen-woburn/
LOCATION:Annunciation of The Virgin Mary Greek Orthodox Church  – Woburn\, MA\, 70 Montvale Avenue \, Woburn\, MA\, 01801 \, United States
CATEGORIES:Greek Events in Boston and the New England Area
ATTACH;FMTTYPE=image/jpeg:https://e498h76z5mp.exactdn.com/wp-content/uploads/2014/11/Movie-Screening-Frozen.jpg
END:VEVENT
BEGIN:VEVENT
DTSTART;TZID=America/New_York:20141205T190000
DTEND;TZID=America/New_York:20141206T090000
DTSTAMP:20260423T020128
CREATED:20141118T193604Z
LAST-MODIFIED:20141118T193644Z
UID:44729-1417806000-1417856400@www.greekboston.com
SUMMARY:G.O.Y.A. Lock In - Annunciation Greek Orthodox Church of Woburn\, MA
DESCRIPTION:
URL:https://www.greekboston.com/event/goya-lock-in-woburn/
LOCATION:Annunciation of The Virgin Mary Greek Orthodox Church  – Woburn\, MA\, 70 Montvale Avenue \, Woburn\, MA\, 01801 \, United States
CATEGORIES:Greek Events in Boston and the New England Area
ATTACH;FMTTYPE=image/jpeg:https://e498h76z5mp.exactdn.com/wp-content/uploads/2014/11/facebook_1416327606763.jpg
END:VEVENT
BEGIN:VEVENT
DTSTART;TZID=America/New_York:20141206T083000
DTEND;TZID=America/New_York:20141206T083000
DTSTAMP:20260423T020128
CREATED:20141203T174120Z
LAST-MODIFIED:20141203T174120Z
UID:45035-1417854600-1417854600@www.greekboston.com
SUMMARY:Winter Retreat at St. Demetrios Greek Orthodox Church in Saco Maine
DESCRIPTION:
URL:https://www.greekboston.com/event/winter-retreat-maine/
LOCATION:Greek Orthodox St. Demetrios Church in Saco\, ME\, 186 Bradley Street\, Saco\, ME\, 04072\, United States
CATEGORIES:Greek Events in Boston and the New England Area
ATTACH;FMTTYPE=image/jpeg:https://e498h76z5mp.exactdn.com/wp-content/uploads/2014/12/facebook_1417613920084.jpg
END:VEVENT
BEGIN:VEVENT
DTSTART;TZID=America/New_York:20141206T090000
DTEND;TZID=America/New_York:20141206T150000
DTSTAMP:20260423T020128
CREATED:20141125T193707Z
LAST-MODIFIED:20141125T193749Z
UID:44867-1417856400-1417878000@www.greekboston.com
SUMMARY:Metropolis of Boston Jr. Joy Clinic League New Players Welcome
DESCRIPTION:Jr. Joy will be changed this year into a clinic-style skills training league. Each player will have the opportunity to enter into the league as an individual\, without having a team. The cost will be $50 per player. Each player is required to submit a registration form before the beginning of the season\, on December 6th. The Jr. Joy player will gather every Saturday (according to the schedule) and will have 40 minutes designated for skills-building\, including: practice drills\, warm-ups\, dribbling practice\, and lessons from the MYBL staff and referees. The last 40 minutes of the session\, the players will be divided into different teams and they will play scrimmage games. The players will receive a reversible jersey they are required to wear every game. This is a great opportunity for Jr. Joy aged kids (boys and girls) to come together and learn basketball skills\, create friendships between parishes\, and play basketball in a friendly Christian environment. This clinic is offered for all children from any Greek Orthodox Parish in the Metropolis of Boston.\nFor More Information Please Contact:\nEleni Kalioras\nDirector of Youth and Young Adult Ministers for the Metropolis of Boston\nEmail: ekalioras@boston.goarch.org Office: 617-277-4742\nRegistration Forms: www.boston.goarch.org
URL:https://www.greekboston.com/event/metropolis-jr-joy-clinic/
LOCATION:Greek Orthodox Metropolis of Boston\, 162 Goddard Avenue\, Brookline\, MA\, 02445\, United States
CATEGORIES:Greek Events in Boston and the New England Area
ATTACH;FMTTYPE=image/jpeg:https://e498h76z5mp.exactdn.com/wp-content/uploads/2014/11/1496209_209015389286925_1204484587_o.jpg
END:VEVENT
BEGIN:VEVENT
DTSTART;TZID=America/New_York:20141206T090000
DTEND;TZID=America/New_York:20141206T160000
DTSTAMP:20260423T020128
CREATED:20141027T213451Z
LAST-MODIFIED:20141027T213451Z
UID:43936-1417856400-1417881600@www.greekboston.com
SUMMARY:Holy Trinity Greek Orthodox Church in Holyoke\, MA - Holiday Bazaar
DESCRIPTION:
URL:https://www.greekboston.com/event/holy-trinity-holiday-bazaar/
LOCATION:Holy Trinity Greek Orthodox Church – Holyoke\, MA\, 410 Main St\, Holyoke\, MA\, 01040\, United States
CATEGORIES:Greek Events in Boston and the New England Area
ATTACH;FMTTYPE=image/jpeg:https://e498h76z5mp.exactdn.com/wp-content/uploads/2014/10/Holiday-Bazaar-copy.jpg
END:VEVENT
BEGIN:VEVENT
DTSTART;TZID=America/New_York:20141207T180000
DTEND;TZID=America/New_York:20141207T230000
DTSTAMP:20260423T020128
CREATED:20141130T124443Z
LAST-MODIFIED:20141130T124457Z
UID:44895-1417975200-1417993200@www.greekboston.com
SUMMARY:Greek Rebetiko Trio Farewell Concert
DESCRIPTION:JOIN DIMITRIS\, PANOS\, GIORGOS AND A NUMBER OF GUEST ARTISTS FOR OUR OFFICIAL LAST CONCERT!\n1ST SET: TRIBUTE TO MANOLIS XIOTIS\n2ND SET: GLENTI WITH GREEK REBETIKO TRIO PLUS GUESTS\nENTERTAINMENT FEE: $20 ADULTS\, $10 STUDENTS\n(PRICE INCLUDES A COPY OF OUR BRAND NEW CD!!!)\nSUNDAY\, DECEMBER 7 AT ATHAN’S (407 WASHINGTON ST. BRIGHTON)\nFOR RESERVATIONS CALL ARIS AT: 617-840-6373\n\nDELICIOUS GREEK DISHES! (FULL MENU ALSO AVAILABLE)\nWe’ve had a great ride. We are grateful for all the amazing times we had and we want to celebrate with all of you!!
URL:https://www.greekboston.com/event/rebetiko-trio-farewell-concert/
LOCATION:Athan’s Bakery\, 407 Washington Street\, Boston\, MA\, 02135\, United States
CATEGORIES:Greek Events in Boston and the New England Area
ATTACH;FMTTYPE=image/jpeg:https://e498h76z5mp.exactdn.com/wp-content/uploads/2014/11/10806487_1002577073092465_4709158688226437455_n.jpg
END:VEVENT
BEGIN:VEVENT
DTSTART;TZID=America/New_York:20141207T200000
DTEND;TZID=America/New_York:20141208T000000
DTSTAMP:20260423T020128
CREATED:20141022T153101Z
LAST-MODIFIED:20141022T153101Z
UID:43825-1417982400-1417996800@www.greekboston.com
SUMMARY:Songs for Smiles Greek Charity Event at St. Nectarios Greek Church in Roslindale MA
DESCRIPTION:
URL:https://www.greekboston.com/event/songs-smiles-charity-roslindale/
LOCATION:St. Nectarios Greek Orthodox Church – Roslindale\, MA\, 39 Belgrade Ave\, Roslindale\, MA\,  02131\, United States
CATEGORIES:Greek Events in Boston and the New England Area
ATTACH;FMTTYPE=image/jpeg:https://e498h76z5mp.exactdn.com/wp-content/uploads/2014/10/10726423_10204583300280573_1317926861_n.jpg
END:VEVENT
BEGIN:VEVENT
DTSTART;TZID=America/New_York:20141209T190000
DTEND;TZID=America/New_York:20141209T190000
DTSTAMP:20260423T020128
CREATED:20141103T220857Z
LAST-MODIFIED:20141103T220857Z
UID:44130-1418151600-1418151600@www.greekboston.com
SUMMARY:Advent Party at Saints Anargyroi Greek Orthodox Church Marlborough\, MA
DESCRIPTION:
URL:https://www.greekboston.com/event/advent-party-marlborough/
LOCATION:Saints Anargyroi Greek Orthodox Church – Marlborough\, MA\, 9 Central Street\, Marlborough\, MA\, 01752\, United States
CATEGORIES:Greek Events in Boston and the New England Area
ATTACH;FMTTYPE=image/jpeg:https://e498h76z5mp.exactdn.com/wp-content/uploads/2014/11/Advent-Party.jpg
END:VEVENT
BEGIN:VEVENT
DTSTART;TZID=America/New_York:20141211T180000
DTEND;TZID=America/New_York:20141211T190000
DTSTAMP:20260423T020128
CREATED:20141202T191745Z
LAST-MODIFIED:20141202T191745Z
UID:45017-1418320800-1418324400@www.greekboston.com
SUMMARY:MITEF Greece Startup Competition 2014 - Boston Info Session
DESCRIPTION:MIT Enterprise Forum (MITEF) and HSAMIT are excited to co-organize an information session about the MITEF Greece Startup Competition 2014.\nJoin us to learn more about the competition from Joyce Chen\, MITEF Director of Communication.\nIf you have an exciting new product or service\, participating in MITEF Greece Startup Competition will give you access to the practical knowledge\, mentorship\, and resources to take your venture to the next level.\nNominations are open from November 17\, 2014 until December 31\, 2014\, 11:59 p.m. Athens time.\nMore information about eligibility criteria\, rules and terms of participation and FAQs can be found at\nhttp://mitefcompetition.org/track/2014/greece/startup\nLight Refreshments will be provided.
URL:https://www.greekboston.com/event/mitef-greece-startup-competition/
LOCATION:Massachusetts Institute of Technology (MIT)\, 77 Massachusetts Ave\, Cambridge\, Massachusetts 02139\, Cambridge\, MA\, 02139\, United States
CATEGORIES:Greek Events in Boston and the New England Area
ATTACH;FMTTYPE=image/jpeg:https://e498h76z5mp.exactdn.com/wp-content/uploads/2014/12/10494892_10154857029900537_1513695175193967240_o.jpg
END:VEVENT
BEGIN:VEVENT
DTSTART;VALUE=DATE:20141212
DTEND;VALUE=DATE:20141213
DTSTAMP:20260423T020128
CREATED:20141205T182217Z
LAST-MODIFIED:20141205T182217Z
UID:45084-1418342400-1418428799@www.greekboston.com
SUMMARY:Greek and International DJ Music Night
DESCRIPTION:
URL:https://www.greekboston.com/event/international-music-dj-2014-12-12/
CATEGORIES:Greek Events in Boston and the New England Area
ATTACH;FMTTYPE=image/jpeg:https://e498h76z5mp.exactdn.com/wp-content/uploads/2014/12/facebook_1417796125432.jpg
END:VEVENT
BEGIN:VEVENT
DTSTART;VALUE=DATE:20141212
DTEND;VALUE=DATE:20141213
DTSTAMP:20260423T020128
CREATED:20141205T182217Z
LAST-MODIFIED:20141205T182217Z
UID:45449-1418342400-1418428799@www.greekboston.com
SUMMARY:Greek and International DJ Music Night
DESCRIPTION:
URL:https://www.greekboston.com/event/international-music-dj-2014-12-12-2/
CATEGORIES:Greek Events in Boston and the New England Area
ATTACH;FMTTYPE=image/jpeg:https://e498h76z5mp.exactdn.com/wp-content/uploads/2014/12/10882230_10152888844801132_704217245256308245_n.jpg
END:VEVENT
BEGIN:VEVENT
DTSTART;TZID=America/New_York:20141212T180000
DTEND;TZID=America/New_York:20141212T220000
DTSTAMP:20260423T020128
CREATED:20141027T212401Z
LAST-MODIFIED:20141027T221151Z
UID:43930-1418407200-1418421600@www.greekboston.com
SUMMARY:Holiday Cabaret at the Holy Trinity Greek Orthodox Church in Holyoke MA
DESCRIPTION:
URL:https://www.greekboston.com/event/holiday-cabaret-holyoke/
LOCATION:Dante Club of West Springfield\, 1198 Memorial Ave\, West Springfield\, MA\, 01089\, United States
CATEGORIES:Greek Events in Boston and the New England Area
ATTACH;FMTTYPE=image/jpeg:https://e498h76z5mp.exactdn.com/wp-content/uploads/2014/10/Holiday-Cabaret.jpg
END:VEVENT
BEGIN:VEVENT
DTSTART;TZID=America/New_York:20141212T190000
DTEND;TZID=America/New_York:20141212T190000
DTSTAMP:20260423T020128
CREATED:20141201T215531Z
LAST-MODIFIED:20141201T215615Z
UID:44984-1418410800-1418410800@www.greekboston.com
SUMMARY:Family Movie Night at Saint Sophia Greek Orthodox Church in New London\, CT
DESCRIPTION:FAMILY MOVIE NIGHT!\nFriday\, December 12 at 7:00 pm\n“Christmas with the Karountzoses”\nFind out what happens when all of the Greek relatives come over for Christmas…laugh\, cry and be inspired by this wonderful famly movie.\nAdults $8.00\, children under 16\, $4.00
URL:https://www.greekboston.com/event/movie-night-new-london/
LOCATION:Greek Orthodox Saint Sophia Church in New London\, CT\, 200 Hempstead Street\, New London\, CT\, 06320\, United States
CATEGORIES:Greek Events in Boston and the New England Area
ATTACH;FMTTYPE=image/jpeg:https://e498h76z5mp.exactdn.com/wp-content/uploads/2014/12/Christmas-with-the-Karountzoses.jpg
END:VEVENT
BEGIN:VEVENT
DTSTART;TZID=America/New_York:20141213T090000
DTEND;TZID=America/New_York:20141213T150000
DTSTAMP:20260423T020128
CREATED:20141107T131451Z
LAST-MODIFIED:20141107T131451Z
UID:44486-1418461200-1418482800@www.greekboston.com
SUMMARY:Holiday Fair at Annunciation Of The Virgin Mary Greek Orthodox Church in Woburn MA
DESCRIPTION:
URL:https://www.greekboston.com/event/holiday-fair-woburn-church/
LOCATION:Annunciation of The Virgin Mary Greek Orthodox Church  – Woburn\, MA\, 70 Montvale Avenue \, Woburn\, MA\, 01801 \, United States
CATEGORIES:Greek Events in Boston and the New England Area
ATTACH;FMTTYPE=image/jpeg:https://e498h76z5mp.exactdn.com/wp-content/uploads/2014/11/facebook_1415334907131.jpg
END:VEVENT
BEGIN:VEVENT
DTSTART;TZID=America/New_York:20141213T180000
DTEND;TZID=America/New_York:20141213T200000
DTSTAMP:20260423T020128
CREATED:20140915T113902Z
LAST-MODIFIED:20141119T133948Z
UID:42593-1418493600-1418500800@www.greekboston.com
SUMMARY:Christmas With The Karountzoses Movie Screening
DESCRIPTION:Christmas with the Karountzoses Movie\nAll the Greek relatives over for Christmas\nWhat could go wrong?\nWoburn Greek Church\, movie screening.
URL:https://www.greekboston.com/event/christmas-karountzoses-movie/
LOCATION:Annunciation of The Virgin Mary Greek Orthodox Church  – Woburn\, MA\, 70 Montvale Avenue \, Woburn\, MA\, 01801 \, United States
CATEGORIES:Greek Events in Boston and the New England Area
ATTACH;FMTTYPE=image/jpeg:https://e498h76z5mp.exactdn.com/wp-content/uploads/2014/09/facebook_1416398255930.jpg
END:VEVENT
BEGIN:VEVENT
DTSTART;VALUE=DATE:20141214
DTEND;VALUE=DATE:20141215
DTSTAMP:20260423T020128
CREATED:20141203T174812Z
LAST-MODIFIED:20141203T174842Z
UID:45037-1418515200-1418601599@www.greekboston.com
SUMMARY:Holiday Gift Drive - Assumption of the Virgin Mary Church in Pawtucket\, RI
DESCRIPTION:
URL:https://www.greekboston.com/event/gift-drive-pawtucket-ri/
LOCATION:Assumption of the Virgin Mary Church -Pawtucket\, RI\, 97 Walcott Street\, Pawtucket\, RI\, United States
CATEGORIES:Greek Events in Boston and the New England Area
ATTACH;FMTTYPE=image/jpeg:https://e498h76z5mp.exactdn.com/wp-content/uploads/2014/12/facebook_1417627899237.jpg
END:VEVENT
BEGIN:VEVENT
DTSTART;TZID=America/New_York:20141214T133000
DTEND;TZID=America/New_York:20141214T133000
DTSTAMP:20260423T020128
CREATED:20141130T124025Z
LAST-MODIFIED:20141130T124025Z
UID:44893-1418563800-1418563800@www.greekboston.com
SUMMARY:Greek 4 Kids' Annual Christmas Celebration
DESCRIPTION:Greek 4 Kids’ Annual Christmas Celebration showcasing our Greek Language\, Customs & Traditions\, on Sunday\, December 14 @ 1:30 at the Cathedral Center in Brookline. Come celebrate the Season with our School. If unable to attend\, please still consider supporting the only Independent\, fastest growing Greek Language School in Massachusetts. Call 617 953 9092 or email kleanthi70@yahoo.com for your tickets.
URL:https://www.greekboston.com/event/kids-christmas-celebration/
LOCATION:Cathedral Center\, 162 Goddard Ave\, Brookline\, 02445
CATEGORIES:Greek Events in Boston and the New England Area
ATTACH;FMTTYPE=image/jpeg:https://e498h76z5mp.exactdn.com/wp-content/uploads/2014/11/facebook_1417307648732.jpg
END:VEVENT
BEGIN:VEVENT
DTSTART;TZID=America/New_York:20141214T160000
DTEND;TZID=America/New_York:20141214T160000
DTSTAMP:20260423T020128
CREATED:20141110T221816Z
LAST-MODIFIED:20141111T124244Z
UID:44564-1418572800-1418572800@www.greekboston.com
SUMMARY:An Orthodox Service of Lessons and Carols at the Annunciation Greek Church in Newburyport MA
DESCRIPTION:
URL:https://www.greekboston.com/event/lessons-carols-newburyport-ma/
LOCATION:Annunciation Greek Orthodox Church – Newburyport\, MA\, 7 Harris St \, Newburyport\, MA\, 01950\, United States
CATEGORIES:Greek Events in Boston and the New England Area
ATTACH;FMTTYPE=image/jpeg:https://e498h76z5mp.exactdn.com/wp-content/uploads/2014/11/Annunciation-Greek-Orthodox.jpg
END:VEVENT
BEGIN:VEVENT
DTSTART;TZID=America/New_York:20141214T160000
DTEND;TZID=America/New_York:20141214T160000
DTSTAMP:20260423T020128
CREATED:20141118T194128Z
LAST-MODIFIED:20141118T195016Z
UID:44731-1418572800-1418572800@www.greekboston.com
SUMMARY:Annual Christmas Spectacular at Annunciation Greek Church in Newburyport MA
DESCRIPTION:
URL:https://www.greekboston.com/event/christmas-spectacular-newburyport-ma/
LOCATION:Annunciation Greek Orthodox Church – Newburyport\, MA\, 7 Harris St \, Newburyport\, MA\, 01950\, United States
CATEGORIES:Greek Events in Boston and the New England Area
ATTACH;FMTTYPE=image/jpeg:https://e498h76z5mp.exactdn.com/wp-content/uploads/2014/11/Annunciation-Christmas-Spectacular-2014.jpg
END:VEVENT
BEGIN:VEVENT
DTSTART;VALUE=DATE:20141219
DTEND;VALUE=DATE:20141220
DTSTAMP:20260423T020128
CREATED:20141205T182217Z
LAST-MODIFIED:20141205T182217Z
UID:45085-1418947200-1419033599@www.greekboston.com
SUMMARY:Greek and International DJ Music Night
DESCRIPTION:
URL:https://www.greekboston.com/event/international-music-dj-2014-12-19/
CATEGORIES:Greek Events in Boston and the New England Area
END:VEVENT
BEGIN:VEVENT
DTSTART;VALUE=DATE:20141219
DTEND;VALUE=DATE:20141220
DTSTAMP:20260423T020128
CREATED:20141205T182217Z
LAST-MODIFIED:20141205T182217Z
UID:45450-1418947200-1419033599@www.greekboston.com
SUMMARY:Greek and International DJ Music Night
DESCRIPTION:
URL:https://www.greekboston.com/event/international-music-dj-2014-12-19-2/
CATEGORIES:Greek Events in Boston and the New England Area
ATTACH;FMTTYPE=image/jpeg:https://e498h76z5mp.exactdn.com/wp-content/uploads/2014/12/10882230_10152888844801132_704217245256308245_n.jpg
END:VEVENT
BEGIN:VEVENT
DTSTART;VALUE=DATE:20141220
DTEND;VALUE=DATE:20141221
DTSTAMP:20260423T020128
CREATED:20141215T210736Z
LAST-MODIFIED:20141215T210736Z
UID:45290-1419033600-1419119999@www.greekboston.com
SUMMARY:Toy and Gift Drive at Saint Athanasius Greek Orthodox Church in Arlington\, MA
DESCRIPTION:
URL:https://www.greekboston.com/event/gift-drive-arlington-ma/
LOCATION:St. Athanasius the Great Greek Orthodox Church – Arlington\, MA\, 4 Appleton St\, Arlington\, MA\, 02476\, United States
CATEGORIES:Greek Events in Boston and the New England Area
ATTACH;FMTTYPE=image/jpeg:https://e498h76z5mp.exactdn.com/wp-content/uploads/2014/12/Christmas-Toy-and-Gift-Drive.jpg
END:VEVENT
BEGIN:VEVENT
DTSTART;VALUE=DATE:20141226
DTEND;VALUE=DATE:20141227
DTSTAMP:20260423T020128
CREATED:20141205T182217Z
LAST-MODIFIED:20141205T182217Z
UID:45451-1419552000-1419638399@www.greekboston.com
SUMMARY:Greek and International DJ Music Night
DESCRIPTION:
URL:https://www.greekboston.com/event/international-music-dj-2014-12-26-2/
CATEGORIES:Greek Events in Boston and the New England Area
ATTACH;FMTTYPE=image/jpeg:https://e498h76z5mp.exactdn.com/wp-content/uploads/2014/12/10882230_10152888844801132_704217245256308245_n.jpg
END:VEVENT
BEGIN:VEVENT
DTSTART;VALUE=DATE:20141226
DTEND;VALUE=DATE:20141227
DTSTAMP:20260423T020128
CREATED:20141205T182218Z
LAST-MODIFIED:20141205T182218Z
UID:45086-1419552000-1419638399@www.greekboston.com
SUMMARY:Greek and International DJ Music Night
DESCRIPTION:
URL:https://www.greekboston.com/event/international-music-dj-2014-12-26/
CATEGORIES:Greek Events in Boston and the New England Area
END:VEVENT
BEGIN:VEVENT
DTSTART;TZID=America/New_York:20141227T190000
DTEND;TZID=America/New_York:20141227T220000
DTSTAMP:20260423T020128
CREATED:20141112T163840Z
LAST-MODIFIED:20200804T180020Z
UID:44576-1419706800-1419717600@www.greekboston.com
SUMMARY:Middle Eastern and Greek Holiday Affair Event in Lowell MA
DESCRIPTION:BUY TICKETS TO THIS EVENT ONLINE HERE:\nhttp://www.eventbrite.com/e/middle-eastern-and-greek-holiday-affair-tickets-14306724799
URL:https://www.greekboston.com/event/holiday-affair-lowell-ma/
LOCATION:Olympia Restaurant Lowell MA\, 453 Market Street\, Lowell\, MA\, 01854\, United States
CATEGORIES:Greek Events in Boston and the New England Area
ATTACH;FMTTYPE=image/jpeg:https://e498h76z5mp.exactdn.com/wp-content/uploads/2014/11/JPEG-Middle-Eastern-Greek-Holiday-Affair-December-27th1.jpg
END:VEVENT
BEGIN:VEVENT
DTSTART;TZID=America/New_York:20141228T210000
DTEND;TZID=America/New_York:20141229T010000
DTSTAMP:20260423T020128
CREATED:20140818T162622Z
LAST-MODIFIED:20200827T025031Z
UID:41990-1419800400-1419814800@www.greekboston.com
SUMMARY:Providence Greek Music Night by DJ George Adamakis
DESCRIPTION:GREEK NIGHT – hosted by YAL\nSunday\, December 28\, Providence is Thessaloniki by night! Come out and celebrate the Greek way.\nFeaturing music from DJ George Adamakis.\nTickets are $20 and include food from Mile and A Quarter’s Greek/American menu.\nCash bar\, additional food available.
URL:https://www.greekboston.com/event/music-night-providence/
LOCATION:Mile and A Quarter\, 334 South Water Street\, Providence\, RI\, 02903\, United States
CATEGORIES:Greek Events in Boston and the New England Area
END:VEVENT
BEGIN:VEVENT
DTSTART;TZID=America/New_York:20141231T193000
DTEND;TZID=America/New_York:20150101T010000
DTSTAMP:20260423T020128
CREATED:20141210T213454Z
LAST-MODIFIED:20141210T213454Z
UID:45181-1420054200-1420074000@www.greekboston.com
SUMMARY:New Year's Eve Dinner Dance - Assumption of the Virgin Mary Church in Dracut\, MA
DESCRIPTION:
URL:https://www.greekboston.com/event/nye-dinner-dracut-ma/
LOCATION:Lenzi’s\, 810 Merrimack Ave\, Dracut\, MA\, 01826\, United States
CATEGORIES:Greek Events in Boston and the New England Area
ATTACH;FMTTYPE=image/jpeg:https://e498h76z5mp.exactdn.com/wp-content/uploads/2014/12/NYE-Dinner-Dance-Dracut.jpg
END:VEVENT
BEGIN:VEVENT
DTSTART;TZID=America/New_York:20141231T203000
DTEND;TZID=America/New_York:20150101T020000
DTSTAMP:20260423T020128
CREATED:20141227T133551Z
LAST-MODIFIED:20141227T133649Z
UID:45384-1420057800-1420077600@www.greekboston.com
SUMMARY:New Year's Eve Celebration at the Cathedral Center Brookline MA
DESCRIPTION:Rathamanthus-Ide Cretan Chapter of Boston cordially invites you to its New Year’s Eve Celebration at the Cathedral Center (162 Goddard Avenue\, Brookline\, MA)\nDimitris Mann\, Beth Bahia Cohen and Vasilis Kostas will be performing Rebetika\, Laika\, Neseotika\, Eperotika and more!!!\nAdults $50 / Students $40\nFor more information & RSVP:\nYiannis Avissinos Sfakianakis: 781-492-5545\nKostas Travayiakis: 617-733-0296\nMichael Terzakis: 617-347-4970\nTicket includes: Food & Pastry / Coffee / Champagne / Vasilopita
URL:https://www.greekboston.com/event/new-years-eve-cathedral-center/
LOCATION:Cathedral Center\, 162 Goddard Ave\, Brookline\, 02445
CATEGORIES:Greek Events in Boston and the New England Area
ATTACH;FMTTYPE=image/jpeg:https://e498h76z5mp.exactdn.com/wp-content/uploads/2014/12/10805591_10152655180572637_653318518916280080_n.jpg
END:VEVENT
BEGIN:VEVENT
DTSTART;TZID=America/New_York:20150104T113000
DTEND;TZID=America/New_York:20150104T123000
DTSTAMP:20260423T020128
CREATED:20141229T153310Z
LAST-MODIFIED:20141229T153310Z
UID:45387-1420371000-1420374600@www.greekboston.com
SUMMARY:Annual Vasilopita Auction at St. George Greek Orthodox Church in Keene\, NH
DESCRIPTION:Vasilopita Auction\, during fellowship hour\, we will hold our 2nd Annual Vasilopita Auction\, a parish-wide benefit for St. Basil Academy in New York. All those who are able are asked to bake and bring a Vasilopita for the auction.\nThe more that are made and available for auction\, the more money can be raised for the Academy and the more enjoyment of breads by the whole parish!  The word “Vasilopita” is a compound Greek word which means the sweet “bread of Basil.”
URL:https://www.greekboston.com/event/vasilopita-auction-keene-nh/
LOCATION:St. George Greek Orthodox Church – Keene\, NH\, 70 West Street \, Keene\, NH\, 03431\, United States
CATEGORIES:Greek Events in Boston and the New England Area
ATTACH;FMTTYPE=image/jpeg:https://e498h76z5mp.exactdn.com/wp-content/uploads/2014/12/Vasilopita-Auction.jpg
END:VEVENT
END:VCALENDAR