BEGIN:VCALENDAR
VERSION:2.0
PRODID:-// - ECPv6.15.18//NONSGML v1.0//EN
CALSCALE:GREGORIAN
METHOD:PUBLISH
X-ORIGINAL-URL:https://www.greekboston.com
X-WR-CALDESC:Events for 
REFRESH-INTERVAL;VALUE=DURATION:PT1H
X-Robots-Tag:noindex
X-PUBLISHED-TTL:PT1H
BEGIN:VTIMEZONE
TZID:America/New_York
BEGIN:DAYLIGHT
TZOFFSETFROM:-0500
TZOFFSETTO:-0400
TZNAME:EDT
DTSTART:20180311T070000
END:DAYLIGHT
BEGIN:STANDARD
TZOFFSETFROM:-0400
TZOFFSETTO:-0500
TZNAME:EST
DTSTART:20181104T060000
END:STANDARD
BEGIN:DAYLIGHT
TZOFFSETFROM:-0500
TZOFFSETTO:-0400
TZNAME:EDT
DTSTART:20190310T070000
END:DAYLIGHT
BEGIN:STANDARD
TZOFFSETFROM:-0400
TZOFFSETTO:-0500
TZNAME:EST
DTSTART:20191103T060000
END:STANDARD
BEGIN:DAYLIGHT
TZOFFSETFROM:-0500
TZOFFSETTO:-0400
TZNAME:EDT
DTSTART:20200308T070000
END:DAYLIGHT
BEGIN:STANDARD
TZOFFSETFROM:-0400
TZOFFSETTO:-0500
TZNAME:EST
DTSTART:20201101T060000
END:STANDARD
BEGIN:DAYLIGHT
TZOFFSETFROM:-0500
TZOFFSETTO:-0400
TZNAME:EDT
DTSTART:20210314T070000
END:DAYLIGHT
BEGIN:STANDARD
TZOFFSETFROM:-0400
TZOFFSETTO:-0500
TZNAME:EST
DTSTART:20211107T060000
END:STANDARD
END:VTIMEZONE
BEGIN:VEVENT
DTSTART;TZID=America/New_York:20191231T190000
DTEND;TZID=America/New_York:20200101T020000
DTSTAMP:20260421T081022
CREATED:20171226T115409Z
LAST-MODIFIED:20191203T224058Z
UID:68387-1577818800-1577844000@www.greekboston.com
SUMMARY:New Year's Eve Celebration in Cambridge MA
DESCRIPTION:
URL:https://www.greekboston.com/event/new-years-eve-cambridge-ma/
LOCATION:Saints Constantine and Helen Greek Orthodox Church – Cambridge\, MA\, 14 Magazine Street\, Cambridge\, MA\, 02139\, United States
CATEGORIES:Greek Events in Boston and the New England Area
ATTACH;FMTTYPE=image/jpeg:https://e498h76z5mp.exactdn.com/wp-content/uploads/2017/12/78057528_558231358363296_4545199383519428608_o.jpg
END:VEVENT
BEGIN:VEVENT
DTSTART;TZID=America/New_York:20191231T200000
DTEND;TZID=America/New_York:20200101T020000
DTSTAMP:20260421T081022
CREATED:20151211T211235Z
LAST-MODIFIED:20191220T195454Z
UID:52111-1577822400-1577844000@www.greekboston.com
SUMMARY:Annunciation Brockton & St. Catherine's Braintree New Year's Eve Gala/ Dinner Dance at Lombardo's
DESCRIPTION:The communities of Annunciation Brockton and St. Catherine Braintree will be co-hosting a New Year’s Eve Dinner Dance on December 31\, 2019 at Lombardo’s in Randolph\, MA with LIVE music by Athenian Entertainment. More information will be available soon; call the church offices for any questions.\nWith Dinner: Adults $100\, 12 and Under $30. Cash Bar.\nEntrance after 11PM without Dinner: Adults $50\, 12 and Under Free
URL:https://www.greekboston.com/event/new-years-braintree-ma/
LOCATION:Lombardo’s Randolph MA\, 6 Billings St\, Randolph\, MA\, 02368\, United States
CATEGORIES:Greek Events in Boston and the New England Area
ATTACH;FMTTYPE=image/jpeg:https://e498h76z5mp.exactdn.com/wp-content/uploads/2015/12/NEW-NYE-2020-1.jpg
END:VEVENT
BEGIN:VEVENT
DTSTART;TZID=America/New_York:20191231T213000
DTEND;TZID=America/New_York:20200101T020000
DTSTAMP:20260421T081022
CREATED:20151224T172636Z
LAST-MODIFIED:20191216T223603Z
UID:52238-1577827800-1577844000@www.greekboston.com
SUMMARY:New Year's Eve Glendi at St. George Greek Church Hartford CT
DESCRIPTION:
URL:https://www.greekboston.com/event/new-years-hartford-ct/
LOCATION:St George Greek Orthodox Hartford CT\, 433 Fairfield Ave\, Hartford\, CT\, 06114\, United States
CATEGORIES:Greek Events in Boston and the New England Area
ATTACH;FMTTYPE=image/jpeg:https://e498h76z5mp.exactdn.com/wp-content/uploads/2015/12/79827597_2634643616603238_3331647552171802624_o.jpg
END:VEVENT
BEGIN:VEVENT
DTSTART;TZID=America/New_York:20191231T220000
DTEND;TZID=America/New_York:20200101T020000
DTSTAMP:20260421T081022
CREATED:20191112T220854Z
LAST-MODIFIED:20191112T220854Z
UID:80140-1577829600-1577844000@www.greekboston.com
SUMMARY:A Greek Gatsby New Years Event in Boston MA
DESCRIPTION:Catch us on Dec 31st @bastillekitchen for A Greek Gatsby New Years! Keep the theme and dress to the 1920’s!! Tickets are available for purchase @greek_concert_status !! Tickets include complimentary drink\, mezedakia\, and a champagne toast to ring in 2020!! Not to mention your ticket purchase is contributed to charity !! #newyearsatthechalet #newyears2020 #bostongreeknights
URL:https://www.greekboston.com/event/gatsby-new-years/
LOCATION:Bastille Kitchen\, 49 Melcher Street\, Boston\, MA 02210\, MA\, 02210\, United States
CATEGORIES:Greek Events in Boston and the New England Area
ATTACH;FMTTYPE=image/jpeg:https://e498h76z5mp.exactdn.com/wp-content/uploads/2019/11/74527200_1916771141802857_2233024042028236800_o.jpg
END:VEVENT
BEGIN:VEVENT
DTSTART;TZID=America/New_York:20200104T170000
DTEND;TZID=America/New_York:20200104T190000
DTSTAMP:20260421T081022
CREATED:20200103T221625Z
LAST-MODIFIED:20200103T221625Z
UID:81092-1578157200-1578164400@www.greekboston.com
SUMMARY:GOYA Make-Your-Own-Pizza Party at St Vasilios Greek Church Peabody MA
DESCRIPTION:
URL:https://www.greekboston.com/event/goya-pizza-party-peabody-ma/
LOCATION:Saint Vasilios Greek Orthodox Church\, 5 Paleologos Street\, Peabody\, MA\, 01960\, United States
CATEGORIES:Greek Events in Boston and the New England Area
ATTACH;FMTTYPE=image/png:https://e498h76z5mp.exactdn.com/wp-content/uploads/2020/01/81936487_1621037068035884_1790427992887918592_n.png
END:VEVENT
BEGIN:VEVENT
DTSTART;TZID=America/New_York:20200104T220000
DTEND;TZID=America/New_York:20200105T020000
DTSTAMP:20260421T081022
CREATED:20170627T193050Z
LAST-MODIFIED:20191202T232203Z
UID:64732-1578175200-1578189600@www.greekboston.com
SUMMARY:Greek Music Night in Norwalk CT
DESCRIPTION:
URL:https://www.greekboston.com/event/night-norwalk-ct/
LOCATION:Silver Star Diner\, 210 Connecticut Ave\, Norwalk\, CT\, 06854\, United States
CATEGORIES:Greek Events in Boston and the New England Area
ATTACH;FMTTYPE=image/jpeg:https://e498h76z5mp.exactdn.com/wp-content/uploads/2017/06/77418373_2497076613893538_1063296961752334336_n.jpg
END:VEVENT
BEGIN:VEVENT
DTSTART;TZID=America/New_York:20200105T143000
DTEND;TZID=America/New_York:20200105T170000
DTSTAMP:20260421T081022
CREATED:20191209T215452Z
LAST-MODIFIED:20191209T215557Z
UID:80687-1578234600-1578243600@www.greekboston.com
SUMMARY:Antheia ensemble Presents:  The Music of Cyprus Live Concert in Somerville MA
DESCRIPTION:Band Description:\nAntheia is a collective ensemble led by Cypriot vocalist\, Andrea Charalambous based in Boston\, MA. The ensemble elevates the culture and tradition of Cypriot music with modern arrangements and instrumentation\, while staying true to the origins of each composition. The group is a unique blend of four internationally-acclaimed musicians who respectfully compliment the music of Cyprus through their innovation and skillful mastery. Together with fellow Cypriot Percussionist George Lernis on percussion\, Greek Laouto player Vasilis Kostas\, and Greek Canun Player\, Panos Aivatzidis\, Andrea and her group seek to preserve the lush and honest sounds of the island’s tradition while inspiring Cypriot youth around the world to keep their cultural identity alive and strong.\nEvent Location: The Burren Backroom Series\n247 Elm Street\, Somerville\, MA\nDate:\nJanuary 5th\, 2020\nDoors: 2:30 PM\nShow Time: 3:30-5 PM\nTickets:\n$12 ADV/ $16 DOS\nLink to purchase tickets:\nhttps://24hourconcerts.showare.com/ordertickets.asp?p=890&src=default&fbclid=IwAR14LetiYAqZrW905cnSJvC1cOSk_ZTur9ZLZB8KjURbTA3CP8EpUBXBC8c
URL:https://www.greekboston.com/event/antheia-ensemble-somerville-ma/
LOCATION:The Burren Somerville MA\, 247 Elm Street\, Somerville\, MA\, 02144\, United States
CATEGORIES:Greek Events in Boston and the New England Area
ATTACH;FMTTYPE=image/jpeg:https://e498h76z5mp.exactdn.com/wp-content/uploads/2019/12/Antheia-the-burren-scaled.jpg
END:VEVENT
BEGIN:VEVENT
DTSTART;TZID=America/New_York:20200110T183000
DTEND;TZID=America/New_York:20200110T203000
DTSTAMP:20260421T081022
CREATED:20200107T225950Z
LAST-MODIFIED:20200107T225950Z
UID:81176-1578681000-1578688200@www.greekboston.com
SUMMARY:Greek Dance Lessons at Dormition of the Virgin Mary Greek Church Somerville MA
DESCRIPTION:We are excited to announce that Greek Folk Dance classes ‪start this Friday\, January 10th\, 2020 @ 6:30pm‬.\nLet us know if you’ll be there & ping us with any questions!\nThese classes are free of charge and the PTO will cover any additional related costs throughout their duration. Like other activities\, these classes have been set up for the cultural enrichment and education of the children and families of the Greek and Sunday Schools\, as well as those of the JOY and GOYA ministries\, but they are also open to all members of our community and their families and friends\, who might be interested in joining us.
URL:https://www.greekboston.com/event/dance-lessons-somerville-ma/
LOCATION:Dormition of the Virgin Mary Greek Orthodox Church\, 29 Central Street\, Somerville\, MA\, 02143\, United States
CATEGORIES:Greek Events in Boston and the New England Area
ATTACH;FMTTYPE=image/jpeg:https://e498h76z5mp.exactdn.com/wp-content/uploads/2018/07/Greek_Flag_3.jpg
END:VEVENT
BEGIN:VEVENT
DTSTART;TZID=America/New_York:20200110T190000
DTEND;TZID=America/New_York:20200110T213000
DTSTAMP:20260421T081022
CREATED:20200108T164518Z
LAST-MODIFIED:20200108T164518Z
UID:81182-1578682800-1578691800@www.greekboston.com
SUMMARY:GOYA Movie Night at Saint Catherine Greek Orthodox Church in Braintree\, MA
DESCRIPTION:
URL:https://www.greekboston.com/event/movie-night-braintree-ma/
CATEGORIES:Greek Events in Boston and the New England Area
ATTACH;FMTTYPE=image/jpeg:https://e498h76z5mp.exactdn.com/wp-content/uploads/2020/01/GOYAMovieNightJan10-page-001.jpg
END:VEVENT
BEGIN:VEVENT
DTSTART;TZID=America/New_York:20200111T180000
DTEND;TZID=America/New_York:20200111T220000
DTSTAMP:20260421T081022
CREATED:20191220T204134Z
LAST-MODIFIED:20191220T204134Z
UID:80896-1578765600-1578780000@www.greekboston.com
SUMMARY:Vasilopita Dinner Dance for the Athenian Piraean Association of New England
DESCRIPTION:
URL:https://www.greekboston.com/event/vasilopita-dance-athenian-piraean-association/
LOCATION:The Continental Restaurant\, 266 Broadway\, Saugus\, MA\, 01906\, United States
CATEGORIES:Greek Events in Boston and the New England Area
ATTACH;FMTTYPE=image/jpeg:https://e498h76z5mp.exactdn.com/wp-content/uploads/2019/12/79683725_10157728395734757_8135915987141656576_o.jpg
END:VEVENT
BEGIN:VEVENT
DTSTART;TZID=America/New_York:20200111T213000
DTEND;TZID=America/New_York:20200112T020000
DTSTAMP:20260421T081022
CREATED:20191217T225758Z
LAST-MODIFIED:20200108T171915Z
UID:80846-1578778200-1578794400@www.greekboston.com
SUMMARY:Greek Music Night in Manchester NH
DESCRIPTION:
URL:https://www.greekboston.com/event/music-night-manchester-nh/
LOCATION:Pericles Democratic Club of Nh\, 123 Spruce Street\, Manchester\, NH\, 03103\, United States
CATEGORIES:Greek Events in Boston and the New England Area
ATTACH;FMTTYPE=image/jpeg:https://e498h76z5mp.exactdn.com/wp-content/uploads/2019/12/received_538453660095934001.jpeg
END:VEVENT
BEGIN:VEVENT
DTSTART;TZID=America/New_York:20200112T090000
DTEND;TZID=America/New_York:20200112T140000
DTSTAMP:20260421T081022
CREATED:20191230T221506Z
LAST-MODIFIED:20191230T221506Z
UID:81035-1578819600-1578837600@www.greekboston.com
SUMMARY:Vasilopita Luncheon Saint John the Baptist Greek Church Boston MA
DESCRIPTION:Family and friends of Saint John the Baptist cordially invites you to our annual Vasilopita Luncheon\nwith his Eminence Metropolitan Methodios\nfollowing Liturgy.\nSunday January 12\,2020.\nDonation $20.00\nTable reservations:\nby calling 617-536-5692 or\nE-mail saintjohngoc@comcast.net\n( all reservations will be confirmed)
URL:https://www.greekboston.com/event/vasilopita-luncheon-saint-john/
LOCATION:St. John the Baptist Hellenic Orthodox Church – Boston\, MA\, 15 Union Park Street\, Boston\, MA\, 02118\, United States
CATEGORIES:Greek Events in Boston and the New England Area
ATTACH;FMTTYPE=image/jpeg:https://e498h76z5mp.exactdn.com/wp-content/uploads/2019/12/81667375_1257210681155930_2098607405502824448_n.jpg
END:VEVENT
BEGIN:VEVENT
DTSTART;TZID=America/New_York:20200112T110000
DTEND;TZID=America/New_York:20200112T140000
DTSTAMP:20260421T081022
CREATED:20161209T183540Z
LAST-MODIFIED:20200108T163807Z
UID:59527-1578826800-1578837600@www.greekboston.com
SUMMARY:Vasilopita Celebration at St. Philip Greek Church Nashua NH
DESCRIPTION:Agape will be hosting the parish Vasilopita celebration next Sunday\, Jan 12. Agape welcomes all members’ participation by baking a bread for the occasion—or purchasing one for donation. Please confirm your offering by contacting Maria Bechis (215.431.6584) or Sia Juris (603.718.5357).
URL:https://www.greekboston.com/event/vasilopita-celebration-nashua-nh/
LOCATION:St. Philip Greek Orthodox Church – Nashua\, NH\, 500 West Hollis Street\, Nashua\, NH\, 03062\, United States
CATEGORIES:Greek Events in Boston and the New England Area
ATTACH;FMTTYPE=image/jpeg:https://e498h76z5mp.exactdn.com/wp-content/uploads/2016/01/home_welcome_350px_260px.jpg
END:VEVENT
BEGIN:VEVENT
DTSTART;TZID=America/New_York:20200118T170000
DTEND;TZID=America/New_York:20200118T190000
DTSTAMP:20260421T081022
CREATED:20200117T225245Z
LAST-MODIFIED:20200117T225245Z
UID:81406-1579366800-1579374000@www.greekboston.com
SUMMARY:GOYA Event at St. Vasilios Greek Church Peabody MA
DESCRIPTION:
URL:https://www.greekboston.com/event/goya-peabody-ma/
LOCATION:Saint Vasilios Greek Orthodox Church\, 5 Paleologos Street\, Peabody\, MA\, 01960\, United States
CATEGORIES:Greek Events in Boston and the New England Area
ATTACH;FMTTYPE=image/jpeg:https://e498h76z5mp.exactdn.com/wp-content/uploads/2020/01/82937431_1636847776454813_1286102534875774976_n.jpg
END:VEVENT
BEGIN:VEVENT
DTSTART;TZID=America/New_York:20200118T200000
DTEND;TZID=America/New_York:20200119T010000
DTSTAMP:20260421T081022
CREATED:20171215T120537Z
LAST-MODIFIED:20200102T220601Z
UID:68259-1579377600-1579395600@www.greekboston.com
SUMMARY:Boston Lykeion Ellinidon‎ Vasilopita Event in Cambridge MA
DESCRIPTION:
URL:https://www.greekboston.com/event/vasilopita-cambridge-ma/
LOCATION:Greek American Political Club\, 288 Green Street\, Cambridge\, 02139\, United States
CATEGORIES:Greek Events in Boston and the New England Area
ATTACH;FMTTYPE=image/png:https://e498h76z5mp.exactdn.com/wp-content/uploads/2017/12/Vasilopita-2020.png
END:VEVENT
BEGIN:VEVENT
DTSTART;TZID=America/New_York:20200119T173000
DTEND;TZID=America/New_York:20200119T203000
DTSTAMP:20260421T081022
CREATED:20200107T230732Z
LAST-MODIFIED:20200107T230732Z
UID:81178-1579455000-1579465800@www.greekboston.com
SUMMARY:Vasilopita Family Potluck Dinner in Springfield MA
DESCRIPTION:
URL:https://www.greekboston.com/event/potluck-dinner-springfield-ma/
LOCATION:Cretan Club Springfield MA\, 35 Carew Street\, Springfield\, MA\, 01104\, United States
CATEGORIES:Greek Events in Boston and the New England Area
ATTACH;FMTTYPE=image/jpeg:https://e498h76z5mp.exactdn.com/wp-content/uploads/2020/01/82291316_1514888852008417_8301976499594985472_n.jpg
END:VEVENT
BEGIN:VEVENT
DTSTART;VALUE=DATE:20200120
DTEND;VALUE=DATE:20200121
DTSTAMP:20260421T081022
CREATED:20141229T154713Z
LAST-MODIFIED:20200114T202948Z
UID:45389-1579478400-1579564799@www.greekboston.com
SUMMARY:Annunciation Greek Cathedral of New England Youth Ski Trip to Pats Peak
DESCRIPTION:
URL:https://www.greekboston.com/event/youth-ski-trip/
LOCATION:Annunciation Cathedral of New England\, 514 Parker Street\, Boston\, MA\, 02120\, United States
CATEGORIES:Greek Events in Boston and the New England Area
ATTACH;FMTTYPE=image/png:https://e498h76z5mp.exactdn.com/wp-content/uploads/2014/12/Annunciation-Cathedral-Ski-Trip.png
END:VEVENT
BEGIN:VEVENT
DTSTART;TZID=America/New_York:20200120T083000
DTEND;TZID=America/New_York:20200120T110000
DTSTAMP:20260421T081022
CREATED:20200114T204849Z
LAST-MODIFIED:20200114T204849Z
UID:81337-1579509000-1579518000@www.greekboston.com
SUMMARY:Unity Breakfast at Taxiarchae/Archangels Greek Church Watertown MA
DESCRIPTION:The Watertown Unity Breakfast is a Watertown tradition that brings together hundreds of people\, as well as busineses and civic organizations\, representing Watertown’s diverse population to celebrate the life and legacy of Dr. Martin Luther King\, Jr.\nThe 2020 Unity Breakfast will be our 20th anniversary event\, and will be held on Martin Luther King Jr. Day\, January 20\, at the Hellenic Center in East Watertown.\nThe Honorary Convener for this year’s event will be Deanne (“Dede”) Galdston\, Superintendent of the Watertown Public Schools. The keynote speaker will be Jonathan Lewis\, a dynamic speaker and experienced trainer with practical expertise in using Dr. King’s principles of nonviolence for resolving conflict. He has led workshops and conducted trainings throughout the world (including Mexico\, Colombia\, South Africa\, Israel\, and Nigeria.)\nAs in previous years\, the program will include art work\, essays\, anc music from from Watertown Middle and High School students\, and presentation of the Unity Award to a person or organization demonstrating outstanding community service in the previous year.\nAnd as always\, participants will be treated to a hearty breakfast provided by the Watertown Deluxe Diner.\nFamilies and children are welcome and encouraged to join us. Children under 12 are free\, and childcarewill be provided for young children.\nFAQs: FREQUENTLY ASKED QUESTIONS\nIs there an entrance fee?\nYes\, there is an entrance fee of $10 … but for adults only. Children and youth are free.\nCan I buy tickets at the door?\nYes. And if you buy tickets at the door you will avoid paying the Eventbrite processing fee of $2.24 per ticket.\nDo I have to print out my Eventbrite ticket?\nYou can confirm your Eventbrite registration two ways — using your smartphone confirmation or with a printed ticket.\nIs my registration fee or ticket transferrable?\nYes … as long as the people using your tickets have proof of purchase — either a ticket or an Eventbrite confirmation on a smartphone.\nIs it ok if the name on my ticket or registration doesn’t match the person who attends?\nYes.\nWhat about child care?\nChildcare will be provided for young children (ages 3-8)\, with themed materials available about Dr. King and his commitment to racial and social justice.
URL:https://www.greekboston.com/event/unity-breakfast-watertown-ma/
LOCATION:Taxiarchae Greek Orthodox Church Watertown MA\, 25 Bigelow Ave\, Watertown\, MA\, 02472\, United States
CATEGORIES:Greek Events in Boston and the New England Area
ATTACH;FMTTYPE=image/jpeg:https://www.greekboston.com/wp-content/uploads/2020/01/https___cdn.evbuc_.com_images_83931583_212762773509_1_original.jpg
END:VEVENT
BEGIN:VEVENT
DTSTART;TZID=America/New_York:20200126T100000
DTEND;TZID=America/New_York:20200126T140000
DTSTAMP:20260421T081022
CREATED:20200114T202629Z
LAST-MODIFIED:20200114T202629Z
UID:81332-1580032800-1580047200@www.greekboston.com
SUMMARY:Blood Drive at Greek Church of the Annunciation in Cranston RI
DESCRIPTION:
URL:https://www.greekboston.com/event/blood-drive-cranston-ri/
LOCATION:Annunciation Greek Orthodox Church – Cranston\, RI\, 175 Oaklawn Avenue\, Cranston\, RI\, 02920\, United States
CATEGORIES:Greek Events in Boston and the New England Area
ATTACH;FMTTYPE=image/png:https://e498h76z5mp.exactdn.com/wp-content/uploads/2020/01/blood-drive-2020.png
END:VEVENT
BEGIN:VEVENT
DTSTART;TZID=America/New_York:20200126T120000
DTEND;TZID=America/New_York:20200126T140000
DTSTAMP:20260421T081022
CREATED:20200123T231909Z
LAST-MODIFIED:20200123T231922Z
UID:81562-1580040000-1580047200@www.greekboston.com
SUMMARY:Lamb Dinner at Holy Trinity Greek Orthodox Church Fitchburg MA
DESCRIPTION:$10 for Adults\, $5 for kids 12 and under\nJoin us for fellowship and a meal in the church hall after the Divine Liturgy. Sponsored by the Parish Council. The Ladies’ Philoptochos will host the Vasilopita cutting the same day. Chances for the gold lira are $20 and include a bread for you to take home.
URL:https://www.greekboston.com/event/lamb-dinner-fitchburg-ma/
LOCATION:Holy Trinity Greek Orthodox Church – Fitchburg\, MA\, 1319 Main Street\, Fitchburg\, MA\, 01420\, United States
CATEGORIES:Greek Events in Boston and the New England Area
ATTACH;FMTTYPE=image/jpeg:https://e498h76z5mp.exactdn.com/wp-content/uploads/2017/02/Lamb-Chops.jpg
END:VEVENT
BEGIN:VEVENT
DTSTART;TZID=America/New_York:20200126T170000
DTEND;TZID=America/New_York:20200126T190000
DTSTAMP:20260421T081022
CREATED:20140923T111257Z
LAST-MODIFIED:20200109T222943Z
UID:42835-1580058000-1580065200@www.greekboston.com
SUMMARY:Family Night at Annunciation Of The Virgin Mary Greek Church in Woburn MA
DESCRIPTION:
URL:https://www.greekboston.com/event/family-woburn-ma/
LOCATION:Annunciation of The Virgin Mary Greek Orthodox Church  – Woburn\, MA\, 70 Montvale Avenue \, Woburn\, MA\, 01801 \, United States
CATEGORIES:Greek Events in Boston and the New England Area
ATTACH;FMTTYPE=image/jpeg:https://e498h76z5mp.exactdn.com/wp-content/uploads/2014/09/82377471_10159411741878782_1622226791424851968_n.jpg
END:VEVENT
BEGIN:VEVENT
DTSTART;TZID=America/New_York:20200127T184500
DTEND;TZID=America/New_York:20200127T210000
DTSTAMP:20260421T081022
CREATED:20191101T204725Z
LAST-MODIFIED:20200114T202408Z
UID:79894-1580150700-1580158800@www.greekboston.com
SUMMARY:Orthodoxy on Tap Providence RI
DESCRIPTION:
URL:https://www.greekboston.com/event/orthodoxy-on-tap-providence-ri/
LOCATION:Yoleni’s Providence\, 292 Westminster Street\, Providence\, RI\, 02903\, United States
CATEGORIES:Greek Events in Boston and the New England Area
ATTACH;FMTTYPE=image/jpeg:https://e498h76z5mp.exactdn.com/wp-content/uploads/2019/11/January-OOT.jpg
END:VEVENT
BEGIN:VEVENT
DTSTART;TZID=America/New_York:20200202T100000
DTEND;TZID=America/New_York:20200202T130000
DTSTAMP:20260421T081022
CREATED:20190120T134108Z
LAST-MODIFIED:20200129T222923Z
UID:75433-1580637600-1580648400@www.greekboston.com
SUMMARY:Godparents Sunday at Annunciation Greek Cathedral of New England
DESCRIPTION:
URL:https://www.greekboston.com/event/godparents-sunday-cathedral/
LOCATION:Annunciation Cathedral of New England\, 514 Parker Street\, Boston\, MA\, 02120\, United States
CATEGORIES:Greek Events in Boston and the New England Area
ATTACH;FMTTYPE=image/jpeg:https://e498h76z5mp.exactdn.com/wp-content/uploads/2019/01/83541149_3215831045113631_6748709355182358528_n.jpg
END:VEVENT
BEGIN:VEVENT
DTSTART;TZID=America/New_York:20200206T100000
DTEND;TZID=America/New_York:20200206T150000
DTSTAMP:20260421T081022
CREATED:20180205T230040Z
LAST-MODIFIED:20200127T230254Z
UID:69203-1580983200-1581001200@www.greekboston.com
SUMMARY:Blood Drive at Hellenic College Holy Cross Brookline MA
DESCRIPTION:The American Red Cross will be hosting a blood drive in the Pappas Gymnasium at HCHC.\nStreamline your donation experience and save up to 15 minutes by registering below!\nhttps://www.redcrossblood.org/give.html/drive-results?zipSponsor=Hellenic\nPlease sign up to give blood\, and feel free to invite your friends and family from the community.
URL:https://www.greekboston.com/event/hchc-blood-drive-brookline-ma/
LOCATION:Hellenic College Holy Cross – Brookline MA\, 50 Goddard Ave\, Brookline\, MA\, 02445\, United States
CATEGORIES:Greek Events in Boston and the New England Area
ATTACH;FMTTYPE=image/jpeg:https://e498h76z5mp.exactdn.com/wp-content/uploads/2018/02/83672173_3074711752540630_648120825643270144_n.jpg
END:VEVENT
BEGIN:VEVENT
DTSTART;TZID=America/New_York:20200206T190000
DTEND;TZID=America/New_York:20200206T200000
DTSTAMP:20260421T081022
CREATED:20200204T224935Z
LAST-MODIFIED:20200204T224935Z
UID:81840-1581015600-1581019200@www.greekboston.com
SUMMARY:Open House at St. Athanasius the Great Greek Church Arlington MA
DESCRIPTION:
URL:https://www.greekboston.com/event/open-house-st-athanasius/
LOCATION:St. Athanasius the Great Greek Orthodox Church – Arlington\, MA\, 4 Appleton St\, Arlington\, MA\, 02476\, United States
CATEGORIES:Greek Events in Boston and the New England Area
ATTACH;FMTTYPE=image/jpeg:https://e498h76z5mp.exactdn.com/wp-content/uploads/2020/02/Parish-Open-House-Feb-6-2020-scaled.jpg
END:VEVENT
BEGIN:VEVENT
DTSTART;TZID=America/New_York:20200207T203000
DTEND;TZID=America/New_York:20200207T233000
DTSTAMP:20260421T081022
CREATED:20200106T220844Z
LAST-MODIFIED:20200106T220844Z
UID:81156-1581107400-1581118200@www.greekboston.com
SUMMARY:Live Greek Music Night in New Milford CT
DESCRIPTION:Greca is pleased to present Giorgos Karatzas (vocals\, guitar) and Petros Hatzopoulos (keyboard) in a special evening of love songs from various Greek music genres.
URL:https://www.greekboston.com/event/live-music-new-milford-ct/
LOCATION:Greca Mediterranean Kitchen + Bar\, 1 Kent Rd\, New Milford\, CT\, 06776\, United States
CATEGORIES:Greek Events in Boston and the New England Area
ATTACH;FMTTYPE=image/jpeg:https://e498h76z5mp.exactdn.com/wp-content/uploads/2020/01/81490559_564403921072152_935114152429486080_o.jpg
END:VEVENT
BEGIN:VEVENT
DTSTART;TZID=America/New_York:20200207T213000
DTEND;TZID=America/New_York:20200208T020000
DTSTAMP:20260421T081022
CREATED:20200109T222138Z
LAST-MODIFIED:20200113T222849Z
UID:81201-1581111000-1581127200@www.greekboston.com
SUMMARY:Matthaios Giannoulis and Efi Thodi Live Greek Concert in Cambridge MA
DESCRIPTION:
URL:https://www.greekboston.com/event/matthaios-giannoulis-efi-thodi-cambridge-ma/
LOCATION:Greek American Political Club\, 288 Green Street\, Cambridge\, 02139\, United States
CATEGORIES:Greek Events in Boston and the New England Area
ATTACH;FMTTYPE=image/jpeg:https://e498h76z5mp.exactdn.com/wp-content/uploads/2020/01/thodiflyer.jpeg
END:VEVENT
BEGIN:VEVENT
DTSTART;TZID=America/New_York:20200208T080000
DTEND;TZID=America/New_York:20200208T110000
DTSTAMP:20260421T081022
CREATED:20200121T224045Z
LAST-MODIFIED:20200121T224045Z
UID:81521-1581148800-1581159600@www.greekboston.com
SUMMARY:Pancake Breakfast & Bake Sale at Saints Constantine & Helen Greek Church Webster MA
DESCRIPTION:
URL:https://www.greekboston.com/event/pancake-breakfast-bake-sale-webster-ma/
LOCATION:Saints Constantine and Helen Greek Orthodox Church – Webster\, MA\, 37 Lake Parkway\, Webster\, MA\, 01570\, United States
CATEGORIES:Greek Events in Boston and the New England Area
ATTACH;FMTTYPE=image/jpeg:https://e498h76z5mp.exactdn.com/wp-content/uploads/2020/01/83054186_2750247531680585_2057837355431100416_o.jpg
END:VEVENT
BEGIN:VEVENT
DTSTART;VALUE=DATE:20200209
DTEND;VALUE=DATE:20200210
DTSTAMP:20260421T081022
CREATED:20180105T174848Z
LAST-MODIFIED:20200127T201637Z
UID:68585-1581206400-1581292799@www.greekboston.com
SUMMARY:Greek Dance Classes for Adults at Saint George Greek Cathedral in Manchester\, NH
DESCRIPTION:
URL:https://www.greekboston.com/event/dance-classes-manchester-nh/
LOCATION:Saint George Greek Orthodox Cathedral\, 650 Hanover Street\, Manchester\, NH\, 03104\, United States
CATEGORIES:Greek Events in Boston and the New England Area
ATTACH;FMTTYPE=image/png:https://e498h76z5mp.exactdn.com/wp-content/uploads/2018/01/Adult-Greek-Dance-Manchester-NH.png
END:VEVENT
BEGIN:VEVENT
DTSTART;TZID=America/New_York:20200209T110000
DTEND;TZID=America/New_York:20200209T130000
DTSTAMP:20260421T081022
CREATED:20200122T211640Z
LAST-MODIFIED:20200122T211640Z
UID:81546-1581246000-1581253200@www.greekboston.com
SUMMARY:Scholarship Awards at  Sts. Constantine and Helen Church Greek Church Cambridge MA
DESCRIPTION:
URL:https://www.greekboston.com/event/scholarship-awards-cambridge-ma/
LOCATION:Saints Constantine and Helen Greek Orthodox Church – Cambridge\, MA\, 14 Magazine Street\, Cambridge\, MA\, 02139\, United States
CATEGORIES:Greek Events in Boston and the New England Area
ATTACH;FMTTYPE=image/jpeg:https://e498h76z5mp.exactdn.com/wp-content/uploads/2020/01/82883906_602227160630382_8517927876144660480_o.jpg
END:VEVENT
END:VCALENDAR