BEGIN:VCALENDAR
VERSION:2.0
PRODID:-// - ECPv6.15.20//NONSGML v1.0//EN
CALSCALE:GREGORIAN
METHOD:PUBLISH
X-ORIGINAL-URL:https://www.greekboston.com
X-WR-CALDESC:Events for 
REFRESH-INTERVAL;VALUE=DURATION:PT1H
X-Robots-Tag:noindex
X-PUBLISHED-TTL:PT1H
BEGIN:VTIMEZONE
TZID:America/New_York
BEGIN:DAYLIGHT
TZOFFSETFROM:-0500
TZOFFSETTO:-0400
TZNAME:EDT
DTSTART:20230312T070000
END:DAYLIGHT
BEGIN:STANDARD
TZOFFSETFROM:-0400
TZOFFSETTO:-0500
TZNAME:EST
DTSTART:20231105T060000
END:STANDARD
BEGIN:DAYLIGHT
TZOFFSETFROM:-0500
TZOFFSETTO:-0400
TZNAME:EDT
DTSTART:20240310T070000
END:DAYLIGHT
BEGIN:STANDARD
TZOFFSETFROM:-0400
TZOFFSETTO:-0500
TZNAME:EST
DTSTART:20241103T060000
END:STANDARD
BEGIN:DAYLIGHT
TZOFFSETFROM:-0500
TZOFFSETTO:-0400
TZNAME:EDT
DTSTART:20250309T070000
END:DAYLIGHT
BEGIN:STANDARD
TZOFFSETFROM:-0400
TZOFFSETTO:-0500
TZNAME:EST
DTSTART:20251102T060000
END:STANDARD
END:VTIMEZONE
BEGIN:VEVENT
DTSTART;VALUE=DATE:20240824
DTEND;VALUE=DATE:20240825
DTSTAMP:20260423T231137
CREATED:20240708T182610Z
LAST-MODIFIED:20240708T182634Z
UID:92016-1724457600-1724543999@www.greekboston.com
SUMMARY:Live Greek Music Show in Springfield MA
DESCRIPTION:
URL:https://www.greekboston.com/event/music-show-springfield-ma/
LOCATION:St. George Greek Orthodox Cathedral – Springfield\, MA\, 22 St. George Road\, Springfield\, MA\, 02720\, United States
CATEGORIES:Greek Events in Boston and the New England Area
ATTACH;FMTTYPE=image/jpeg:https://e498h76z5mp.exactdn.com/wp-content/uploads/2024/07/450420401_888847919945137_5103625092941691785_n.jpg
END:VEVENT
BEGIN:VEVENT
DTSTART;VALUE=DATE:20240906
DTEND;VALUE=DATE:20240909
DTSTAMP:20260423T231137
CREATED:20210802T183808Z
LAST-MODIFIED:20240812T214203Z
UID:86892-1725580800-1725839999@www.greekboston.com
SUMMARY:Greek Dance Glendi at St. George Greek Cathedral in Springfield MA
DESCRIPTION:
URL:https://www.greekboston.com/event/glendi-dance-springfield-ma/
LOCATION:St. George Greek Orthodox Cathedral – Springfield\, MA\, 22 St. George Road\, Springfield\, MA\, 02720\, United States
CATEGORIES:Greek Events in Boston and the New England Area
ATTACH;FMTTYPE=image/jpeg:https://e498h76z5mp.exactdn.com/wp-content/uploads/2021/08/image001-1.jpg
END:VEVENT
BEGIN:VEVENT
DTSTART;VALUE=DATE:20240906
DTEND;VALUE=DATE:20240908
DTSTAMP:20260423T231137
CREATED:20140728T204646Z
LAST-MODIFIED:20240903T224322Z
UID:41571-1725580800-1725753599@www.greekboston.com
SUMMARY:Lewiston\, Auburn ME Greek Festival at the Holy Trinity Greek Church
DESCRIPTION:
URL:https://www.greekboston.com/event/lewiston-auburn-festival/
LOCATION:Holy Trinity Greek Orthodox Church of Lewiston\, Maine\, 155 Hogan Road\, Lewiston\, ME\, 04240\, United States
CATEGORIES:Greek Events in Boston and the New England Area,Greek Festivals of New England
ATTACH;FMTTYPE=image/jpeg:https://e498h76z5mp.exactdn.com/wp-content/uploads/2014/07/457518683_10100519377510247_1091523306771957259_n.jpg
END:VEVENT
BEGIN:VEVENT
DTSTART;VALUE=DATE:20240906
DTEND;VALUE=DATE:20240909
DTSTAMP:20260423T231137
CREATED:20140221T020622Z
LAST-MODIFIED:20240604T214100Z
UID:35604-1725580800-1725839999@www.greekboston.com
SUMMARY:Somerville MA Greek Festival at Dormition of the Virgin Mary Greek Church
DESCRIPTION:
URL:https://www.greekboston.com/event/festival-somerville-ma/
LOCATION:Dormition of the Virgin Mary Greek Orthodox Church\, 29 Central Street\, Somerville\, MA\, 02143\, United States
CATEGORIES:Greek Events in Boston and the New England Area,Greek Festivals of New England
ATTACH;FMTTYPE=image/png:https://e498h76z5mp.exactdn.com/wp-content/uploads/2014/02/image0-8.png
END:VEVENT
BEGIN:VEVENT
DTSTART;VALUE=DATE:20240907
DTEND;VALUE=DATE:20240908
DTSTAMP:20260423T231137
CREATED:20230815T152951Z
LAST-MODIFIED:20240729T213221Z
UID:90903-1725667200-1725753599@www.greekboston.com
SUMMARY:Taverna Night in Cohasset MA
DESCRIPTION:
URL:https://www.greekboston.com/event/taverna-night-cohasset-ma/
LOCATION:Panagia Greek Orthodox Church\, 811 Jerusalem Rd\, Cohasset\, MA\, 02025\, United States
CATEGORIES:Greek Events in Boston and the New England Area
ATTACH;FMTTYPE=image/jpeg:https://e498h76z5mp.exactdn.com/wp-content/uploads/2023/08/image0-25.jpeg
END:VEVENT
BEGIN:VEVENT
DTSTART;VALUE=DATE:20240908
DTEND;VALUE=DATE:20240909
DTSTAMP:20260423T231137
CREATED:20240827T221215Z
LAST-MODIFIED:20240827T221340Z
UID:92123-1725753600-1725839999@www.greekboston.com
SUMMARY:Annual Walk to Benefit Penelope's Place on Jamaica Pond
DESCRIPTION:2nd Annual Walk to benefit Penelope’s Place\, a domestic violence shelter in Plymouth County.\nSponsored by: Daughters of Penelope Orion Chapter 130\nDate: September 8\, 2024\nTime: 10:00 a.m.\nPlace: Jamaica Pond (3-mile walk)
URL:https://www.greekboston.com/event/walk-benefit-penelopes-place-jamaica-pond/
LOCATION:MA
CATEGORIES:Greek Events in Boston and the New England Area
ATTACH;FMTTYPE=image/jpeg:https://e498h76z5mp.exactdn.com/wp-content/uploads/2024/08/DOP-2nd-ANNUAL-WALK-POSTER.jpg
END:VEVENT
BEGIN:VEVENT
DTSTART;VALUE=DATE:20240911
DTEND;VALUE=DATE:20240912
DTSTAMP:20260423T231137
CREATED:20240823T154747Z
LAST-MODIFIED:20240823T154747Z
UID:92108-1726012800-1726099199@www.greekboston.com
SUMMARY:Murderess by Eva Nathena Film Screening Brookline MA
DESCRIPTION:
URL:https://www.greekboston.com/event/murderess-eva-nathena-film-screening/
LOCATION:Maliotis Cultural Center\, 50 Goddard Avenue\, Brookline\, MA\, 02130\, United States
CATEGORIES:Greek Events in Boston and the New England Area
ATTACH;FMTTYPE=image/png:https://e498h76z5mp.exactdn.com/wp-content/uploads/2024/08/Fonissa-Flyer-Eng-Flyer.png
END:VEVENT
BEGIN:VEVENT
DTSTART;VALUE=DATE:20240913
DTEND;VALUE=DATE:20240914
DTSTAMP:20260423T231137
CREATED:20240822T175157Z
LAST-MODIFIED:20240822T175157Z
UID:92096-1726185600-1726271999@www.greekboston.com
SUMMARY:Farewell Summer Harbor Cruise for Saint Athanasius YAL
DESCRIPTION:
URL:https://www.greekboston.com/event/farewell-summer-harbor-cruise/
LOCATION:St. Athanasius the Great Greek Orthodox Church – Arlington\, MA\, 4 Appleton St\, Arlington\, MA\, 02476\, United States
CATEGORIES:Greek Events in Boston and the New England Area
ATTACH;FMTTYPE=image/jpeg:https://e498h76z5mp.exactdn.com/wp-content/uploads/2024/08/456239875_934552962045556_6281730878693322488_n.jpg
END:VEVENT
BEGIN:VEVENT
DTSTART;VALUE=DATE:20240914
DTEND;VALUE=DATE:20240915
DTSTAMP:20260423T231137
CREATED:20240812T213849Z
LAST-MODIFIED:20240812T213849Z
UID:92051-1726272000-1726358399@www.greekboston.com
SUMMARY:Greek Comedy Night in Ipswich MA
DESCRIPTION:
URL:https://www.greekboston.com/event/comedy-night-ipswich-ma/
LOCATION:Assumption of the Virgin Mary Greek Orthodox Church of Ipswich  MA\, 117 County Road\, Ipswich\, 01938\, United States
CATEGORIES:Greek Events in Boston and the New England Area
ATTACH;FMTTYPE=image/png:https://e498h76z5mp.exactdn.com/wp-content/uploads/2024/08/Screenshot-2024-08-12-at-5.37.50 PM.png
END:VEVENT
BEGIN:VEVENT
DTSTART;VALUE=DATE:20240921
DTEND;VALUE=DATE:20240922
DTSTAMP:20260423T231137
CREATED:20180117T225805Z
LAST-MODIFIED:20240812T213254Z
UID:68877-1726876800-1726963199@www.greekboston.com
SUMMARY:GOYA Dance at St. Philip Greek Church Nashua NH
DESCRIPTION:
URL:https://www.greekboston.com/event/glendi-dance-nashua-nh/
LOCATION:St. Philip Greek Orthodox Church – Nashua\, NH\, 500 West Hollis Street\, Nashua\, NH\, 03062\, United States
CATEGORIES:Greek Events in Boston and the New England Area
ATTACH;FMTTYPE=image/jpeg:https://e498h76z5mp.exactdn.com/wp-content/uploads/2018/01/nashua-goya-dance.jpg
END:VEVENT
BEGIN:VEVENT
DTSTART;VALUE=DATE:20240921
DTEND;VALUE=DATE:20240922
DTSTAMP:20260423T231137
CREATED:20140221T021900Z
LAST-MODIFIED:20240814T222118Z
UID:35614-1726876800-1726963199@www.greekboston.com
SUMMARY:Lexington MA Greek Festival at St. Nicholas Greek Orthodox Church
DESCRIPTION:
URL:https://www.greekboston.com/event/festival-lexington-ma/
LOCATION:St. Nicholas Greek Orthodox Church – Lexington\, MA\, 17 Meriam Street\, Lexington\, MA\, 02420\, United States
CATEGORIES:Greek Events in Boston and the New England Area,Greek Festivals of New England
ATTACH;FMTTYPE=image/jpeg:https://e498h76z5mp.exactdn.com/wp-content/uploads/2014/02/455616298_18414024286078529_2503389435828286127_n.jpg
END:VEVENT
BEGIN:VEVENT
DTSTART;VALUE=DATE:20240923
DTEND;VALUE=DATE:20240924
DTSTAMP:20260423T231137
CREATED:20150604T114526Z
LAST-MODIFIED:20240724T133641Z
UID:48536-1727049600-1727135999@www.greekboston.com
SUMMARY:Ahepa Hellas Chapter 102 Annual Golf Tournament in Dracut MA
DESCRIPTION:
URL:https://www.greekboston.com/event/ahepa-golf-dracut-ma/
LOCATION:Four Oaks Country Club Dracut MA\, 1 Clubhouse Lane\, Dracut\, MA\, 01826\, United States
CATEGORIES:Greek Events in Boston and the New England Area
ATTACH;FMTTYPE=image/png:https://e498h76z5mp.exactdn.com/wp-content/uploads/2015/06/Screenshot-2024-07-24-at-9.35.56 AM.png
END:VEVENT
BEGIN:VEVENT
DTSTART;VALUE=DATE:20240924
DTEND;VALUE=DATE:20240925
DTSTAMP:20260423T231137
CREATED:20240912T135418Z
LAST-MODIFIED:20240912T135906Z
UID:92155-1727136000-1727222399@www.greekboston.com
SUMMARY:Greek Dance Lessons at St. Catherine Greek Church Braintree MA
DESCRIPTION:
URL:https://www.greekboston.com/event/dance-lessons-braintree-ma/
LOCATION:St. Catherine Greek Orthodox Church\, 119 Common Street\, Braintree\, MA\, 02184\, United States
CATEGORIES:Greek Events in Boston and the New England Area
ATTACH;FMTTYPE=image/png:https://e498h76z5mp.exactdn.com/wp-content/uploads/2024/09/Braintree-Flyer-2024.png
END:VEVENT
BEGIN:VEVENT
DTSTART;VALUE=DATE:20240924
DTEND;VALUE=DATE:20240925
DTSTAMP:20260423T231137
CREATED:20240918T161643Z
LAST-MODIFIED:20240918T161655Z
UID:92189-1727136000-1727222399@www.greekboston.com
SUMMARY:GOYA Bonfire Event in Worcester MA
DESCRIPTION:
URL:https://www.greekboston.com/event/goya-bonfire-worcester-ma/
LOCATION:St. Spyridon Greek Orthodox Cathedral – Worcester\, 102 Russell Street\, Worcester\, MA\, 01609\, United States
CATEGORIES:Greek Events in Boston and the New England Area
ATTACH;FMTTYPE=image/jpeg:https://e498h76z5mp.exactdn.com/wp-content/uploads/2024/09/460598513_946229504209951_756180448760446813_n.jpg
END:VEVENT
BEGIN:VEVENT
DTSTART;VALUE=DATE:20240924
DTEND;VALUE=DATE:20240925
DTSTAMP:20260423T231137
CREATED:20140325T231527Z
LAST-MODIFIED:20240619T225520Z
UID:37434-1727136000-1727222399@www.greekboston.com
SUMMARY:Metropolis of Boston Camp Golf Classic
DESCRIPTION:
URL:https://www.greekboston.com/event/metropolis-golf-classic/
LOCATION:Indian Ridge Country Club\, 73 Lovejoy Road\, Andover\, 01810\, United States
CATEGORIES:Greek Events in Boston and the New England Area
ATTACH;FMTTYPE=image/jpeg:https://e498h76z5mp.exactdn.com/wp-content/uploads/2014/03/MBC-Golf-Tournament-2024-2.pdf.jpg
END:VEVENT
BEGIN:VEVENT
DTSTART;VALUE=DATE:20240927
DTEND;VALUE=DATE:20240928
DTSTAMP:20260423T231137
CREATED:20180828T215544Z
LAST-MODIFIED:20240912T142514Z
UID:73126-1727395200-1727481599@www.greekboston.com
SUMMARY:Ice Cream Social at Taxiarchae Greek Church Watertown MA
DESCRIPTION:
URL:https://www.greekboston.com/event/ice-cream-social-watertown-ma/
LOCATION:Taxiarchae Greek Orthodox Church Watertown MA\, 25 Bigelow Ave\, Watertown\, MA\, 02472\, United States
CATEGORIES:Greek Events in Boston and the New England Area
ATTACH;FMTTYPE=image/jpeg:https://e498h76z5mp.exactdn.com/wp-content/uploads/2018/08/459549661_921710586664985_342373768547468263_n.jpg
END:VEVENT
BEGIN:VEVENT
DTSTART;VALUE=DATE:20240928
DTEND;VALUE=DATE:20240929
DTSTAMP:20260423T231137
CREATED:20240910T214411Z
LAST-MODIFIED:20240910T214424Z
UID:92142-1727481600-1727567999@www.greekboston.com
SUMMARY:Ice Cream Social at St. Vasilios Greek Church Peabody MA
DESCRIPTION:
URL:https://www.greekboston.com/event/ice-cream-social-peabody-ma/
LOCATION:Saint Vasilios Greek Orthodox Church\, 5 Paleologos Street\, Peabody\, MA\, 01960\, United States
CATEGORIES:Greek Events in Boston and the New England Area
ATTACH;FMTTYPE=image/jpeg:https://e498h76z5mp.exactdn.com/wp-content/uploads/2024/09/459088489_907311961434856_3421564733814152375_n.jpg
END:VEVENT
BEGIN:VEVENT
DTSTART;VALUE=DATE:20240930
DTEND;VALUE=DATE:20241001
DTSTAMP:20260423T231137
CREATED:20230316T211332Z
LAST-MODIFIED:20240916T210328Z
UID:90364-1727654400-1727740799@www.greekboston.com
SUMMARY:Poetry Reading in Brookline MA
DESCRIPTION:
URL:https://www.greekboston.com/event/poetry-reading-brookline/
LOCATION:Athan’s Bakery\, 1621 Beacon Street\, Brookline\, 02446\, United States
CATEGORIES:Greek Events in Boston and the New England Area
ATTACH;FMTTYPE=image/jpeg:https://e498h76z5mp.exactdn.com/wp-content/uploads/2023/03/Four-1.jpg
END:VEVENT
BEGIN:VEVENT
DTSTART;VALUE=DATE:20241001
DTEND;VALUE=DATE:20241002
DTSTAMP:20260423T231137
CREATED:20240823T155221Z
LAST-MODIFIED:20240823T155221Z
UID:92114-1727740800-1727827199@www.greekboston.com
SUMMARY:An American Southerner in Northern Greece Christopher King's Early Years in Epirus
DESCRIPTION:
URL:https://www.greekboston.com/event/american-southerner-northern-greece-christopher-kings-epirus/
LOCATION:Maliotis Cultural Center\, 50 Goddard Avenue\, Brookline\, MA\, 02130\, United States
CATEGORIES:Greek Events in Boston and the New England Area
ATTACH;FMTTYPE=image/png:https://e498h76z5mp.exactdn.com/wp-content/uploads/2024/08/An-American-Southerner-in-Northern-Greece-Christopher-Kings-Early-Years-in-Epirus-Flyer-Flyer-1.png
END:VEVENT
BEGIN:VEVENT
DTSTART;VALUE=DATE:20241002
DTEND;VALUE=DATE:20241003
DTSTAMP:20260423T231137
CREATED:20240919T202852Z
LAST-MODIFIED:20240919T202852Z
UID:92203-1727827200-1727913599@www.greekboston.com
SUMMARY:Epirotic Violin Masterclass by Master Violinist Aurel Kyrio
DESCRIPTION:
URL:https://www.greekboston.com/event/epirotic-violin-masterclass-aurel-kyrio/
LOCATION:Maliotis Cultural Center\, 50 Goddard Avenue\, Brookline\, MA\, 02130\, United States
CATEGORIES:Greek Events in Boston and the New England Area
ATTACH;FMTTYPE=image/png:https://e498h76z5mp.exactdn.com/wp-content/uploads/2024/09/Epirotic-Violin-Masterclass-Flyer-with-Aurel-Kyrio-1.png
END:VEVENT
BEGIN:VEVENT
DTSTART;VALUE=DATE:20241004
DTEND;VALUE=DATE:20241005
DTSTAMP:20260423T231137
CREATED:20240718T150156Z
LAST-MODIFIED:20240718T150352Z
UID:92033-1728000000-1728086399@www.greekboston.com
SUMMARY:Greek Night in Wilmington MA
DESCRIPTION:
URL:https://www.greekboston.com/event/night-wilmington-ma/
LOCATION:ALEPPO SHRINERS\, 99 Fordham Road\, Wilmington\, MA\, 01887-0578\, United States
CATEGORIES:Greek Events in Boston and the New England Area
ATTACH;FMTTYPE=image/jpeg:https://e498h76z5mp.exactdn.com/wp-content/uploads/2024/07/GreekNight_10-4-24.jpg
END:VEVENT
BEGIN:VEVENT
DTSTART;VALUE=DATE:20241005
DTEND;VALUE=DATE:20241006
DTSTAMP:20260423T231137
CREATED:20231020T191840Z
LAST-MODIFIED:20240903T223341Z
UID:91145-1728086400-1728172799@www.greekboston.com
SUMMARY:Manolis Kontaros Live Greek Concert Springfield MA
DESCRIPTION:
URL:https://www.greekboston.com/event/manolis-kontaros-springfield-ma/
LOCATION:Cretans Association of Springfield MA\, 35 Carew Street\, Springfield\,\, MA\, 01104\, United States
CATEGORIES:Greek Events in Boston and the New England Area
ATTACH;FMTTYPE=image/jpeg:https://e498h76z5mp.exactdn.com/wp-content/uploads/2023/10/KONTAROS-FLYER-1.jpg
END:VEVENT
BEGIN:VEVENT
DTSTART;VALUE=DATE:20241005
DTEND;VALUE=DATE:20241006
DTSTAMP:20260423T231137
CREATED:20240919T203414Z
LAST-MODIFIED:20240919T203414Z
UID:92207-1728086400-1728172799@www.greekboston.com
SUMMARY:Greek Dinner at Annunciation Greek Church Newburyport MA
DESCRIPTION:
URL:https://www.greekboston.com/event/dinner-newburyport-ma/
LOCATION:Annunciation Greek Orthodox Church – Newburyport\, MA\, 7 Harris St \, Newburyport\, MA\, 01950\, United States
CATEGORIES:Greek Events in Boston and the New England Area
ATTACH;FMTTYPE=image/jpeg:https://e498h76z5mp.exactdn.com/wp-content/uploads/2024/09/To-Go-10_05_2024.jpg
END:VEVENT
BEGIN:VEVENT
DTSTART;VALUE=DATE:20241006
DTEND;VALUE=DATE:20241007
DTSTAMP:20260423T231137
CREATED:20241003T185100Z
LAST-MODIFIED:20241003T185129Z
UID:92258-1728172800-1728259199@www.greekboston.com
SUMMARY:Family Farm Afternoon for Annunciation Greek Church Woburn MA
DESCRIPTION:
URL:https://www.greekboston.com/event/family-farm-afternoon-woburn-ma/
LOCATION:Annunciation of The Virgin Mary Greek Orthodox Church  – Woburn\, MA\, 70 Montvale Avenue \, Woburn\, MA\, 01801 \, United States
CATEGORIES:Greek Events in Boston and the New England Area
ATTACH;FMTTYPE=image/jpeg:https://e498h76z5mp.exactdn.com/wp-content/uploads/2024/10/462028475_933950248763569_7606011131584340678_n.jpg
END:VEVENT
BEGIN:VEVENT
DTSTART;VALUE=DATE:20241006
DTEND;VALUE=DATE:20241007
DTSTAMP:20260423T231137
CREATED:20241004T164629Z
LAST-MODIFIED:20241004T164629Z
UID:92266-1728172800-1728259199@www.greekboston.com
SUMMARY:GOYA Meeting for St. Nicholas Greek Church Lexington MA
DESCRIPTION:
URL:https://www.greekboston.com/event/goya-meeting-lexington-ma/
LOCATION:St. Nicholas Greek Orthodox Church – Lexington\, MA\, 17 Meriam Street\, Lexington\, MA\, 02420\, United States
CATEGORIES:Greek Events in Boston and the New England Area
ATTACH;FMTTYPE=image/jpeg:https://e498h76z5mp.exactdn.com/wp-content/uploads/2024/10/462104842_18422973409078529_9096884958736108099_n.jpg
END:VEVENT
BEGIN:VEVENT
DTSTART;VALUE=DATE:20241009
DTEND;VALUE=DATE:20241011
DTSTAMP:20260423T231137
CREATED:20241008T213419Z
LAST-MODIFIED:20241008T213430Z
UID:92282-1728432000-1728604799@www.greekboston.com
SUMMARY:Cooking Workshops at Assumption of the Virgin Mary Greek Church Pawtucket RI
DESCRIPTION:
URL:https://www.greekboston.com/event/cooking-workshops-pawtucket-ri/
LOCATION:Assumption of the Virgin Mary Church -Pawtucket\, RI\, 97 Walcott Street\, Pawtucket\, RI\, United States
CATEGORIES:Greek Events in Boston and the New England Area
ATTACH;FMTTYPE=image/jpeg:https://e498h76z5mp.exactdn.com/wp-content/uploads/2024/10/462352960_969724891865669_8349262652048081237_n.jpg
END:VEVENT
BEGIN:VEVENT
DTSTART;VALUE=DATE:20241010
DTEND;VALUE=DATE:20241011
DTSTAMP:20260423T231137
CREATED:20240402T215258Z
LAST-MODIFIED:20240402T215258Z
UID:91835-1728518400-1728604799@www.greekboston.com
SUMMARY:Top Golf Fundraiser Event for St. Gregory the Theologian Greek Church
DESCRIPTION:
URL:https://www.greekboston.com/event/golf-fundraiser-theologian-church/
LOCATION:Topgolf Canton MA\, 777 Dedham Street\, Canton\, MA\, 02021\, United States
CATEGORIES:Greek Events in Boston and the New England Area
ATTACH;FMTTYPE=image/png:https://e498h76z5mp.exactdn.com/wp-content/uploads/2024/04/Screenshot-2024-04-02-at-5.50.22 PM.png
END:VEVENT
BEGIN:VEVENT
DTSTART;VALUE=DATE:20241010
DTEND;VALUE=DATE:20241011
DTSTAMP:20260423T231137
CREATED:20240823T155024Z
LAST-MODIFIED:20240823T155024Z
UID:92111-1728518400-1728604799@www.greekboston.com
SUMMARY:Ageless & Immortal The Ionians in the Homeric Hymn to Apollo Lecture
DESCRIPTION:
URL:https://www.greekboston.com/event/ageless-immortal-ionians-homeric-hymn-apollo/
LOCATION:Maliotis Cultural Center\, 50 Goddard Avenue\, Brookline\, MA\, 02130\, United States
CATEGORIES:Greek Events in Boston and the New England Area
ATTACH;FMTTYPE=image/png:https://e498h76z5mp.exactdn.com/wp-content/uploads/2024/08/Ageless-Immortal-The-Ionians-in-the-Homeric-Hymn-to-Apollo_Dova-Flyer.png
END:VEVENT
BEGIN:VEVENT
DTSTART;VALUE=DATE:20241011
DTEND;VALUE=DATE:20241015
DTSTAMP:20260423T231137
CREATED:20240320T132217Z
LAST-MODIFIED:20240815T212042Z
UID:91769-1728604800-1728950399@www.greekboston.com
SUMMARY:Kefi Greek Dance Conference
DESCRIPTION:The Metropolis of Boston Dance Group is thrilled to announce the first ever international dance conference in Boston which will take place October 11-14\, 2024. Participation from multiple states in the US and regions of Canada are expected to attend.\nDance workshops will be led by instructors from Greece who preserve the authentic styles of the dances of their region.\nGeneral Information (greekfolkdance.org)
URL:https://www.greekboston.com/event/kefi-dance-conference/
LOCATION:MA
CATEGORIES:Greek Events in Boston and the New England Area
ATTACH;FMTTYPE=image/jpeg:https://e498h76z5mp.exactdn.com/wp-content/uploads/2024/03/439498567_10163332904730200_7193756942444453238_n.jpg
END:VEVENT
BEGIN:VEVENT
DTSTART;VALUE=DATE:20241011
DTEND;VALUE=DATE:20241012
DTSTAMP:20260423T231137
CREATED:20160415T121819Z
LAST-MODIFIED:20241002T212649Z
UID:55569-1728604800-1728691199@www.greekboston.com
SUMMARY:Greek Music Night in Roslindale MA
DESCRIPTION:
URL:https://www.greekboston.com/event/night-roslindale-ma/
LOCATION:Hellenic Soccer Club in Roslindale MA\, 47 Poplar Street\, Roslindale\, MA\, 02131\, United States
CATEGORIES:Greek Events in Boston and the New England Area
ATTACH;FMTTYPE=image/jpeg:https://e498h76z5mp.exactdn.com/wp-content/uploads/2016/04/461747739_3838355529776144_2014266909482134073_n.jpg
END:VEVENT
END:VCALENDAR