BEGIN:VCALENDAR
VERSION:2.0
PRODID:-// - ECPv6.15.20//NONSGML v1.0//EN
CALSCALE:GREGORIAN
METHOD:PUBLISH
X-ORIGINAL-URL:https://www.greekboston.com
X-WR-CALDESC:Events for 
REFRESH-INTERVAL;VALUE=DURATION:PT1H
X-Robots-Tag:noindex
X-PUBLISHED-TTL:PT1H
BEGIN:VTIMEZONE
TZID:America/New_York
BEGIN:DAYLIGHT
TZOFFSETFROM:-0500
TZOFFSETTO:-0400
TZNAME:EDT
DTSTART:20130310T070000
END:DAYLIGHT
BEGIN:STANDARD
TZOFFSETFROM:-0400
TZOFFSETTO:-0500
TZNAME:EST
DTSTART:20131103T060000
END:STANDARD
BEGIN:DAYLIGHT
TZOFFSETFROM:-0500
TZOFFSETTO:-0400
TZNAME:EDT
DTSTART:20140309T070000
END:DAYLIGHT
BEGIN:STANDARD
TZOFFSETFROM:-0400
TZOFFSETTO:-0500
TZNAME:EST
DTSTART:20141102T060000
END:STANDARD
BEGIN:DAYLIGHT
TZOFFSETFROM:-0500
TZOFFSETTO:-0400
TZNAME:EDT
DTSTART:20150308T070000
END:DAYLIGHT
BEGIN:STANDARD
TZOFFSETFROM:-0400
TZOFFSETTO:-0500
TZNAME:EST
DTSTART:20151101T060000
END:STANDARD
END:VTIMEZONE
BEGIN:VEVENT
DTSTART;TZID=America/New_York:20140502T190000
DTEND;TZID=America/New_York:20140502T220000
DTSTAMP:20260423T071723
CREATED:20140423T103442Z
LAST-MODIFIED:20140423T104007Z
UID:38636-1399057200-1399068000@www.greekboston.com
SUMMARY:JOY Ladies Night Out at Arlington Greek Church
DESCRIPTION:James Bouboulis AuditoriumPlease join us for a painting party fundraiser to help raise money for the St. Athanasius JOY program. It will be a fun night of painting demonstrated by our very own Katerina Delegas. You can find her on www.artbykaterina.com and also on Facebook at Art by Katerina.Wine and appetizers will be served. $55 per person. Seats are limited so call and reserve your seat now.\nTickets: Angie Tsiaras: atsiaras@partners.org (617) 817-9016\nOlga Patoucheas: Olgaluckystar@gmail.com (617) 678-6499\nDemetra Awad: jakjaha@yahoo.com (978) 799-8978\nLoula Boretos: gboretos@verizon.net (617) 605-7213
URL:https://www.greekboston.com/event/joy-ladies-arlington/
LOCATION:St. Athanasius the Great Greek Orthodox Church – Arlington\, MA\, 4 Appleton St\, Arlington\, MA\, 02476\, United States
CATEGORIES:Greek Events in Boston and the New England Area
ATTACH;FMTTYPE=image/jpeg:https://e498h76z5mp.exactdn.com/wp-content/uploads/2014/04/1606910_640257332689744_585240714843475152_n.jpg
END:VEVENT
BEGIN:VEVENT
DTSTART;TZID=America/New_York:20140427T160000
DTEND;TZID=America/New_York:20140427T180000
DTSTAMP:20260423T071723
CREATED:20140402T154059Z
LAST-MODIFIED:20140402T154144Z
UID:37771-1398614400-1398621600@www.greekboston.com
SUMMARY:Lecture by Dr. Susan Hueck Allen Produced by the Hellenic Arts Society of Worcester MA
DESCRIPTION:“Finding the Walls of Troy: Frank Calvert and Heinrick Sehliemann\,” a lecture by Dr. Susan Hueck Allen Produced by the Hellenic Arts Society of Worcester MA\nHer Sunday\, April 27\, 4 pm. lecture is free to the public with a reception to follow.\nHer lecture is based upon her book of the same name.\nShe is a Brown University Classics Department Visiting Scholar and she has dug at Troy plus lecture on other archeological topics.\nHers is a return visit by popular demand.
URL:https://www.greekboston.com/event/lecture-hellenic-society-worcester/
LOCATION:St. Spyridon Greek Orthodox Cathedral – Worcester\, 102 Russell Street\, Worcester\, MA\, 01609\, United States
CATEGORIES:Greek Events in Boston and the New England Area
ATTACH;FMTTYPE=image/jpeg:https://e498h76z5mp.exactdn.com/wp-content/uploads/2014/04/Arisaph-Home-Bot.jpg
END:VEVENT
BEGIN:VEVENT
DTSTART;TZID=America/New_York:20140427T150000
DTEND;TZID=America/New_York:20140427T173000
DTSTAMP:20260423T071723
CREATED:20140414T165057Z
LAST-MODIFIED:20140414T165057Z
UID:38221-1398610800-1398619800@www.greekboston.com
SUMMARY:Poetry Reading by Nicos Alexiou About the Greek American Community of Astoria
DESCRIPTION:Presentation by Nicos Alexiou of his bilingual collection of poetry about the Greek-American community of Astoria. Commentary by Aristotle Michopoulos.\nLight refreshments. Open to the public and free of charge. Sponsored by Somerset Hall Press and the Maliotis Cultural Center.  April 27\, 2014 3:00 PM to 5:30 PM\nPoet and Diplomat Yiorgos Chouliaras:\n“Alexiou’s poetry is strikingly visual and lyrically obsessive.”\nAbout the Book\nAlthough the Astoria section of New York has been considered the largest Hellenic settlement outside of Greece or Cyprus\, it is striking that it has received relatively little attention by writers\, artists\, and social scientists. The present bilingual book of poems and images\, both as a physical object and as a discursive project\, is about a culturally neglected enclave in the midst of ethnic and social transformations. Even in the era of globalization\, every social and artistic action occurs somewhere locally\, and accordingly the poems and images presented here emphasize the role of exile\, of people\, and of place.\nAbout the Author\nNicos Alexiou teaches in the Department of Sociology and the Center for Byzantine and Modern Greek Studies at Queens College\, and he recently received the President’s Award for Excellence in Teaching. His fields of interest are social theory and research\, ethnic studies\, and issues concerning the Greek-American community. He is the founder and director of the Hellenic American Oral History Archive. He is the author of five books of poetry\, and his work has been published in various English and Greek journals and anthologies.\nOrganized and sponsored by the Somerset Hall Press and the Maliotis Cultural Center
URL:https://www.greekboston.com/event/poetry-nicos-alexiou-astoria/
LOCATION:Maliotis Cultural Center\, 50 Goddard Avenue\, Brookline\, MA\, 02130\, United States
CATEGORIES:Greek Events in Boston and the New England Area
ATTACH;FMTTYPE=image/jpeg:https://e498h76z5mp.exactdn.com/wp-content/uploads/2014/04/homepg_graphic_2014-Aetoria.jpg
END:VEVENT
BEGIN:VEVENT
DTSTART;TZID=America/New_York:20140426T200000
DTEND;TZID=America/New_York:20140426T200000
DTSTAMP:20260423T071723
CREATED:20140329T023425Z
LAST-MODIFIED:20140603T010022Z
UID:37661-1398542400-1398542400@www.greekboston.com
SUMMARY:Greek Nights at Aegean Restaurant in Watertown
DESCRIPTION:Aegean Restaurant In Watertown MA is the home of one of the most successful Greek Night Entertainments in Massachusetts featuring Elias Giavris and His Band and Konstantina Pekou.\n \nLive Greek Entertainment with Elia Giavri and His Band every Saturday Night at the Aegean Restaurant in Watertown.\nElias Giavris – Vocals\nAdriana Charls – Vocals\nChristos Pirperis – Bouzouki\nElton Xhoja – Keyboards
URL:https://www.greekboston.com/event/nights-aegean-restaurant-watertown-2014-04-26/
LOCATION:Aegean Watertown\, 640 Arsenal Street\, Watertown\, MA\, 02472\, United States
CATEGORIES:Greek Events in Boston and the New England Area
ATTACH;FMTTYPE=image/jpeg:https://e498h76z5mp.exactdn.com/wp-content/uploads/2014/03/aegean-greek-nights-watertown.jpg
END:VEVENT
BEGIN:VEVENT
DTSTART;TZID=America/New_York:20140426T190000
DTEND;TZID=America/New_York:20140426T235500
DTSTAMP:20260423T071723
CREATED:20140417T211412Z
LAST-MODIFIED:20140417T211429Z
UID:38259-1398538800-1398556500@www.greekboston.com
SUMMARY:A Night at the Bouzoukia at Saint Catherines Greek Orthodox Church in Braintree MA
DESCRIPTION:Syndesmos Katerinioton-Pierieon “Ta Pieria”would like to invite you toA Night at the Bouzoukia FeaturingPanagiotis Marmanztakos and his Orchestra\nSaturday\, April 26th\nSt. Catherine’s Church\n119 Common Street\nBraintree\, MA 02184\nDoors open at 7:00 PM\nAdmission $30\nKids entertainment provided by Stacy Smith’s Pick A Party\nFood available for purchase to be catered by Gyro City\nFor information and reservations please contact:\nVassilios Vassiliadis (781) 249-7171\nMaria Spyridopoulos (617) 980-4263\nAs always\, we look forward to seeing you and thank you for your support!
URL:https://www.greekboston.com/event/night-bouzoukia-braintree-ma/
LOCATION:St. Catherine Greek Orthodox Church\, 119 Common Street\, Braintree\, MA\, 02184\, United States
CATEGORIES:Greek Events in Boston and the New England Area
ATTACH;FMTTYPE=image/jpeg:https://e498h76z5mp.exactdn.com/wp-content/uploads/2014/04/10290709_600121683389313_2143352515995663928_n.jpg
END:VEVENT
BEGIN:VEVENT
DTSTART;TZID=America/New_York:20140426T100000
DTEND;TZID=America/New_York:20140426T120000
DTSTAMP:20260423T071723
CREATED:20140312T214542Z
LAST-MODIFIED:20140312T224816Z
UID:37090-1398506400-1398513600@www.greekboston.com
SUMMARY:Daughters of Penelope Orion Chapter 130 Hot Breakfast Buffet Social
DESCRIPTION:Come Join the Daughters of Penelope Orion Chapter 130 for a Hot Breakfast Buffet Social \nGuest Speaker: Vicky Kechris\, President of the HWBA \nProceeds to benefit the Hellenic Nursing Home and support the outreach needs of our chapter. \nWhen: Saturday\, April 26\, 2014 from 10:00a.m. – 12:00 pm \nWhere: Holiday Inn\, 55 Ariadne Road\, Dedham\, MA (Directly off Rte. 128)\nParking is Available \nPayment: $35.00 per person (Prepaid Reservations only By April 15\, 2014) \nMake cheek payable to “Daughters of Penelope” and mail to:\nFran Giannakopoulos\, 1319 High Street\, Westwood\, MA 02090 \nQuestions: Please call Nancy Wild Geourntas at 617-510-5439 or Fran Giannakopoulos at 617-640-2630
URL:https://www.greekboston.com/event/daughters-penelope-breakfast/
LOCATION:Holiday Inn\, 55 Ariadne Road\, Dedham\, MA\, 02026\, United States
CATEGORIES:Greek Events in Boston and the New England Area
ATTACH;FMTTYPE=image/jpeg:https://e498h76z5mp.exactdn.com/wp-content/uploads/2014/03/Daughters-of-Penelope.jpg
END:VEVENT
BEGIN:VEVENT
DTSTART;TZID=America/New_York:20140422T160000
DTEND;TZID=America/New_York:20140422T173000
DTSTAMP:20260423T071723
CREATED:20140407T195406Z
LAST-MODIFIED:20140407T195511Z
UID:38050-1398182400-1398187800@www.greekboston.com
SUMMARY:Deserts\, Rivers and Mountains: Nature and Divinity in Byzantine Pilgrimage Art by Dr. Anastasia Drandaki
DESCRIPTION:Dr. Anastasia Drandaki\, Benaki Museum Athens\, considers the role of the natural landscape in Byzantine pilgrimage art.
URL:https://www.greekboston.com/event/anastasia-drandaki-lecture/
LOCATION:Mary Jaharis Center for Byzantine Art and Culture\, Hellenic College Holy Cross\, 50 Goddard Avenue\, Brookline\, MA\, 02445\, United States
CATEGORIES:Greek Events in Boston and the New England Area
ATTACH;FMTTYPE=image/jpeg:https://e498h76z5mp.exactdn.com/wp-content/uploads/2014/04/Approaching_Mount_Sinai.jpg
END:VEVENT
BEGIN:VEVENT
DTSTART;TZID=America/New_York:20140420T193000
DTEND;TZID=America/New_York:20140420T233000
DTSTAMP:20260423T071723
CREATED:20140411T155404Z
LAST-MODIFIED:20140415T192731Z
UID:38199-1398022200-1398036600@www.greekboston.com
SUMMARY:Easter Glendi Greek Night at Venue Boston
DESCRIPTION:Pascha Glendi 2014 at Venu Boston\nParea Boston Cordially Invites you to our Annual Easter event.\nWith Dj George Adamakis and Paul Yiotis\nFor Table Reservation and G list please call:\nJimmy k at 617-559-8380 or Paul yiotis at 857-453-0154
URL:https://www.greekboston.com/event/easter-glendi-venue-boston/
LOCATION:Venue Boston\, 100 Warrenton Street\, Boston\, MA\, 02116\, United States
CATEGORIES:Greek Events in Boston and the New England Area
ATTACH;FMTTYPE=image/jpeg:https://e498h76z5mp.exactdn.com/wp-content/uploads/2014/04/facebook_-1287160376.jpg
END:VEVENT
BEGIN:VEVENT
DTSTART;TZID=America/New_York:20140420T010000
DTEND;TZID=America/New_York:20140420T010000
DTSTAMP:20260423T071723
CREATED:20140402T213013Z
LAST-MODIFIED:20140402T215813Z
UID:37804-1397955600-1397955600@www.greekboston.com
SUMMARY:Resurrection Reception - St. George Cathedral
DESCRIPTION:Nobody celebrates the Resurrection like God’s people! This event brings together 200 people at 1 a.m. on Pascha. Join us for lamb\, red Paschal eggs\, egg-lemon soup\, feta\, olives\, sweet bread\, wine\, coffee…what’s not to like?
URL:https://www.greekboston.com/event/resurrection-reception-st-george-cathedral/
LOCATION:St. George Greek Orthodox Cathedral – Springfield\, MA\, 22 St. George Road\, Springfield\, MA\, 02720\, United States
CATEGORIES:Greek Events in Boston and the New England Area
ATTACH;FMTTYPE=image/jpeg:https://e498h76z5mp.exactdn.com/wp-content/uploads/2014/04/St-George-Resurrection-Reception.jpg
END:VEVENT
BEGIN:VEVENT
DTSTART;TZID=America/New_York:20140418T100000
DTEND;TZID=America/New_York:20140418T140000
DTSTAMP:20260423T071723
CREATED:20140402T215233Z
LAST-MODIFIED:20140402T220025Z
UID:37811-1397815200-1397829600@www.greekboston.com
SUMMARY:Holy Friday Youth Retreat - Holy Trinity Greek Orthodox Church - Lewiston\, ME
DESCRIPTION:
URL:https://www.greekboston.com/event/outh-retreat-holy-trinity/
LOCATION:Holy Trinity Greek Orthodox Church of Lewiston\, Maine\, 155 Hogan Road\, Lewiston\, ME\, 04240\, United States
CATEGORIES:Greek Events in Boston and the New England Area
ATTACH;FMTTYPE=image/jpeg:https://e498h76z5mp.exactdn.com/wp-content/uploads/2014/04/HolyTrinity-Lewiston-Youth-Retreat.jpg
END:VEVENT
BEGIN:VEVENT
DTSTART;TZID=America/New_York:20140413T120000
DTEND;TZID=America/New_York:20140413T120000
DTSTAMP:20260423T071723
CREATED:20140402T212112Z
LAST-MODIFIED:20140402T212112Z
UID:37802-1397390400-1397390400@www.greekboston.com
SUMMARY:Dormition of the Virgin Mary - Palm Sunday Divine Liturgy and Annual Fish Dinner
DESCRIPTION:Please join us on Palm Sunday in the Divine Liturgy which will be followed by our Annual Palm Sunday Fish Dinner. The dinner will be hosted by the Parish Council. \nSchedule:\nMatins and Divine Liturgy (8:30am-12:00pm)\nPalm Sunday Fish Dinner (12:00pm) \nTickets for Dinner\nAdults: $20.00\nChildren Under 12: $10.00 \nIncludes: Baked Fish\, Rice & Greek Style Green Beans all seasoned to perfection with dessert to follow.\nComplimentary: One Carafe of Wine per table\, Soda & Coffee\nChildren’s Plate: Macaroni\nTake out is also available. \nFor Tickets Please Contact\nMs. Diane Karavitis @ 508-574-9862 \nADVANCE TICKET SALES ONLY\nNO TICKETS WILL BE AVAILABLE AT THE DOOR\nPLEASE SHARE THE EVENT WITH YOUR FRIENDS
URL:https://www.greekboston.com/event/dormition-palm-sunday/
LOCATION:Dormition of the Virgin Mary Greek Orthodox Church\, 29 Central Street\, Somerville\, MA\, 02143\, United States
CATEGORIES:Greek Events in Boston and the New England Area
ATTACH;FMTTYPE=image/jpeg:https://e498h76z5mp.exactdn.com/wp-content/uploads/2014/04/Dormition-of-the-Virgin-Mary-Palm-Sunday.jpg
END:VEVENT
BEGIN:VEVENT
DTSTART;VALUE=DATE:20140413
DTEND;VALUE=DATE:20140414
DTSTAMP:20260423T071723
CREATED:20140403T203204Z
LAST-MODIFIED:20140403T203204Z
UID:37845-1397347200-1397433599@www.greekboston.com
SUMMARY:Transfiguration Greek Orthodox Church 90th Anniversary Luncheon
DESCRIPTION:
URL:https://www.greekboston.com/event/transfiguration-90th-anniversary/
LOCATION:Transfiguration Greek Orthodox Church – Lowell\, MA\, 25 Fr. John Sarantos Way\, Lowell\, 01854\, United States
ATTACH;FMTTYPE=image/jpeg:https://e498h76z5mp.exactdn.com/wp-content/uploads/2014/04/90Annivers.jpg
END:VEVENT
BEGIN:VEVENT
DTSTART;VALUE=DATE:20140413
DTEND;VALUE=DATE:20140414
DTSTAMP:20260423T071723
CREATED:20140325T010953Z
LAST-MODIFIED:20140325T010953Z
UID:37418-1397347200-1397433599@www.greekboston.com
SUMMARY:Church of St. Luke - Lenten Lunch
DESCRIPTION:
URL:https://www.greekboston.com/event/st-luke-lenten-lunch/
LOCATION:Greek Orthodox Church of St Luke\, 400 Prospect Street \, East Longmeadow\, MA\, 01028\, United States
CATEGORIES:Greek Events in Boston and the New England Area
ATTACH;FMTTYPE=image/jpeg:https://e498h76z5mp.exactdn.com/wp-content/uploads/2014/03/StLukeLentenLunch.jpg
END:VEVENT
BEGIN:VEVENT
DTSTART;TZID=America/New_York:20140412T090000
DTEND;TZID=America/New_York:20140413T130000
DTSTAMP:20260423T071723
CREATED:20140403T202218Z
LAST-MODIFIED:20140403T202218Z
UID:37839-1397293200-1397394000@www.greekboston.com
SUMMARY:St. Catherine Philoptochos Annual Bake Sale
DESCRIPTION:
URL:https://www.greekboston.com/event/st-catherine-bake-sale/
LOCATION:St. Catherine Greek Orthodox Church\, 119 Common Street\, Braintree\, MA\, 02184\, United States
CATEGORIES:Greek Events in Boston and the New England Area
ATTACH;FMTTYPE=image/jpeg:https://e498h76z5mp.exactdn.com/wp-content/uploads/2014/04/Bake-Sale.jpg
END:VEVENT
BEGIN:VEVENT
DTSTART;TZID=America/New_York:20140412T090000
DTEND;TZID=America/New_York:20140412T140000
DTSTAMP:20260423T071723
CREATED:20140312T232751Z
LAST-MODIFIED:20140312T232751Z
UID:37154-1397293200-1397311200@www.greekboston.com
SUMMARY:St. George Greek Orthodox Church of the Berkshires Pastry Sale
DESCRIPTION:
URL:https://www.greekboston.com/event/st-george-berkshires-pastry/
LOCATION:St. George Greek Orthodox Church of the Berkshires\, 73 Bradford St. \, Pittsfield\, MA\, 01201\, United States
CATEGORIES:Greek Events in Boston and the New England Area
ATTACH;FMTTYPE=image/jpeg:https://e498h76z5mp.exactdn.com/wp-content/uploads/2014/03/St-George-Berkshires-Pastry-Sale.jpg
END:VEVENT
BEGIN:VEVENT
DTSTART;TZID=America/New_York:20140407T190000
DTEND;TZID=America/New_York:20140407T210000
DTSTAMP:20260423T071723
CREATED:20140312T223930Z
LAST-MODIFIED:20140312T223930Z
UID:37145-1396897200-1396904400@www.greekboston.com
SUMMARY:Monday Evening Lecture Series - Spyridon Antonopoulos
DESCRIPTION:THE MONDAY EVENING AUTHOR/LECTURE SERIES – A LOOK AT THE ANCIENTS AND THE BYZANTINES \nApril 7\, 7PM\nSpyridon Antonopoulos \n“The Legacy of Medieval Byzantine Chant in Venetian Crete)” presented by Spyridon Antonopoulos\, PhD candidate in Musicology\, City University London.
URL:https://www.greekboston.com/event/lecture-series-spyridon-antonopoulos/
LOCATION:The Greek Institute\, 1038 Massachusetts Avenue\, Cambridge\, MA\, 02138\, United States
CATEGORIES:Greek Events in Boston and the New England Area
ATTACH;FMTTYPE=image/png:https://e498h76z5mp.exactdn.com/wp-content/uploads/2014/03/Greek-Institute.png
END:VEVENT
BEGIN:VEVENT
DTSTART;TZID=America/New_York:20140404T183000
DTEND;TZID=America/New_York:20140404T203000
DTSTAMP:20260423T071723
CREATED:20140314T201453Z
LAST-MODIFIED:20140403T201728Z
UID:37202-1396636200-1396643400@www.greekboston.com
SUMMARY:Finding Spiritual Peace
DESCRIPTION:Finding Spritual Peace – Flyer
URL:https://www.greekboston.com/event/finding-spiritual-peace/
LOCATION:Sts Constantine and Helen Greek Orthodox Church – Andover\, MA\, 71 Chandler Road\, Andover\, MA\, 01810\, United States
CATEGORIES:Greek Events in Boston and the New England Area
ATTACH;FMTTYPE=image/jpeg:https://e498h76z5mp.exactdn.com/wp-content/uploads/2014/03/Family-Night.jpg
END:VEVENT
BEGIN:VEVENT
DTSTART;TZID=America/New_York:20140403T174500
DTEND;TZID=America/New_York:20140403T213000
DTSTAMP:20260423T071723
CREATED:20140331T211220Z
LAST-MODIFIED:20140331T211427Z
UID:37752-1396547100-1396560600@www.greekboston.com
SUMMARY:Discussion on Spirituality and  Meditation: Interfaith Experiences with Metropolitan Methodios
DESCRIPTION:5:45 PM  Great Compline with Metropolitan Methodios of Boston presiding\n6:30 PM  Dinner\n7:00 PM  Panel Discussion in collaboration with Northeastern University Center for Spirituality\, Dialogue\, and Service\nAnnunciation Cathedral\n514 Parker Street\, Boston\, MA 02120 \n Join us at the Annunciation Greek Orthodox Cathedral of New England on Thursday\, April 3rd at 5:45 p.m. to attend a Panel Discussion on Spirituality & Meditation entitled: “Interfaith Experiences.” This spiritual gathering is being held in association with the Northeastern University Center for Spirituality\, Dialogue\, and Service.\nThe event will begin with a celebration of the Great Compline\, presided over by His Eminence Metropolitan Methodios of Boston\, who will formally commence the event.\nMr. Alexander Levering Kern\, Executive Director of the Center for Spirituality\, Dialogue and Service at Northeastern University\, will serve as the panel moderator.\nEight panelists representing different religions and denominations\, the majority of whom serve as Spiritual Advisers of Northeastern University Center for Spirituality\, Dialogue\, and Service\, will be invited. Each speaker will be afforded the opportunity to speak for up to five minutes on the topic of “Spirituality & Meditation: Interfaith Experiences” and to respond to audience questions at the end. This event\, which is being held within the framework of the Boston Cathedral’s Campus & Young Professionals Ministry\, is free and open to the public.\nThe Annunciation Cathedral is located at 514 Parker Street\, Boston\, MA 02120\, right across from the Museum of Fine Arts (“MFA”) between the campuses of Northeastern University and Wentworth Institute of Technology.  It is a short walk from the Ruggles Street Green Line T-stop.
URL:https://www.greekboston.com/event/discussion-metropolitan-methodios/
LOCATION:Annunciation Cathedral of New England\, 514 Parker Street\, Boston\, MA\, 02120\, United States
CATEGORIES:Greek Events in Boston and the New England Area
END:VEVENT
BEGIN:VEVENT
DTSTART;TZID=America/New_York:20140331T190000
DTEND;TZID=America/New_York:20140331T210000
DTSTAMP:20260423T071723
CREATED:20140312T223651Z
LAST-MODIFIED:20140312T223703Z
UID:37144-1396292400-1396299600@www.greekboston.com
SUMMARY:Monday Evening Lecture Series -  Christos Gianopoulos
DESCRIPTION:THE MONDAY EVENING AUTHOR/LECTURE SERIES – A LOOK AT THE ANCIENTS AND THE BYZANTINES \nMarch 31\, 7PM\nChristos Gianopoulos \n“Jung and the Greeks” presented by Christos Gianopoulos\, adjunct faculty in philosophy\, University of Maine and Southern Maine Community College\, who will discuss the influence of ancient Greek philosophers on the theories of the great Swiss psychiatrist and psychoanalyst\, C.G. Jung (1875-1961).
URL:https://www.greekboston.com/event/lecture-series-christos-gianopoulos/
LOCATION:The Greek Institute\, 1038 Massachusetts Avenue\, Cambridge\, MA\, 02138\, United States
CATEGORIES:Greek Events in Boston and the New England Area
ATTACH;FMTTYPE=image/png:https://e498h76z5mp.exactdn.com/wp-content/uploads/2014/03/Greek-Institute.png
END:VEVENT
BEGIN:VEVENT
DTSTART;TZID=America/New_York:20140330T150000
DTEND;TZID=America/New_York:20140330T180000
DTSTAMP:20260423T071723
CREATED:20140312T232218Z
LAST-MODIFIED:20140312T232237Z
UID:37152-1396191600-1396202400@www.greekboston.com
SUMMARY:St. Athanasius Youth Fashion Show
DESCRIPTION:50th Anniversary Fashion Show\n“Changes……1964-2014” \nJoin us for a spectacular fashion show showcasing our youth and fashions through the years. \nTickets $25\, children under 16 free. For tickets please RSVP!
URL:https://www.greekboston.com/event/st-athanasius-fashion-show/
LOCATION:St. Athanasius the Great Greek Orthodox Church – Arlington\, MA\, 4 Appleton St\, Arlington\, MA\, 02476\, United States
CATEGORIES:Greek Events in Boston and the New England Area
ATTACH;FMTTYPE=image/jpeg:https://e498h76z5mp.exactdn.com/wp-content/uploads/2014/03/St-Athanasius-Fashion-Show-2014.jpg
END:VEVENT
BEGIN:VEVENT
DTSTART;TZID=America/New_York:20140329T080000
DTEND;TZID=America/New_York:20140329T180000
DTSTAMP:20260423T071723
CREATED:20140314T211609Z
LAST-MODIFIED:20140314T212913Z
UID:37242-1396080000-1396116000@www.greekboston.com
SUMMARY:Trip to Metropolis’ Camp
DESCRIPTION:Community event features a Trip to Metropolis’ Camp\, located in Contoocook\, N.H. on Saturday\, March 29. We will leave our facilities in Brookline at 8 a.m. and return back at 6 p.m. Friends and stewards of the Cathedral are welcomed to join us in this trip. A voluntary donation of $10 is suggested.
URL:https://www.greekboston.com/event/trip-metropolis-camp/
LOCATION:Annunciation Cathedral of New England\, 514 Parker Street\, Boston\, MA\, 02120\, United States
CATEGORIES:Greek Events in Boston and the New England Area
END:VEVENT
BEGIN:VEVENT
DTSTART;TZID=America/New_York:20140329T020000
DTEND;TZID=America/New_York:20140329T180000
DTSTAMP:20260423T071723
CREATED:20140322T000551Z
LAST-MODIFIED:20140322T000617Z
UID:37357-1396058400-1396116000@www.greekboston.com
SUMMARY:Assumption Church in Dracut MA GOYA Fun Game Day
DESCRIPTION:Assumption Church in Dracut MA GOYA Fun Game Day on March 29\, 2014 from 2 to 6PM! \nPlease see the flyer regarding this GOYA event below:
URL:https://www.greekboston.com/event/dracut-ma-goya-fun-day/
LOCATION:Assumption of the Virgin Mary Church – Dracut\, MA\, 1168 Mammoth Road\, Dracut\, MA\, 01826\, United States
CATEGORIES:Greek Events in Boston and the New England Area
ATTACH;FMTTYPE=image/jpeg:https://e498h76z5mp.exactdn.com/wp-content/uploads/2014/03/IMG_7708715688636.jpeg
END:VEVENT
BEGIN:VEVENT
DTSTART;TZID=America/New_York:20140324T190000
DTEND;TZID=America/New_York:20140325T100000
DTSTAMP:20260423T071723
CREATED:20140314T211340Z
LAST-MODIFIED:20140314T211340Z
UID:37241-1395687600-1395741600@www.greekboston.com
SUMMARY:Annunciation Cathedral Feast Day - Annunciation of the Theotokos.
DESCRIPTION:Annunciation Greek Orthodox Cathedral’s Feast Day – The Annunciation of the Theotokos \nGreat Vespers will be held on Monday\, March 24th at 7 p.m.\, while the Divine Liturgy will be celebrated the following day at 10 a.m. by His Eminence Metropolitan Methodios of Boston.
URL:https://www.greekboston.com/event/annunciation-cathedral-feast-day-annunciation-theotokos/
LOCATION:Annunciation Cathedral of New England\, 514 Parker Street\, Boston\, MA\, 02120\, United States
CATEGORIES:Greek Events in Boston and the New England Area
END:VEVENT
BEGIN:VEVENT
DTSTART;TZID=America/New_York:20140324T190000
DTEND;TZID=America/New_York:20140324T210000
DTSTAMP:20260423T071723
CREATED:20140312T223329Z
LAST-MODIFIED:20140312T223921Z
UID:37141-1395687600-1395694800@www.greekboston.com
SUMMARY:Monday Evening Lecture Series - Calliopi Dourou
DESCRIPTION:THE MONDAY EVENING AUTHOR/LECTURE SERIES – A LOOK AT THE ANCIENTS AND THE BYZANTINES \nMonday\, March 24\, 7PM\nCalliopi Dourou \n“Between Byzantium and Modern Greece: Recapturing the legacy of Homer in Loukanes’ 1526 Iliad” presented by Calliopi Dourou\, PhD candidate in the Classics\, Harvard University
URL:https://www.greekboston.com/event/lecture-series-calliopi-dourou/
LOCATION:The Greek Institute\, 1038 Massachusetts Avenue\, Cambridge\, MA\, 02138\, United States
CATEGORIES:Greek Events in Boston and the New England Area
ATTACH;FMTTYPE=image/png:https://e498h76z5mp.exactdn.com/wp-content/uploads/2014/03/Greek-Institute.png
END:VEVENT
END:VCALENDAR