BEGIN:VCALENDAR
VERSION:2.0
PRODID:-// - ECPv6.15.20//NONSGML v1.0//EN
CALSCALE:GREGORIAN
METHOD:PUBLISH
X-ORIGINAL-URL:https://www.greekboston.com
X-WR-CALDESC:Events for 
REFRESH-INTERVAL;VALUE=DURATION:PT1H
X-Robots-Tag:noindex
X-PUBLISHED-TTL:PT1H
BEGIN:VTIMEZONE
TZID:America/New_York
BEGIN:DAYLIGHT
TZOFFSETFROM:-0500
TZOFFSETTO:-0400
TZNAME:EDT
DTSTART:20130310T070000
END:DAYLIGHT
BEGIN:STANDARD
TZOFFSETFROM:-0400
TZOFFSETTO:-0500
TZNAME:EST
DTSTART:20131103T060000
END:STANDARD
BEGIN:DAYLIGHT
TZOFFSETFROM:-0500
TZOFFSETTO:-0400
TZNAME:EDT
DTSTART:20140309T070000
END:DAYLIGHT
BEGIN:STANDARD
TZOFFSETFROM:-0400
TZOFFSETTO:-0500
TZNAME:EST
DTSTART:20141102T060000
END:STANDARD
BEGIN:DAYLIGHT
TZOFFSETFROM:-0500
TZOFFSETTO:-0400
TZNAME:EDT
DTSTART:20150308T070000
END:DAYLIGHT
BEGIN:STANDARD
TZOFFSETFROM:-0400
TZOFFSETTO:-0500
TZNAME:EST
DTSTART:20151101T060000
END:STANDARD
END:VTIMEZONE
BEGIN:VEVENT
DTSTART;TZID=America/New_York:20140329T020000
DTEND;TZID=America/New_York:20140329T180000
DTSTAMP:20260423T072920
CREATED:20140322T000551Z
LAST-MODIFIED:20140322T000617Z
UID:37357-1396058400-1396116000@www.greekboston.com
SUMMARY:Assumption Church in Dracut MA GOYA Fun Game Day
DESCRIPTION:Assumption Church in Dracut MA GOYA Fun Game Day on March 29\, 2014 from 2 to 6PM! \nPlease see the flyer regarding this GOYA event below:
URL:https://www.greekboston.com/event/dracut-ma-goya-fun-day/
LOCATION:Assumption of the Virgin Mary Church – Dracut\, MA\, 1168 Mammoth Road\, Dracut\, MA\, 01826\, United States
CATEGORIES:Greek Events in Boston and the New England Area
ATTACH;FMTTYPE=image/jpeg:https://e498h76z5mp.exactdn.com/wp-content/uploads/2014/03/IMG_7708715688636.jpeg
END:VEVENT
BEGIN:VEVENT
DTSTART;TZID=America/New_York:20140324T190000
DTEND;TZID=America/New_York:20140325T100000
DTSTAMP:20260423T072920
CREATED:20140314T211340Z
LAST-MODIFIED:20140314T211340Z
UID:37241-1395687600-1395741600@www.greekboston.com
SUMMARY:Annunciation Cathedral Feast Day - Annunciation of the Theotokos.
DESCRIPTION:Annunciation Greek Orthodox Cathedral’s Feast Day – The Annunciation of the Theotokos \nGreat Vespers will be held on Monday\, March 24th at 7 p.m.\, while the Divine Liturgy will be celebrated the following day at 10 a.m. by His Eminence Metropolitan Methodios of Boston.
URL:https://www.greekboston.com/event/annunciation-cathedral-feast-day-annunciation-theotokos/
LOCATION:Annunciation Cathedral of New England\, 514 Parker Street\, Boston\, MA\, 02120\, United States
CATEGORIES:Greek Events in Boston and the New England Area
END:VEVENT
BEGIN:VEVENT
DTSTART;TZID=America/New_York:20140324T190000
DTEND;TZID=America/New_York:20140324T210000
DTSTAMP:20260423T072920
CREATED:20140312T223329Z
LAST-MODIFIED:20140312T223921Z
UID:37141-1395687600-1395694800@www.greekboston.com
SUMMARY:Monday Evening Lecture Series - Calliopi Dourou
DESCRIPTION:THE MONDAY EVENING AUTHOR/LECTURE SERIES – A LOOK AT THE ANCIENTS AND THE BYZANTINES \nMonday\, March 24\, 7PM\nCalliopi Dourou \n“Between Byzantium and Modern Greece: Recapturing the legacy of Homer in Loukanes’ 1526 Iliad” presented by Calliopi Dourou\, PhD candidate in the Classics\, Harvard University
URL:https://www.greekboston.com/event/lecture-series-calliopi-dourou/
LOCATION:The Greek Institute\, 1038 Massachusetts Avenue\, Cambridge\, MA\, 02138\, United States
CATEGORIES:Greek Events in Boston and the New England Area
ATTACH;FMTTYPE=image/png:https://e498h76z5mp.exactdn.com/wp-content/uploads/2014/03/Greek-Institute.png
END:VEVENT
END:VCALENDAR