BEGIN:VCALENDAR
VERSION:2.0
PRODID:-// - ECPv6.15.20//NONSGML v1.0//EN
CALSCALE:GREGORIAN
METHOD:PUBLISH
X-ORIGINAL-URL:https://www.greekboston.com
X-WR-CALDESC:Events for 
REFRESH-INTERVAL;VALUE=DURATION:PT1H
X-Robots-Tag:noindex
X-PUBLISHED-TTL:PT1H
BEGIN:VTIMEZONE
TZID:America/New_York
BEGIN:DAYLIGHT
TZOFFSETFROM:-0500
TZOFFSETTO:-0400
TZNAME:EDT
DTSTART:20180311T070000
END:DAYLIGHT
BEGIN:STANDARD
TZOFFSETFROM:-0400
TZOFFSETTO:-0500
TZNAME:EST
DTSTART:20181104T060000
END:STANDARD
BEGIN:DAYLIGHT
TZOFFSETFROM:-0500
TZOFFSETTO:-0400
TZNAME:EDT
DTSTART:20190310T070000
END:DAYLIGHT
BEGIN:STANDARD
TZOFFSETFROM:-0400
TZOFFSETTO:-0500
TZNAME:EST
DTSTART:20191103T060000
END:STANDARD
BEGIN:DAYLIGHT
TZOFFSETFROM:-0500
TZOFFSETTO:-0400
TZNAME:EDT
DTSTART:20200308T070000
END:DAYLIGHT
BEGIN:STANDARD
TZOFFSETFROM:-0400
TZOFFSETTO:-0500
TZNAME:EST
DTSTART:20201101T060000
END:STANDARD
END:VTIMEZONE
BEGIN:VEVENT
DTSTART;TZID=America/New_York:20190303T120000
DTEND;TZID=America/New_York:20190303T140000
DTSTAMP:20260423T145311
CREATED:20160303T192214Z
LAST-MODIFIED:20190210T132208Z
UID:54261-1551614400-1551621600@www.greekboston.com
SUMMARY:Spaghetti Luncheon Fundraiser  at Holy Trinity Greek Church Lowell MA
DESCRIPTION:
URL:https://www.greekboston.com/event/spaghetti-fundraiser-lowell-ma/
LOCATION:Holy Trinity Lowell MA\, 62 Lewis Street\, Lowell\, MA\, 01854 \, United States
CATEGORIES:Greek Events in Boston and the New England Area
ATTACH;FMTTYPE=image/jpeg:https://e498h76z5mp.exactdn.com/wp-content/uploads/2016/03/SPAGHETTI-lUNCHEON-mEATFARE-sUNDAY_letter-size.jpg
END:VEVENT
BEGIN:VEVENT
DTSTART;TZID=America/New_York:20190303T113000
DTEND;TZID=America/New_York:20190303T130000
DTSTAMP:20260423T145311
CREATED:20181130T233738Z
LAST-MODIFIED:20190225T225035Z
UID:74673-1551612600-1551618000@www.greekboston.com
SUMMARY:Joy Event at St Vasilios Greek Church Peabody MA
DESCRIPTION:Junior Orthodox Youth (JOY)Events\nare for children ages 5 – 9 years old (siblings welcomed)\nMeet up First Sundays every month In the Youth Room\n11:30-12:30 Snacks\, Games\, and Crafts\n12:30-1:00 Lesson with Fr. Anthony\nFor more information:\nAnastasia Santos: tiger1890.as@gmail.com\nYianna Speridakos: yiannasperi@gmail.com\nNikki Kachinski: nicole.kachinski@gmail.com
URL:https://www.greekboston.com/event/joy-event-peabody-ma/
LOCATION:Saint Vasilios Greek Orthodox Church\, 5 Paleologos Street\, Peabody\, MA\, 01960\, United States
CATEGORIES:Greek Events in Boston and the New England Area
ATTACH;FMTTYPE=image/jpeg:https://e498h76z5mp.exactdn.com/wp-content/uploads/2018/11/Greek-Flag-1.jpg
END:VEVENT
BEGIN:VEVENT
DTSTART;TZID=America/New_York:20190303T080000
DTEND;TZID=America/New_York:20190303T140000
DTSTAMP:20260423T145311
CREATED:20190226T152726Z
LAST-MODIFIED:20190226T152726Z
UID:75883-1551600000-1551621600@www.greekboston.com
SUMMARY:Godparents and Grandparents Sunday at Sts Constantine & Helen GreekChurch Webster MA
DESCRIPTION:
URL:https://www.greekboston.com/event/godparents-grandparents-webster-ma/
LOCATION:Sts. Constantine & Helen Greek Orthodox Church – Webster\, MA\, 37 Lake Parkway\, Webster\, MA\, 01570\, United States
CATEGORIES:Greek Events in Boston and the New England Area
ATTACH;FMTTYPE=image/jpeg:https://e498h76z5mp.exactdn.com/wp-content/uploads/2019/02/52774237_2142635072441837_8347346189057785856_o.jpg
END:VEVENT
BEGIN:VEVENT
DTSTART;TZID=America/New_York:20190302T193000
DTEND;TZID=America/New_York:20190303T013000
DTSTAMP:20260423T145311
CREATED:20150130T135333Z
LAST-MODIFIED:20190118T205025Z
UID:46042-1551555000-1551576600@www.greekboston.com
SUMMARY:Boston Lykeion Ellinidon Presents Karnavali
DESCRIPTION:
URL:https://www.greekboston.com/event/karnavali-somerville-ma/
LOCATION:Dormition of the Virgin Mary Greek Orthodox Church\, 29 Central Street\, Somerville\, MA\, 02143\, United States
CATEGORIES:Greek Events in Boston and the New England Area
ATTACH;FMTTYPE=image/png:https://e498h76z5mp.exactdn.com/wp-content/uploads/2015/01/KARNAVALI-2019-flier-full_web.png
END:VEVENT
BEGIN:VEVENT
DTSTART;TZID=America/New_York:20190302T190000
DTEND;TZID=America/New_York:20190303T000000
DTSTAMP:20260423T145311
CREATED:20140312T231614Z
LAST-MODIFIED:20190209T211645Z
UID:37150-1551553200-1551571200@www.greekboston.com
SUMMARY:Apokreatiko Glendi at Assumption of the Virgin Mary Greek Church Dracut MA
DESCRIPTION:
URL:https://www.greekboston.com/event/glendi-dracut-ma/
LOCATION:Assumption of the Virgin Mary Church – Dracut\, MA\, 1168 Mammoth Road\, Dracut\, MA\, 01826\, United States
CATEGORIES:Greek Events in Boston and the New England Area
ATTACH;FMTTYPE=image/jpeg:https://e498h76z5mp.exactdn.com/wp-content/uploads/2014/03/51516233_2035511143168913_214476407470817280_n.jpg
END:VEVENT
BEGIN:VEVENT
DTSTART;TZID=America/New_York:20190302T183000
DTEND;TZID=America/New_York:20190302T233000
DTSTAMP:20260423T145311
CREATED:20160107T144005Z
LAST-MODIFIED:20190125T215355Z
UID:52328-1551551400-1551569400@www.greekboston.com
SUMMARY:Apokriatiko Dance at St. Constantine and Helen Greek Church Cambridge MA
DESCRIPTION:Join us and have fun on March 2!\nTickets: $40 for Adults; $25 for Young Adults (under 25) and free for Children under 15.
URL:https://www.greekboston.com/event/apokriatiko-dance-cambridge-ma/
LOCATION:Saints Constantine and Helen Greek Orthodox Church – Cambridge\, MA\, 14 Magazine Street\, Cambridge\, MA\, 02139\, United States
CATEGORIES:Greek Events in Boston and the New England Area
ATTACH;FMTTYPE=image/png:https://e498h76z5mp.exactdn.com/wp-content/uploads/2016/01/50622423_344993159687118_3444681638179504128_o.png
END:VEVENT
BEGIN:VEVENT
DTSTART;TZID=America/New_York:20190302T180000
DTEND;TZID=America/New_York:20190302T230000
DTSTAMP:20260423T145311
CREATED:20151012T145115Z
LAST-MODIFIED:20190217T144331Z
UID:51338-1551549600-1551567600@www.greekboston.com
SUMMARY:Family Night at Annunciation Greek Church in Brockton MA
DESCRIPTION:
URL:https://www.greekboston.com/event/family-night-brockton-ma/
LOCATION:Annunciation Greek Orthodox Church – Brockton\, MA\, 457 Oak Street\, Brockton\, MA\, 02401\, United States
CATEGORIES:Greek Events in Boston and the New England Area
ATTACH;FMTTYPE=image/jpeg:https://e498h76z5mp.exactdn.com/wp-content/uploads/2015/10/52480964_10155839686701436_2966824556079087616_n.jpg
END:VEVENT
BEGIN:VEVENT
DTSTART;TZID=America/New_York:20190302T170000
DTEND;TZID=America/New_York:20190302T190000
DTSTAMP:20260423T145311
CREATED:20190118T152439Z
LAST-MODIFIED:20190118T152439Z
UID:75407-1551546000-1551553200@www.greekboston.com
SUMMARY:Apokries Chef Cook Off Party at St. Sophia Church New London CT
DESCRIPTION:
URL:https://www.greekboston.com/event/apokries-cook-off-party-new-london-ct/
LOCATION:Saint Sophia Greek Church New London CT\, 200 Hempstead St\, New London\, Connecticut 06320\, New London\, CT\, 06320\, United States
CATEGORIES:Greek Events in Boston and the New England Area
ATTACH;FMTTYPE=image/jpeg:https://e498h76z5mp.exactdn.com/wp-content/uploads/2019/01/50762732_10156641665515549_2798169947803484160_n.jpg
END:VEVENT
BEGIN:VEVENT
DTSTART;VALUE=DATE:20190302
DTEND;VALUE=DATE:20190303
DTSTAMP:20260423T145311
CREATED:20180109T002710Z
LAST-MODIFIED:20190215T144355Z
UID:68632-1551484800-1551571199@www.greekboston.com
SUMMARY:Apokreatiko Family Glendi Dance at St Johns the Baptist Greek Church Boston MA
DESCRIPTION:
URL:https://www.greekboston.com/event/apokreatiko-glendi-st-johns-baptist/
LOCATION:St. John the Baptist Hellenic Orthodox Church – Boston\, MA\, 15 Union Park Street\, Boston\, MA\, 02118\, United States
CATEGORIES:Greek Events in Boston and the New England Area
ATTACH;FMTTYPE=image/jpeg:https://e498h76z5mp.exactdn.com/wp-content/uploads/2018/01/FB_IMG_1550088571308.jpg
END:VEVENT
BEGIN:VEVENT
DTSTART;TZID=America/New_York:20190301T213000
DTEND;TZID=America/New_York:20190302T020000
DTSTAMP:20260423T145311
CREATED:20170329T220946Z
LAST-MODIFIED:20190226T152521Z
UID:62400-1551475800-1551492000@www.greekboston.com
SUMMARY:Efi Thodi Live Greek Music in Cambridge MA
DESCRIPTION:
URL:https://www.greekboston.com/event/efi-thodi/
LOCATION:Greek American Political Club\, 288 Green Street\, Cambridge\, 02139\, United States
CATEGORIES:Greek Events in Boston and the New England Area
ATTACH;FMTTYPE=image/jpeg:https://e498h76z5mp.exactdn.com/wp-content/uploads/2017/03/IMG_2945.jpg
END:VEVENT
BEGIN:VEVENT
DTSTART;TZID=America/New_York:20190301T200000
DTEND;TZID=America/New_York:20190301T230000
DTSTAMP:20260423T145311
CREATED:20140705T230726Z
LAST-MODIFIED:20200316T213952Z
UID:40692-1551470400-1551481200@www.greekboston.com
SUMMARY:Greek Music & Dancing at Cafe Nostimo Portsmouth NH
DESCRIPTION:THIS EVENT HAS BEEN CANCELLED
URL:https://www.greekboston.com/event/portsmouth-nh-live-music/
LOCATION:Cafe Nostimo Deliciously Greek in Portsmouth NH\, 72 Mirona Road\, Portsmouth\, NH\, 03801\, United States
CATEGORIES:Greek Events in Boston and the New England Area
ATTACH;FMTTYPE=image/jpeg:https://e498h76z5mp.exactdn.com/wp-content/uploads/2020/01/greek-flag14-scaled.jpg
END:VEVENT
BEGIN:VEVENT
DTSTART;TZID=America/New_York:20190301T190000
DTEND;TZID=America/New_York:20190302T010000
DTSTAMP:20260423T145311
CREATED:20180223T193604Z
LAST-MODIFIED:20200316T214158Z
UID:70157-1551466800-1551488400@www.greekboston.com
SUMMARY:Balkan Music Night in Concord MA
DESCRIPTION:THIS EVENT HAS BEEN CANCELLED
URL:https://www.greekboston.com/event/balkan-music-night-concord-ma/
LOCATION:Walden Performing Arts Center\, 51 Walden Street\, Concord\, Massachusetts 01742\, Concord\, MA\, 01742\, United States
CATEGORIES:Greek Events in Boston and the New England Area
ATTACH;FMTTYPE=image/jpeg:https://e498h76z5mp.exactdn.com/wp-content/uploads/2020/01/greek-flag14-scaled.jpg
END:VEVENT
BEGIN:VEVENT
DTSTART;TZID=America/New_York:20190301T183000
DTEND;TZID=America/New_York:20190301T213000
DTSTAMP:20260423T145311
CREATED:20200212T234218Z
LAST-MODIFIED:20200316T214410Z
UID:82028-1551465000-1551475800@www.greekboston.com
SUMMARY:Daughters of Penelope Bingo Night in Bridgeport CT
DESCRIPTION:
URL:https://www.greekboston.com/event/bingo-night-bridgeport-ct/
LOCATION:Brewport Brewing Co\, 225 South Frontage Road\, Bridgeport\, CT\, 06604\, United States
CATEGORIES:Greek Events in Boston and the New England Area
ATTACH;FMTTYPE=image/jpeg:https://e498h76z5mp.exactdn.com/wp-content/uploads/2020/01/greek-flag14-scaled.jpg
END:VEVENT
BEGIN:VEVENT
DTSTART;TZID=America/New_York:20190301T173000
DTEND;TZID=America/New_York:20190301T203000
DTSTAMP:20260423T145311
CREATED:20200217T194337Z
LAST-MODIFIED:20200316T214135Z
UID:82143-1551461400-1551472200@www.greekboston.com
SUMMARY:Lenten Retreat at Sts. Constantine & Helen Greek Church Andover MA
DESCRIPTION:THIS EVENT HAS BEEN CANCELLED
URL:https://www.greekboston.com/event/lenten-retreat-andover-ma/
LOCATION:Sts Constantine and Helen Greek Orthodox Church – Andover\, MA\, 71 Chandler Road\, Andover\, MA\, 01810\, United States
CATEGORIES:Greek Events in Boston and the New England Area
ATTACH;FMTTYPE=image/jpeg:https://e498h76z5mp.exactdn.com/wp-content/uploads/2020/01/greek-flag14-scaled.jpg
END:VEVENT
BEGIN:VEVENT
DTSTART;TZID=America/New_York:20190301T150000
DTEND;TZID=America/New_York:20190301T180000
DTSTAMP:20260423T145311
CREATED:20180322T212226Z
LAST-MODIFIED:20200316T214348Z
UID:71138-1551452400-1551463200@www.greekboston.com
SUMMARY:Pharos Ensemble feat. Sokratis Sinopoulos Live Greek Music in Cambridge MA
DESCRIPTION:THIS EVENT HAS BEEN CANCELLED
URL:https://www.greekboston.com/event/pharos-ensemble-cambridge-ma/
LOCATION:First Church Cambridge\, 11 Garden Street\, Brookline\, MA\, 02138\, United States
CATEGORIES:Greek Events in Boston and the New England Area
ATTACH;FMTTYPE=image/jpeg:https://e498h76z5mp.exactdn.com/wp-content/uploads/2020/01/greek-flag14-scaled.jpg
END:VEVENT
BEGIN:VEVENT
DTSTART;TZID=America/New_York:20190301T130000
DTEND;TZID=America/New_York:20190301T150000
DTSTAMP:20260423T145311
CREATED:20200225T221722Z
LAST-MODIFIED:20200316T214322Z
UID:82309-1551445200-1551452400@www.greekboston.com
SUMMARY:Greek Independence Day Celebrations in Lowell MA
DESCRIPTION:THIS EVENT HAS BEEN CANCELLED
URL:https://www.greekboston.com/event/independence-lowell-ma/
LOCATION:Hellenic Cultural Center – Lowell\, 41 Broadway Street\, Lowell\, MA\, 01854\, United States
CATEGORIES:Greek Events in Boston and the New England Area
ATTACH;FMTTYPE=image/jpeg:https://e498h76z5mp.exactdn.com/wp-content/uploads/2020/01/greek-flag14-scaled.jpg
END:VEVENT
BEGIN:VEVENT
DTSTART;TZID=America/New_York:20190301T113000
DTEND;TZID=America/New_York:20190301T140000
DTSTAMP:20260423T145311
CREATED:20160325T205705Z
LAST-MODIFIED:20200316T214217Z
UID:54954-1551439800-1551448800@www.greekboston.com
SUMMARY:Greek Independence Luncheon at St John The Baptist Greek Church Boston MA
DESCRIPTION:THIS EVENT HAS BEEN CANCELLED
URL:https://www.greekboston.com/event/independence-luncheon-st-john/
LOCATION:St. John the Baptist Hellenic Orthodox Church – Boston\, MA\, 15 Union Park Street\, Boston\, MA\, 02118\, United States
CATEGORIES:Greek Events in Boston and the New England Area
ATTACH;FMTTYPE=image/jpeg:https://e498h76z5mp.exactdn.com/wp-content/uploads/2020/01/greek-flag12-scaled.jpg
END:VEVENT
BEGIN:VEVENT
DTSTART;TZID=America/New_York:20190301T093000
DTEND;TZID=America/New_York:20190301T123000
DTSTAMP:20260423T145311
CREATED:20170227T160453Z
LAST-MODIFIED:20200316T213918Z
UID:61411-1551432600-1551443400@www.greekboston.com
SUMMARY:Lenten Retreat at Sts. Constantine and Helen Greek Orthodox Church Webster MA
DESCRIPTION:
URL:https://www.greekboston.com/event/lenten-retreat-webster-ma/
LOCATION:Saints Constantine and Helen Greek Orthodox Church – Webster\, MA\, 37 Lake Parkway\, Webster\, MA\, 01570\, United States
CATEGORIES:Greek Events in Boston and the New England Area
ATTACH;FMTTYPE=image/jpeg:https://e498h76z5mp.exactdn.com/wp-content/uploads/2020/01/greek-flag14-scaled.jpg
END:VEVENT
BEGIN:VEVENT
DTSTART;VALUE=DATE:20190301
DTEND;VALUE=DATE:20190302
DTSTAMP:20260423T145311
CREATED:20170207T151524Z
LAST-MODIFIED:20200316T214138Z
UID:60728-1551398400-1551484799@www.greekboston.com
SUMMARY:Pan Messinian Greek Dinner Dance in Lowell MA
DESCRIPTION:THIS EVENT HAS BEEN CANCELLED
URL:https://www.greekboston.com/event/messinian-dance/
LOCATION:Olympic Zorba Music Hall Lowell MA\, 429 Market Street\, Lowell\, MA\, 01854\, United States
CATEGORIES:Greek Events in Boston and the New England Area
ATTACH;FMTTYPE=image/jpeg:https://e498h76z5mp.exactdn.com/wp-content/uploads/2020/01/greek-flag14-scaled.jpg
END:VEVENT
BEGIN:VEVENT
DTSTART;VALUE=DATE:20190301
DTEND;VALUE=DATE:20190304
DTSTAMP:20260423T145311
CREATED:20200127T230113Z
LAST-MODIFIED:20200316T214045Z
UID:81653-1551398400-1551657599@www.greekboston.com
SUMMARY:OISM 2020 Spring Retreat: Engaging America in Brookline MA
DESCRIPTION:THIS EVENT HAS BEEN CANCELLED
URL:https://www.greekboston.com/event/oism-2020-spring-retreat/
LOCATION:Hellenic College Holy Cross – Brookline MA\, 50 Goddard Ave\, Brookline\, MA\, 02445\, United States
CATEGORIES:Greek Events in Boston and the New England Area
ATTACH;FMTTYPE=image/jpeg:https://e498h76z5mp.exactdn.com/wp-content/uploads/2020/01/greek-flag14-scaled.jpg
END:VEVENT
BEGIN:VEVENT
DTSTART;TZID=America/New_York:20190228T200000
DTEND;TZID=America/New_York:20190301T233000
DTSTAMP:20260423T145311
CREATED:20170209T210643Z
LAST-MODIFIED:20190224T130538Z
UID:60804-1551384000-1551483000@www.greekboston.com
SUMMARY:MIT Hellenic Students Association Tsiknopempti Event
DESCRIPTION:Dear friends of HSA of MIT\,\nJoin us for our annual legendary celebration of Tsiknopempti! There will be unlimited quantity of high-quality meats (beef\, lamb\, pork\, chicken and other delicacies)\, general buffet\, music and lots of dancing!\nTickets:\n– Students (with VALID student ID): $28\n– Non-students: $35\nNOTE: drinks\, desserts & menu items NOT included\ntax & tip FOR FOOD included\nYou can pay at the door by cash\, Bank of America transfer\, venmo or PayPal.\n\nEntrance on a first-come first-serve basis\, no prior reservations.\nCapacity limit: 100 people – we will notify on our event page\, if/when we get close to capacity.
URL:https://www.greekboston.com/event/mit-hsa-tsiknopempti/
LOCATION:Brazilian Steakhouse Oliveira’s Somerville\, 20 Washington Street\, Somerville\, MA\, 02143\, United States
CATEGORIES:Greek Events in Boston and the New England Area
ATTACH;FMTTYPE=image/jpeg:https://e498h76z5mp.exactdn.com/wp-content/uploads/2018/07/Greek_Flag_6.jpg
END:VEVENT
BEGIN:VEVENT
DTSTART;TZID=America/New_York:20190227T183000
DTEND;TZID=America/New_York:20190227T223000
DTSTAMP:20260423T145311
CREATED:20190207T221230Z
LAST-MODIFIED:20190207T221230Z
UID:75688-1551292200-1551306600@www.greekboston.com
SUMMARY:St. Val's Men's Club Gyro Night in Peabody MA
DESCRIPTION:
URL:https://www.greekboston.com/event/st-vals-mens-club-gyro-night-peabody-ma/
LOCATION:Saint Vasilios Greek Orthodox Church\, 5 Paleologos Street\, Peabody\, MA\, 01960\, United States
CATEGORIES:Greek Events in Boston and the New England Area
ATTACH;FMTTYPE=image/jpeg:https://e498h76z5mp.exactdn.com/wp-content/uploads/2019/02/51548005_1340476206091973_3155024430942388224_o.jpg
END:VEVENT
BEGIN:VEVENT
DTSTART;TZID=America/New_York:20190226T150000
DTEND;TZID=America/New_York:20190227T010000
DTSTAMP:20260423T145311
CREATED:20190211T191903Z
LAST-MODIFIED:20190211T191903Z
UID:75731-1551193200-1551229200@www.greekboston.com
SUMMARY:Logganiko Society Fundraiser in Methuen MA
DESCRIPTION:
URL:https://www.greekboston.com/event/logganiko-society-fundraiser-methuen-ma/
LOCATION:Margaritas Methuen\, 90 Pleasant Valley Street\, Methuen\, MA\, 01844\, United States
CATEGORIES:Greek Events in Boston and the New England Area
ATTACH;FMTTYPE=image/jpeg:https://e498h76z5mp.exactdn.com/wp-content/uploads/2019/02/Noche-Mexicana-Poster-Methuen.jpg
END:VEVENT
BEGIN:VEVENT
DTSTART;TZID=America/New_York:20190224T130000
DTEND;TZID=America/New_York:20190224T150000
DTSTAMP:20260423T145311
CREATED:20190220T232340Z
LAST-MODIFIED:20190220T232340Z
UID:75834-1551013200-1551020400@www.greekboston.com
SUMMARY:GOYA Lunch for the Annunciation Greek Cathedral of New England
DESCRIPTION:
URL:https://www.greekboston.com/event/goya-lunch-annunciation-cathedral/
LOCATION:Gyro City Brighton MA\, 183 Chestnut Hill Ave\, Brighton\, MA 02135\, Brighton\, MA\, 02135\, United States
CATEGORIES:Greek Events in Boston and the New England Area
ATTACH;FMTTYPE=image/jpeg:https://e498h76z5mp.exactdn.com/wp-content/uploads/2019/02/Gyro-City.jpg
END:VEVENT
BEGIN:VEVENT
DTSTART;TZID=America/New_York:20190223T190000
DTEND;TZID=America/New_York:20190223T230000
DTSTAMP:20260423T145311
CREATED:20190214T145036Z
LAST-MODIFIED:20190214T145036Z
UID:75753-1550948400-1550962800@www.greekboston.com
SUMMARY:Apokries Dance for Holy Trinity Greek Church Fitchburg MA
DESCRIPTION:
URL:https://www.greekboston.com/event/apokries-dance-holy-trinity/
LOCATION:Monoosnock Country Club\, 40 Monoosnock Avenue\, Leominster\, MA\, 01453\, United States
CATEGORIES:Greek Events in Boston and the New England Area
ATTACH;FMTTYPE=image/jpeg:https://e498h76z5mp.exactdn.com/wp-content/uploads/2019/02/51929253_2328026900570423_7549763379141804032_o.jpg
END:VEVENT
BEGIN:VEVENT
DTSTART;TZID=America/New_York:20190223T183000
DTEND;TZID=America/New_York:20190223T220000
DTSTAMP:20260423T145311
CREATED:20190208T223123Z
LAST-MODIFIED:20190211T190756Z
UID:75700-1550946600-1550959200@www.greekboston.com
SUMMARY:Family Game Night at Assumption Greek Church Pawtucket RI
DESCRIPTION:
URL:https://www.greekboston.com/event/family-game-night-pawtucket-ri/
LOCATION:Assumption of the Virgin Mary Church -Pawtucket\, RI\, 97 Walcott Street\, Pawtucket\, RI\, United States
CATEGORIES:Greek Events in Boston and the New England Area
ATTACH;FMTTYPE=image/jpeg:https://e498h76z5mp.exactdn.com/wp-content/uploads/2019/02/Family-Game-Night-2019-1.jpg
END:VEVENT
BEGIN:VEVENT
DTSTART;TZID=America/New_York:20190223T160000
DTEND;TZID=America/New_York:20190223T220000
DTSTAMP:20260423T145311
CREATED:20190207T221654Z
LAST-MODIFIED:20190207T221654Z
UID:75691-1550937600-1550959200@www.greekboston.com
SUMMARY:Yiayia's Greek Night Out in Concord\, NH
DESCRIPTION: 
URL:https://www.greekboston.com/event/night-out-concord-nh/
LOCATION:Holy Trinity Greek Orthodox Church – Concord\, NH\, 68 North State Street\, Concord\, NH\, 03301\, United States
CATEGORIES:Greek Events in Boston and the New England Area
ATTACH;FMTTYPE=image/jpeg:https://e498h76z5mp.exactdn.com/wp-content/uploads/2019/02/Yiayia-Greek-Night-Out.jpg
END:VEVENT
BEGIN:VEVENT
DTSTART;TZID=America/New_York:20190222T180000
DTEND;TZID=America/New_York:20190222T230000
DTSTAMP:20260423T145311
CREATED:20150202T214112Z
LAST-MODIFIED:20200218T201746Z
UID:46107-1550858400-1550876400@www.greekboston.com
SUMMARY:Apokreatiko Glendi at St. Anargyroi Greek Church Marlborough MA
DESCRIPTION:Apokreatiko Glendi\nSt Anargyroi Greek Orthodox Church\nMarlborough\, MA\nFebruary 22\, 2020 – 6 – 11 PM
URL:https://www.greekboston.com/event/apokreatiko-glendi-marlborough-ma/
LOCATION:Saints Anargyroi Greek Orthodox Church – Marlborough\, MA\, 9 Central Street\, Marlborough\, MA\, 01752\, United States
CATEGORIES:Greek Events in Boston and the New England Area
ATTACH;FMTTYPE=image/jpeg:https://e498h76z5mp.exactdn.com/wp-content/uploads/2014/09/GreekDancers12.jpg
END:VEVENT
BEGIN:VEVENT
DTSTART;TZID=America/New_York:20190220T090000
DTEND;TZID=America/New_York:20190220T120000
DTSTAMP:20260423T145311
CREATED:20190208T233409Z
LAST-MODIFIED:20190208T233859Z
UID:75710-1550653200-1550664000@www.greekboston.com
SUMMARY:Walk on Wednesdays at Annunciation Greek Church Brockton‎ MA
DESCRIPTION:
URL:https://www.greekboston.com/event/walk-wednesdays-brockton%e2%80%8e-ma/
LOCATION:Annunciation Greek Orthodox Church – Brockton\, MA\, 457 Oak Street\, Brockton\, MA\, 02401\, United States
CATEGORIES:Greek Events in Boston and the New England Area
ATTACH;FMTTYPE=image/jpeg:https://e498h76z5mp.exactdn.com/wp-content/uploads/2019/02/51516262_10155823655351436_2364304278685745152_o.jpg
END:VEVENT
BEGIN:VEVENT
DTSTART;TZID=America/New_York:20190219T160000
DTEND;TZID=America/New_York:20190219T190000
DTSTAMP:20260423T145311
CREATED:20190217T145249Z
LAST-MODIFIED:20190217T145329Z
UID:75801-1550592000-1550602800@www.greekboston.com
SUMMARY:Bowling Night for Holy Apostles Greek Church Haverhill MA
DESCRIPTION:Bowling Night\nTuesday\, February 19\n4pm\nWamesit Lanes\nAll youth ministry groups welcome\n$5 per child\nIncludes: pizza\, soft drinks\, shoe rental and bowling.\nPlease rsvp gocyouthgroup@gmail.com
URL:https://www.greekboston.com/event/bowling-night-haverhill-ma/
LOCATION:Holy Apostles Saints Peter & Paul Greek Orthodox Church\, 154-156 Winter Street\, Haverhill\, MA\, 01830\, United States
CATEGORIES:Greek Events in Boston and the New England Area
ATTACH;FMTTYPE=image/jpeg:https://e498h76z5mp.exactdn.com/wp-content/uploads/2019/02/directory-flag.jpeg
END:VEVENT
END:VCALENDAR