BEGIN:VCALENDAR
VERSION:2.0
PRODID:-// - ECPv6.15.20//NONSGML v1.0//EN
CALSCALE:GREGORIAN
METHOD:PUBLISH
X-ORIGINAL-URL:https://www.greekboston.com
X-WR-CALDESC:Events for 
REFRESH-INTERVAL;VALUE=DURATION:PT1H
X-Robots-Tag:noindex
X-PUBLISHED-TTL:PT1H
BEGIN:VTIMEZONE
TZID:America/New_York
BEGIN:DAYLIGHT
TZOFFSETFROM:-0500
TZOFFSETTO:-0400
TZNAME:EDT
DTSTART:20160313T070000
END:DAYLIGHT
BEGIN:STANDARD
TZOFFSETFROM:-0400
TZOFFSETTO:-0500
TZNAME:EST
DTSTART:20161106T060000
END:STANDARD
BEGIN:DAYLIGHT
TZOFFSETFROM:-0500
TZOFFSETTO:-0400
TZNAME:EDT
DTSTART:20170312T070000
END:DAYLIGHT
BEGIN:STANDARD
TZOFFSETFROM:-0400
TZOFFSETTO:-0500
TZNAME:EST
DTSTART:20171105T060000
END:STANDARD
BEGIN:DAYLIGHT
TZOFFSETFROM:-0500
TZOFFSETTO:-0400
TZNAME:EDT
DTSTART:20180311T070000
END:DAYLIGHT
BEGIN:STANDARD
TZOFFSETFROM:-0400
TZOFFSETTO:-0500
TZNAME:EST
DTSTART:20181104T060000
END:STANDARD
END:VTIMEZONE
BEGIN:VEVENT
DTSTART;TZID=America/New_York:20170215T100000
DTEND;TZID=America/New_York:20170215T120000
DTSTAMP:20260423T143519
CREATED:20170211T143841Z
LAST-MODIFIED:20170211T143921Z
UID:60863-1487152800-1487160000@www.greekboston.com
SUMMARY:Yoga Class at Holy Trinity Greek Church Portland ME
DESCRIPTION:Our next Wellness Wednesday meeting is Wednesday February 15th from 10 to 12 at the Parish House. Class and Presentation by Laura Overton Certified Yoga Instructor. We will do Easy Yoga and Stretching exercises. All ages welcome Lunch to follow Yoga Class. For more Info contact Jackie Tselikis RNMS Parish Nurse 939-2260. A $5.00 donation would be appreciated for the class.
URL:https://www.greekboston.com/event/yoga-class-portland-me/
LOCATION:Holy Trinity Greek Orthodox Church – Portland\, ME\, 133 Pleasant Street\, Portland\, ME\, 04102 \, United States
CATEGORIES:Greek Events in Boston and the New England Area
ATTACH;FMTTYPE=image/jpeg:https://e498h76z5mp.exactdn.com/wp-content/uploads/2017/02/1912373_580588432031211_1989589739_n.jpg
END:VEVENT
BEGIN:VEVENT
DTSTART;TZID=America/New_York:20170218T210000
DTEND;TZID=America/New_York:20170219T020000
DTSTAMP:20260423T143519
CREATED:20170213T220515Z
LAST-MODIFIED:20170213T220515Z
UID:61060-1487451600-1487469600@www.greekboston.com
SUMMARY:ΔΗΜΟΤΙΚΌ και ΛΑΪΚΌ ΓΛΈΝΤΙ Live Greek Music in Peabody MA
DESCRIPTION:Μια ξεχωριστή δημοτικόλαϊκή βραδιά στο Brother’s kouzina με τον Αποστόλης Νικολης Κώστας Ντράμερ  Stavros Angelo Pappas Iosif Tsentekidis Σύντομα περισσότερες πληροφορίες! ! Τιμή εισόδου 20 $! !!
URL:https://www.greekboston.com/event/live-music-peabody-ma/
LOCATION:Brothers Kouzina\, 25 Newbury Street\, Peabody\, 01960\, United States
CATEGORIES:Greek Events in Boston and the New England Area
ATTACH;FMTTYPE=image/jpeg:https://e498h76z5mp.exactdn.com/wp-content/uploads/2017/02/16681480_1854142548186951_3503261185914088144_n.jpg
END:VEVENT
BEGIN:VEVENT
DTSTART;TZID=America/New_York:20170219T113000
DTEND;TZID=America/New_York:20170219T140000
DTSTAMP:20260423T143519
CREATED:20170207T151112Z
LAST-MODIFIED:20170207T151131Z
UID:60725-1487503800-1487512800@www.greekboston.com
SUMMARY:Godparent Sunday at Annunciation Greek Church of Woburn MA
DESCRIPTION:Sunday\, February 19th is Godparent Sunday. The Sunday School teachers will prepare a spaghetti & meatball luncheon for the community. Please join us!
URL:https://www.greekboston.com/event/godparent-sunday-woburn-ma/
LOCATION:Annunciation of The Virgin Mary Greek Orthodox Church  – Woburn\, MA\, 70 Montvale Avenue \, Woburn\, MA\, 01801 \, United States
CATEGORIES:Greek Events in Boston and the New England Area
ATTACH;FMTTYPE=image/jpeg:https://e498h76z5mp.exactdn.com/wp-content/uploads/2017/02/11951871_10154292391548782_902121659589909703_n.jpg
END:VEVENT
BEGIN:VEVENT
DTSTART;TZID=America/New_York:20170219T120000
DTEND;TZID=America/New_York:20170219T150000
DTSTAMP:20260423T143519
CREATED:20160130T143845Z
LAST-MODIFIED:20170214T201609Z
UID:52553-1487505600-1487516400@www.greekboston.com
SUMMARY:Stewardship Sunday Luncheon Annunciation Greek Church Brockton MA
DESCRIPTION:Call the church office to reserve your seat\, 508.559.9010
URL:https://www.greekboston.com/event/stewardship-luncheon-brockton-ma/
LOCATION:Annunciation Greek Orthodox Church – Brockton\, MA\, 457 Oak Street\, Brockton\, MA\, 02401\, United States
CATEGORIES:Greek Events in Boston and the New England Area
ATTACH;FMTTYPE=image/jpeg:https://e498h76z5mp.exactdn.com/wp-content/uploads/2016/01/16729159_10154114751096436_941645854023680827_n.jpg
END:VEVENT
BEGIN:VEVENT
DTSTART;TZID=America/New_York:20170219T220000
DTEND;TZID=America/New_York:20170220T020000
DTSTAMP:20260423T143519
CREATED:20170201T123500Z
LAST-MODIFIED:20170201T123500Z
UID:60554-1487541600-1487556000@www.greekboston.com
SUMMARY:ΑΠΟΚΡΙΆΤΙΚΗ ΛΑΙΚΟΔΗΜΟΤΙΚΗ ΒΡΑΔΙΆ ! !!
DESCRIPTION:Ο Αποστόλης Νικολής \, γνήσιος λαικοδημοτικός τραγουδιστής\, θα είναι μαζί μας στο Manchester NH στο pericles club με όλο του το επιτελείο για μία κ μόνο βραδιά !!!\nΤιμή εισόδου 20$ !!!!
URL:https://www.greekboston.com/event/%ce%b1%cf%80%ce%bf%ce%ba%cf%81%ce%b9%ce%ac%cf%84%ce%b9%ce%ba%ce%b7-%ce%bb%ce%b1%ce%b9%ce%ba%ce%bf%ce%b4%ce%b7%ce%bc%ce%bf%cf%84%ce%b9%ce%ba%ce%b7-%ce%b2%cf%81%ce%b1%ce%b4%ce%b9%ce%ac/
LOCATION:Pericles\, 123 Spruce Street\, Manchester\, NH\, 03103\, United States
CATEGORIES:Greek Events in Boston and the New England Area
ATTACH;FMTTYPE=image/jpeg:https://e498h76z5mp.exactdn.com/wp-content/uploads/2017/02/16115012_1842054446062428_2679730707667097462_n.jpg
END:VEVENT
BEGIN:VEVENT
DTSTART;TZID=America/New_York:20170219T223000
DTEND;TZID=America/New_York:20170220T020000
DTSTAMP:20260423T143519
CREATED:20170125T201915Z
LAST-MODIFIED:20170125T201950Z
UID:60439-1487543400-1487556000@www.greekboston.com
SUMMARY:Official After Party Hatzigiannis Boston Show
DESCRIPTION:OFFICIAL AFTER PARTY for HATZIGIANNIS\nFREE admission with concert ticket stub! 21+\nFor more information 508-864-7977
URL:https://www.greekboston.com/event/official-after-party-hatzigiannis/
LOCATION:Candibar Nightclub Boston\, 279 Tremont Street\, Boston\, MA\, 02116\, United States
CATEGORIES:Greek Events in Boston and the New England Area
ATTACH;FMTTYPE=image/jpeg:https://e498h76z5mp.exactdn.com/wp-content/uploads/2017/01/16113954_10154324053217057_7475303544261047698_n.jpg
END:VEVENT
BEGIN:VEVENT
DTSTART;TZID=America/New_York:20170222T183000
DTEND;TZID=America/New_York:20170222T200000
DTSTAMP:20260423T143519
CREATED:20170221T193733Z
LAST-MODIFIED:20170221T193733Z
UID:61248-1487788200-1487793600@www.greekboston.com
SUMMARY:St. Vals Greek Church of Peabody Men's Club Meeting
DESCRIPTION:
URL:https://www.greekboston.com/event/st-vals-mens-club-meeting/
LOCATION:Angelica’s\, 49 S. Main Street\, Rte. 114\, Middleton\, MA\, 01949\, United States
CATEGORIES:Greek Events in Boston and the New England Area
ATTACH;FMTTYPE=image/png:https://e498h76z5mp.exactdn.com/wp-content/uploads/2017/02/16864676_879444958861769_3477893061534224873_n.png
END:VEVENT
BEGIN:VEVENT
DTSTART;TZID=America/New_York:20170223T183000
DTEND;TZID=America/New_York:20170223T200000
DTSTAMP:20260423T143519
CREATED:20170202T222450Z
LAST-MODIFIED:20170202T222508Z
UID:60623-1487874600-1487880000@www.greekboston.com
SUMMARY:Cooking Demo with Chef Brendan Pelley at Doretta Tavern Boston MA
DESCRIPTION:Cooking Demo with Chef Brendan Pelley\nThursday\, February 23rd\, 6:30 – 8:00 PM\nJoin Chef Brendan Pelley at Doretta for his first cooking demo of 2017!  For $75 you will learn from the passionate chef\, how to make our tzatziki\, infamous village salad and spanakorizo!  While you learn\, you will be sipping on some of our favorite Greek wines. To finish off your evening of hard work\, you will indulge in something sweet!  Additionally\, you will go home with recipe cards so you can impress your next house guest!  \nVery limited seating\, please email acervasio@dorettaboston.com to reserve your spot!
URL:https://www.greekboston.com/event/cooking-demo-doretta-tavern/
LOCATION:Doretta Taverna & Raw Bar Boston MA\, 79 Park Plaza\, Boston\, MA\, 02116\, United States
CATEGORIES:Greek Events in Boston and the New England Area
ATTACH;FMTTYPE=image/jpeg:https://e498h76z5mp.exactdn.com/wp-content/uploads/2017/02/vil-sal.jpg
END:VEVENT
BEGIN:VEVENT
DTSTART;TZID=America/New_York:20170223T190000
DTEND;TZID=America/New_York:20170223T203000
DTSTAMP:20260423T143519
CREATED:20170213T132019Z
LAST-MODIFIED:20170213T132019Z
UID:60871-1487876400-1487881800@www.greekboston.com
SUMMARY:"GAL" entines Event Mom Get Together at Annunciation Greek Church Woburn MA
DESCRIPTION:
URL:https://www.greekboston.com/event/mom-get-together-woburn-ma/
LOCATION:Annunciation of The Virgin Mary Greek Orthodox Church  – Woburn\, MA\, 70 Montvale Avenue \, Woburn\, MA\, 01801 \, United States
CATEGORIES:Greek Events in Boston and the New England Area
ATTACH;FMTTYPE=image/png:https://e498h76z5mp.exactdn.com/wp-content/uploads/2017/02/16473024_10155935116488782_4176279110685412346_n.png
END:VEVENT
BEGIN:VEVENT
DTSTART;TZID=America/New_York:20170227T183000
DTEND;TZID=America/New_York:20170227T220000
DTSTAMP:20260423T143519
CREATED:20170207T152649Z
LAST-MODIFIED:20170207T152704Z
UID:60735-1488220200-1488232800@www.greekboston.com
SUMMARY:Clean Monday Koulouma at Dormition of the Virgin Mary Greek Church Somerville MA
DESCRIPTION:On Clean Monday night\, February 27:\nGreat Compline service starts at 6:30pm\nKoulouma Feast Table starts at 7:00pm\nTake your children along and join our Philoptochos as we will reenact our Greek Orthodox tradition.\nBring with you your lenten food and become part of our greater church family.\nFor more details call Dora Sfikas at (781) 395-1403 or the Church office at (617) 625-2222.
URL:https://www.greekboston.com/event/clean-monday-somerville-ma/
LOCATION:Dormition of the Virgin Mary Greek Orthodox Church\, 29 Central Street\, Somerville\, MA\, 02143\, United States
CATEGORIES:Greek Events in Boston and the New England Area
ATTACH;FMTTYPE=image/jpeg:https://e498h76z5mp.exactdn.com/wp-content/uploads/2017/02/16640923_1727139873978415_4327359965084030162_n.jpg
END:VEVENT
BEGIN:VEVENT
DTSTART;TZID=America/New_York:20170301T173000
DTEND;TZID=America/New_York:20170301T193000
DTSTAMP:20260423T143519
CREATED:20170228T195938Z
LAST-MODIFIED:20170228T195938Z
UID:61468-1488389400-1488396600@www.greekboston.com
SUMMARY:Lenten Pot Luck at Saint Sophia Greek Church New London CT
DESCRIPTION:Join us in worship as we celebrate the first Presanctifed Liturgy of the Great and Holy Lent on Wednesday\, March 1st at 5:30 pm
URL:https://www.greekboston.com/event/lenten-pot-luck-new-london-ct/
LOCATION:Saint Sophia Greek Church New London CT\, 200 Hempstead St\, New London\, Connecticut 06320\, New London\, CT\, 06320\, United States
CATEGORIES:Greek Events in Boston and the New England Area
ATTACH;FMTTYPE=image/jpeg:https://e498h76z5mp.exactdn.com/wp-content/uploads/2017/02/16939389_10154858822915549_2298361863168825639_n.jpg
END:VEVENT
BEGIN:VEVENT
DTSTART;TZID=America/New_York:20170301T180000
DTEND;TZID=America/New_York:20170301T203000
DTSTAMP:20260423T143519
CREATED:20170226T132844Z
LAST-MODIFIED:20170226T132844Z
UID:61402-1488391200-1488400200@www.greekboston.com
SUMMARY:Practicing What We Preach Event at St. Philip Greek Church Nashua NH
DESCRIPTION:Our Lenten Orthodox Life Series\, “Practicing What We Preach\,” begins this Wed.\, March 1\, with Dr. Philip Mamalakis. Join us for PreSanctified Liturgy at 6 pm\, with a Lenten dinner and Philip’s presentation to follow. All parishioners\, friends and the general public welcome–event is free!
URL:https://www.greekboston.com/event/practicing-preach-nashua-nh/
LOCATION:St. Philip Greek Orthodox Church – Nashua\, NH\, 500 West Hollis Street\, Nashua\, NH\, 03062\, United States
CATEGORIES:Greek Events in Boston and the New England Area
ATTACH;FMTTYPE=image/png:https://e498h76z5mp.exactdn.com/wp-content/uploads/2017/02/16806837_1393749317363052_1697905281917844940_n.png
END:VEVENT
BEGIN:VEVENT
DTSTART;TZID=America/New_York:20170301T180000
DTEND;TZID=America/New_York:20170301T210000
DTSTAMP:20260423T143519
CREATED:20170228T201411Z
LAST-MODIFIED:20170228T201411Z
UID:61475-1488391200-1488402000@www.greekboston.com
SUMMARY:Lenten Dinner at Transfiguration Greek Church Lowell MA
DESCRIPTION:
URL:https://www.greekboston.com/event/lenten-dinner-lowell-ma/
LOCATION:Transfiguration Greek Orthodox Church – Lowell\, MA\, 25 Fr. John Sarantos Way\, Lowell\, 01854\, United States
CATEGORIES:Greek Events in Boston and the New England Area
ATTACH;FMTTYPE=image/jpeg:https://e498h76z5mp.exactdn.com/wp-content/uploads/2017/02/15972808_1519148298114390_3866739012672372604_o.jpg
END:VEVENT
BEGIN:VEVENT
DTSTART;TZID=America/New_York:20170302T180000
DTEND;TZID=America/New_York:20170302T210000
DTSTAMP:20260423T143519
CREATED:20170127T163308Z
LAST-MODIFIED:20170127T163308Z
UID:60454-1488477600-1488488400@www.greekboston.com
SUMMARY:Art Auction at St. Vasilios Greek Church Peabody MA
DESCRIPTION:
URL:https://www.greekboston.com/event/art-auction-peabody-ma/
LOCATION:St. Vasilios Greek Orthodox Church\, 5 Paleologos Street\, Peabody\, MA\, 01960\, United States
CATEGORIES:Greek Events in Boston and the New England Area
ATTACH;FMTTYPE=image/jpeg:https://e498h76z5mp.exactdn.com/wp-content/uploads/2017/01/Art-Auction-page-001.jpg
END:VEVENT
BEGIN:VEVENT
DTSTART;TZID=America/New_York:20170305T090000
DTEND;TZID=America/New_York:20170305T120000
DTSTAMP:20260423T143519
CREATED:20170301T220905Z
LAST-MODIFIED:20170301T220905Z
UID:61534-1488704400-1488715200@www.greekboston.com
SUMMARY:Sunday of Orthodoxy at Greek Church of St Luke East Longmeadow
DESCRIPTION:
URL:https://www.greekboston.com/event/sunday-orthodoxy-east-longmeadow-ma/
LOCATION:Greek Orthodox Church of St Luke East Longmeadow MA\, 400 Prospect Street\, East Longmeadow\, MA 01028-3154\, MA\, 01028-3154\, United States
CATEGORIES:Greek Events in Boston and the New England Area
ATTACH;FMTTYPE=image/png:https://e498h76z5mp.exactdn.com/wp-content/uploads/2017/03/16904606_1577967088887939_7743622229111854283_o-2.png
END:VEVENT
BEGIN:VEVENT
DTSTART;TZID=America/New_York:20170305T133000
DTEND;TZID=America/New_York:20170305T160000
DTSTAMP:20260423T143519
CREATED:20170228T193511Z
LAST-MODIFIED:20170228T193511Z
UID:61457-1488720600-1488729600@www.greekboston.com
SUMMARY:Greek Independence Day Program in Brookline MA
DESCRIPTION:
URL:https://www.greekboston.com/event/independence-day-brookline-ma/
LOCATION:Maliotis Cultural Center\, 50 Goddard Avenue\, Brookline\, MA\, 02130\, United States
CATEGORIES:Greek Events in Boston and the New England Area
ATTACH;FMTTYPE=image/jpeg:https://e498h76z5mp.exactdn.com/wp-content/uploads/2017/02/Maliotis-Center-3-5-17.jpg
END:VEVENT
BEGIN:VEVENT
DTSTART;VALUE=DATE:20170306
DTEND;VALUE=DATE:20170307
DTSTAMP:20260423T143519
CREATED:20170228T195319Z
LAST-MODIFIED:20170228T195319Z
UID:61462-1488758400-1488844799@www.greekboston.com
SUMMARY:Clothing Drive Fundraiser at St. Philip Greek Church Nashua NH
DESCRIPTION:
URL:https://www.greekboston.com/event/clothing-drive-fundraiser-nashua-nh/
LOCATION:St. Philip Greek Orthodox Church – Nashua\, NH\, 500 West Hollis Street\, Nashua\, NH\, 03062\, United States
CATEGORIES:Greek Events in Boston and the New England Area
ATTACH;FMTTYPE=image/jpeg:https://e498h76z5mp.exactdn.com/wp-content/uploads/2017/02/16797041_1378535592217758_5631210440095288641_o.jpg
END:VEVENT
BEGIN:VEVENT
DTSTART;VALUE=DATE:20170310
DTEND;VALUE=DATE:20170313
DTSTAMP:20260423T143519
CREATED:20160212T124417Z
LAST-MODIFIED:20170111T153639Z
UID:53564-1489104000-1489363199@www.greekboston.com
SUMMARY:Greek Ski Weekend at Sunday River Maine
DESCRIPTION:
URL:https://www.greekboston.com/event/ski-trip-peabody-ma/
LOCATION:Sunday River Ski Resort Newry ME\, 15 Sout Ridge Road\, Newry\, ME\, 04261\, United States
CATEGORIES:Greek Events in Boston and the New England Area
ATTACH;FMTTYPE=image/jpeg:https://e498h76z5mp.exactdn.com/wp-content/uploads/2016/02/Greek-Ski-Trip-Flyer1.jpg
END:VEVENT
BEGIN:VEVENT
DTSTART;TZID=America/New_York:20170310T180000
DTEND;TZID=America/New_York:20170310T200000
DTSTAMP:20260423T143519
CREATED:20170211T142527Z
LAST-MODIFIED:20170223T221717Z
UID:60857-1489168800-1489176000@www.greekboston.com
SUMMARY:OPA-cize Greek Dance Fitness Cambridge MA
DESCRIPTION:
URL:https://www.greekboston.com/event/opa-cize-fitness-cambridge-ma/
LOCATION:Greek American Political Club\, 288 Green Street\, Cambridge\, 02139\, United States
CATEGORIES:Greek Events in Boston and the New England Area
ATTACH;FMTTYPE=image/jpeg:https://e498h76z5mp.exactdn.com/wp-content/uploads/2017/02/16602399_265362680551407_3994892399887035890_o.jpg
END:VEVENT
BEGIN:VEVENT
DTSTART;TZID=America/New_York:20170311T190000
DTEND;TZID=America/New_York:20170311T220000
DTSTAMP:20260423T143519
CREATED:20170306T224123Z
LAST-MODIFIED:20170306T224123Z
UID:61713-1489258800-1489269600@www.greekboston.com
SUMMARY:Dancing for a Cause Event at St Luke Greek Church East Longmeadow
DESCRIPTION:
URL:https://www.greekboston.com/event/dancing-cause-east-longmeadow-ma/
LOCATION:Greek Orthodox Church of St Luke\, 400 Prospect Street \, East Longmeadow\, MA\, 01028\, United States
CATEGORIES:Greek Events in Boston and the New England Area
ATTACH;FMTTYPE=image/png:https://e498h76z5mp.exactdn.com/wp-content/uploads/2017/03/17038638_1584317578252890_8046785344858448277_o.png
END:VEVENT
BEGIN:VEVENT
DTSTART;TZID=America/New_York:20170313T190000
DTEND;TZID=America/New_York:20170313T210000
DTSTAMP:20260423T143519
CREATED:20170224T225145Z
LAST-MODIFIED:20170224T225145Z
UID:61391-1489431600-1489438800@www.greekboston.com
SUMMARY:Joanna Bertsekas\, Ph.D.\, “Aeschylus’ Oresteia at The Greek Institute Cambridge MA
DESCRIPTION:“Aeschylus’ Oresteia: From vendetta and retribution to civil institutions and community strength: a talk in two parts”\nJoanna Bertsekas\, Ph.D\, will summarize briefly Aeschylus’ Oresteia trilogy and explain the main theme that is the transformation of justice (Dike) from retribution\, to the rule of law. Aeschylus wrote his trilogy as the Polis (Athens) was entering the period of direct Democracy and was strengthening its legal and social institutions.\nJoanna Bertsekas is a docent at the Museum of Fine Arts where for nine years she has been conducting tours for the Education department. Images of the Oresteia plays by Aeschylus are represented on vases in the MFA’s renowned Ancient Greek collection. The plays still inspire people around the world and the trilogy is frequently performed on stage. Free and open to the public. Donations are welcome.
URL:https://www.greekboston.com/event/joanna-bertsekas-cambridge-ma/
LOCATION:The Greek Institute\, 1038 Massachusetts Avenue\, Cambridge\, MA\, 02138\, United States
CATEGORIES:Greek Events in Boston and the New England Area
ATTACH;FMTTYPE=image/jpeg:https://e498h76z5mp.exactdn.com/wp-content/uploads/2017/02/16835967_10155090118874529_2847700433236757159_o.jpg
END:VEVENT
BEGIN:VEVENT
DTSTART;TZID=America/New_York:20170315T180000
DTEND;TZID=America/New_York:20170315T210000
DTSTAMP:20260423T143519
CREATED:20170306T191101Z
LAST-MODIFIED:20170306T191101Z
UID:61672-1489600800-1489611600@www.greekboston.com
SUMMARY:Parenting Toward the Kingdom Book Lecture at Sts. Constantine and Helen Greek Orthodox Church Webster MA
DESCRIPTION:
URL:https://www.greekboston.com/event/book-lecture-webster-ma/
LOCATION:Sts Constantine and Helen Greek Orthodox Church – Andover\, MA\, 71 Chandler Road\, Andover\, MA\, 01810\, United States
CATEGORIES:Greek Events in Boston and the New England Area
ATTACH;FMTTYPE=image/png:https://e498h76z5mp.exactdn.com/wp-content/uploads/2017/03/Parenting-Toward-the-Kingdom.png
END:VEVENT
BEGIN:VEVENT
DTSTART;TZID=America/New_York:20170316T200000
DTEND;TZID=America/New_York:20170316T220000
DTSTAMP:20260423T143519
CREATED:20170313T160138Z
LAST-MODIFIED:20170313T160138Z
UID:61886-1489694400-1489701600@www.greekboston.com
SUMMARY:HSA of MIT Movie Screening: Afstiros Katallilo
DESCRIPTION:
URL:https://www.greekboston.com/event/hsa-mit-afstiros-katallilo/
LOCATION:MIT Sloan E62-262\, 100 Main Street\, Cambridge\, MA\, 02142\, United States
CATEGORIES:Greek Events in Boston and the New England Area
ATTACH;FMTTYPE=image/jpeg:https://e498h76z5mp.exactdn.com/wp-content/uploads/2017/03/17240690_629666233883141_1017305026584705264_o.jpg
END:VEVENT
BEGIN:VEVENT
DTSTART;TZID=America/New_York:20170318T083000
DTEND;TZID=America/New_York:20170318T150000
DTSTAMP:20260423T143519
CREATED:20170308T212536Z
LAST-MODIFIED:20170308T212536Z
UID:61772-1489825800-1489849200@www.greekboston.com
SUMMARY:Church Music Institute at Annunciation Greek Church Newburyport MA
DESCRIPTION:
URL:https://www.greekboston.com/event/church-music-newburyport-ma/
LOCATION:Annunciation Greek Orthodox Church – Newburyport\, MA\, 7 Harris St \, Newburyport\, MA\, 01950\, United States
CATEGORIES:Greek Events in Boston and the New England Area
ATTACH;FMTTYPE=image/jpeg:https://e498h76z5mp.exactdn.com/wp-content/uploads/2017/03/17097532_969930859810021_9220586260132713827_o-2.jpg
END:VEVENT
BEGIN:VEVENT
DTSTART;TZID=America/New_York:20170318T090000
DTEND;TZID=America/New_York:20170318T140000
DTSTAMP:20260423T143519
CREATED:20170315T153721Z
LAST-MODIFIED:20170315T153721Z
UID:61944-1489827600-1489845600@www.greekboston.com
SUMMARY:American Red Cross Blood Drive Brockton MA
DESCRIPTION:
URL:https://www.greekboston.com/event/american-red-cross-blood-drive-brockton-ma/
LOCATION:Annunciation Greek Orthodox Church – Brockton\, MA\, 457 Oak Street\, Brockton\, MA\, 02401\, United States
CATEGORIES:Greek Events in Boston and the New England Area
ATTACH;FMTTYPE=image/jpeg:https://e498h76z5mp.exactdn.com/wp-content/uploads/2017/03/17240263_10154190212631436_4446224423637756465_o.jpg
END:VEVENT
BEGIN:VEVENT
DTSTART;TZID=America/New_York:20170318T150000
DTEND;TZID=America/New_York:20170318T180000
DTSTAMP:20260423T143519
CREATED:20170221T195749Z
LAST-MODIFIED:20170224T221551Z
UID:61260-1489849200-1489860000@www.greekboston.com
SUMMARY:Saturday Afternoon Tea at St. Athanasius the Great Greek Church Arlington MA
DESCRIPTION:
URL:https://www.greekboston.com/event/afternoon-tea-arlington-ma/
LOCATION:St. Athanasius the Great Greek Orthodox Church – Arlington\, MA\, 4 Appleton St\, Arlington\, MA\, 02476\, United States
CATEGORIES:Greek Events in Boston and the New England Area
ATTACH;FMTTYPE=image/jpeg:https://e498h76z5mp.exactdn.com/wp-content/uploads/2017/02/IMG_0229-e1487707017577.jpg
END:VEVENT
BEGIN:VEVENT
DTSTART;TZID=America/New_York:20170318T193000
DTEND;TZID=America/New_York:20170318T230000
DTSTAMP:20260423T143519
CREATED:20170302T203033Z
LAST-MODIFIED:20170302T203033Z
UID:61565-1489865400-1489878000@www.greekboston.com
SUMMARY:Epirotic Greek Music and Dancing in Cambridge MA
DESCRIPTION:
URL:https://www.greekboston.com/event/epirotic-cambridge-ma/
LOCATION:Greek American Political Club\, 288 Green Street\, Cambridge\, 02139\, United States
CATEGORIES:Greek Events in Boston and the New England Area
ATTACH;FMTTYPE=image/gif:https://e498h76z5mp.exactdn.com/wp-content/uploads/2017/03/Cambridge-Event.gif
END:VEVENT
BEGIN:VEVENT
DTSTART;TZID=America/New_York:20170323T183000
DTEND;TZID=America/New_York:20170323T220000
DTSTAMP:20260423T143520
CREATED:20170302T200839Z
LAST-MODIFIED:20170302T200839Z
UID:61556-1490293800-1490306400@www.greekboston.com
SUMMARY:Wine Dinner at Doretta Taverna Boston MA
DESCRIPTION:
URL:https://www.greekboston.com/event/wine-dinner-doretta/
LOCATION:Doretta Taverna & Raw Bar Boston MA\, 79 Park Plaza\, Boston\, MA\, 02116\, United States
CATEGORIES:Greek Events in Boston and the New England Area
ATTACH;FMTTYPE=image/png:https://e498h76z5mp.exactdn.com/wp-content/uploads/2017/03/Wine-Dinner-Flyer-3.23.png
END:VEVENT
BEGIN:VEVENT
DTSTART;TZID=America/New_York:20170325T113000
DTEND;TZID=America/New_York:20170325T120000
DTSTAMP:20260423T143520
CREATED:20170223T215506Z
LAST-MODIFIED:20170223T215506Z
UID:61339-1490441400-1490443200@www.greekboston.com
SUMMARY:Flag Hoisting Ceremony at Saint Sophia Church Greek Church New London CT
DESCRIPTION:Saint Sophia Church\, the Order of AHEPA\, and the Greek-American community of southeastern the take this opportunity to invite you to join the flag-hoisting ceremony on Saturday\, March 25th at 11:30 am as we gather to celebrate Greek Independence Day. The ceremony will take place at Saint Sophia Church with a reception to follow in the Community Center.
URL:https://www.greekboston.com/event/flag-hoisting-new-london-ct/
LOCATION:Saint Sophia Greek Church New London CT\, 200 Hempstead St\, New London\, Connecticut 06320\, New London\, CT\, 06320\, United States
CATEGORIES:Greek Events in Boston and the New England Area
ATTACH;FMTTYPE=image/jpeg:https://e498h76z5mp.exactdn.com/wp-content/uploads/2017/02/16835881_10154856349745549_1618767650273527431_o.jpg
END:VEVENT
BEGIN:VEVENT
DTSTART;TZID=America/New_York:20170325T200000
DTEND;TZID=America/New_York:20170325T230000
DTSTAMP:20260423T143520
CREATED:20170205T140447Z
LAST-MODIFIED:20170219T122723Z
UID:60669-1490472000-1490482800@www.greekboston.com
SUMMARY:Mario Frangoulis Concert Cambridge MA
DESCRIPTION:TICKET INFORMATION\nHARVARD UNIVERSITY:  WWW.BOXOFFICE.HARVARD.EDU and search for MARIO FRANGOULIS \nTHE GREEK INSTITUTE:  CALL: 617.547.4770 / EMAIL: GREEKINST@VERIZON.NET \nMARIO FRANGOULIS:  WWW.MARIOFRANGOULIS.COM/CONCERTS and WWW.FACEBOOK.COM/MARIOFRANGOULIS (EVENTS PAGE)  \nPRICES: $95.00 | $75.00 | $65.00 | $45.00 and $5.00 discounts available for Senior Citizens and Students for any ticket level. Groups of 10+ people are eligible for a 10% discount. 
URL:https://www.greekboston.com/event/mario-frangoulis/
LOCATION:Sanders Theatre – Harvard University\, 45 Quincy Street\, Cambridge\, MA\, 02138\, United States
CATEGORIES:Greek Events in Boston and the New England Area
ATTACH;FMTTYPE=image/jpeg:https://e498h76z5mp.exactdn.com/wp-content/uploads/2017/02/fb19d837d1f2804229d47b9f15b2de53609e948f_1486243180.jpeg
END:VEVENT
END:VCALENDAR