BEGIN:VCALENDAR
VERSION:2.0
PRODID:-// - ECPv6.15.20//NONSGML v1.0//EN
CALSCALE:GREGORIAN
METHOD:PUBLISH
X-ORIGINAL-URL:https://www.greekboston.com
X-WR-CALDESC:Events for 
REFRESH-INTERVAL;VALUE=DURATION:PT1H
X-Robots-Tag:noindex
X-PUBLISHED-TTL:PT1H
BEGIN:VTIMEZONE
TZID:America/New_York
BEGIN:DAYLIGHT
TZOFFSETFROM:-0500
TZOFFSETTO:-0400
TZNAME:EDT
DTSTART:20220313T070000
END:DAYLIGHT
BEGIN:STANDARD
TZOFFSETFROM:-0400
TZOFFSETTO:-0500
TZNAME:EST
DTSTART:20221106T060000
END:STANDARD
BEGIN:DAYLIGHT
TZOFFSETFROM:-0500
TZOFFSETTO:-0400
TZNAME:EDT
DTSTART:20230312T070000
END:DAYLIGHT
BEGIN:STANDARD
TZOFFSETFROM:-0400
TZOFFSETTO:-0500
TZNAME:EST
DTSTART:20231105T060000
END:STANDARD
BEGIN:DAYLIGHT
TZOFFSETFROM:-0500
TZOFFSETTO:-0400
TZNAME:EDT
DTSTART:20240310T070000
END:DAYLIGHT
BEGIN:STANDARD
TZOFFSETFROM:-0400
TZOFFSETTO:-0500
TZNAME:EST
DTSTART:20241103T060000
END:STANDARD
END:VTIMEZONE
BEGIN:VEVENT
DTSTART;VALUE=DATE:20231119
DTEND;VALUE=DATE:20231120
DTSTAMP:20260423T143313
CREATED:20231113T193541Z
LAST-MODIFIED:20231113T193541Z
UID:91284-1700352000-1700438399@www.greekboston.com
SUMMARY:Friends Giving Pot Luck at Sts. Constantine & Helen Greek Church Andover MA
DESCRIPTION:
URL:https://www.greekboston.com/event/pot-luck-andover-ma/
LOCATION:Sts Constantine and Helen Greek Orthodox Church – Andover\, MA\, 71 Chandler Road\, Andover\, MA\, 01810\, United States
CATEGORIES:Greek Events in Boston and the New England Area
ATTACH;FMTTYPE=image/jpeg:https://e498h76z5mp.exactdn.com/wp-content/uploads/2023/11/399999121_722794206551064_1107981250583703367_n.jpg
END:VEVENT
BEGIN:VEVENT
DTSTART;VALUE=DATE:20231122
DTEND;VALUE=DATE:20231124
DTSTAMP:20260423T143313
CREATED:20171027T205947Z
LAST-MODIFIED:20231109T175126Z
UID:67271-1700611200-1700783999@www.greekboston.com
SUMMARY:Pre Thanksgiving Greek Bash
DESCRIPTION:
URL:https://www.greekboston.com/event/thanksgiving-bash/
LOCATION:Mazi\, 320 Pond Street\, Ashland\, MA\, 01721\, United States
CATEGORIES:Greek Events in Boston and the New England Area
ATTACH;FMTTYPE=image/png:https://e498h76z5mp.exactdn.com/wp-content/uploads/2017/10/Screenshot-2023-11-09-at-12.50.01-PM.png
END:VEVENT
BEGIN:VEVENT
DTSTART;VALUE=DATE:20231125
DTEND;VALUE=DATE:20231126
DTSTAMP:20260423T143313
CREATED:20230630T154539Z
LAST-MODIFIED:20230630T154551Z
UID:90756-1700870400-1700956799@www.greekboston.com
SUMMARY:North Shore Hellenic Women’s Guild Luncheon
DESCRIPTION:
URL:https://www.greekboston.com/event/hellenic-womens-guild-luncheon/
LOCATION:Danversport Yacht Club Danvers MA\, 161 Elliott St\, Danvers\, Massachusetts 01923\, Danvers\, MA\, 01923\, United States
CATEGORIES:Greek Events in Boston and the New England Area
ATTACH;FMTTYPE=image/png:https://e498h76z5mp.exactdn.com/wp-content/uploads/2023/06/Screenshot-2023-06-30-at-11.44.51-AM.png
END:VEVENT
BEGIN:VEVENT
DTSTART;VALUE=DATE:20231125
DTEND;VALUE=DATE:20231126
DTSTAMP:20260423T143313
CREATED:20231002T211403Z
LAST-MODIFIED:20231002T211403Z
UID:91053-1700870400-1700956799@www.greekboston.com
SUMMARY:Greek Dance at St. George Greek Church Dartmouth MA
DESCRIPTION:
URL:https://www.greekboston.com/event/dance-dartmouth-ma/
LOCATION:St. George Greek Orthodox Church – N. Dartmouth\, MA\, 186 Cross Road \, North Dartmouth\, MA\, 02747\, United States
CATEGORIES:Greek Events in Boston and the New England Area
ATTACH;FMTTYPE=image/jpeg:https://e498h76z5mp.exactdn.com/wp-content/uploads/2023/10/385879599_698313418993340_1491949334795104778_n.jpg
END:VEVENT
BEGIN:VEVENT
DTSTART;VALUE=DATE:20231125
DTEND;VALUE=DATE:20231126
DTSTAMP:20260423T143313
CREATED:20171226T221840Z
LAST-MODIFIED:20231114T211950Z
UID:68417-1700870400-1700956799@www.greekboston.com
SUMMARY:Ilona Greek Night in Boston MA
DESCRIPTION:Ilona South End\, one of MAZI Food Group’s newest concepts\, is hosting its monthly Ilona Greek Night on Saturday\, November 25 from 10pm-2am. Presented in partnership with Greek AF Radio and sponsored by Hellenic Boston Businesses Unite\, guests are invited to attend with free entry\, indulge in the restaurant & lounge bar’s sophisticated cocktails & authentic dishes inspired by the region between the eastern Mediterranean and the shores of the Black Sea\, and enjoy the Greek house sounds from DJ Souhleris.\nGreek AF Radio is the largest Greek streaming platform in the world\, based in Boston. Hellenic Boston Businesses Unite is a newly launched nonprofit that works to network Greek Boston-based businesses & professionals and support the Metropolis of Boston Camp and The SOTIR Center in Thessaloniki\, Greece. Ilona South End is part of MAZI Food Group\, which aims to transport its diners on a culinary journey through the shores of the Mediterranean\, and is located at 783 Tremont Street\, Boston MA 02118. Entry for Ilona Greek Night is free of charge and table reservations can be made by calling (617) 293-8557.
URL:https://www.greekboston.com/event/ilona-night/
LOCATION:Ilona\, 783 Tremont Street\, Boston\, 02118\, United States
CATEGORIES:Greek Events in Boston and the New England Area
ATTACH;FMTTYPE=image/jpeg:https://e498h76z5mp.exactdn.com/wp-content/uploads/2017/12/ILONAGRKNIGHTNOV2523.jpg
END:VEVENT
BEGIN:VEVENT
DTSTART;VALUE=DATE:20231130
DTEND;VALUE=DATE:20231201
DTSTAMP:20260423T143313
CREATED:20211110T222020Z
LAST-MODIFIED:20231108T234727Z
UID:87720-1701302400-1701388799@www.greekboston.com
SUMMARY:Greek Pastry Pre-Order Event at St. Philip Greek Church Nashua NH
DESCRIPTION:The St. Philip Greek Orthodox Church community is hosting a Pastry Pre-Order Event.\nLet us do your holiday baking! Complement your Christmas table with all your favorite Greek pastries!\n✔️Pre-ordering available starting today – November 30th\n✔️PICK up orders: Friday\, December 15\, 5pm-8pm OR Saturday\, December 16\, 9am-2pm\n✔️ORDER: nashuagreekfestival.com or call 603-889-4000\n*All net proceeds to benefit our Metropolis of Boston Camp*
URL:https://www.greekboston.com/event/pastry-pre-order-nashua-nh/
LOCATION:St. Philip Greek Orthodox Church – Nashua\, NH\, 500 West Hollis Street\, Nashua\, NH\, 03062\, United States
CATEGORIES:Greek Events in Boston and the New England Area
ATTACH;FMTTYPE=image/png:https://e498h76z5mp.exactdn.com/wp-content/uploads/2021/11/Pastry-pre-order-event-2023-1.png
END:VEVENT
BEGIN:VEVENT
DTSTART;VALUE=DATE:20231130
DTEND;VALUE=DATE:20231201
DTSTAMP:20260423T143313
CREATED:20231113T194251Z
LAST-MODIFIED:20231113T194251Z
UID:91289-1701302400-1701388799@www.greekboston.com
SUMMARY:Christmas Bread Bake Sale St. George Church Dartmouth MA
DESCRIPTION:
URL:https://www.greekboston.com/event/bake-sale-dartmouth-ma/
LOCATION:St. George Greek Orthodox Church – N. Dartmouth\, MA\, 186 Cross Road \, North Dartmouth\, MA\, 02747\, United States
CATEGORIES:Greek Events in Boston and the New England Area
ATTACH;FMTTYPE=image/jpeg:https://e498h76z5mp.exactdn.com/wp-content/uploads/2023/11/369783480_748843847287109_3929865265949162490_n.jpg
END:VEVENT
BEGIN:VEVENT
DTSTART;VALUE=DATE:20231201
DTEND;VALUE=DATE:20231202
DTSTAMP:20260423T143313
CREATED:20231107T150457Z
LAST-MODIFIED:20231107T150511Z
UID:91253-1701388800-1701475199@www.greekboston.com
SUMMARY:Bingo Night at Pontiaki Estia Boston
DESCRIPTION:
URL:https://www.greekboston.com/event/bingo-night-at-pontiaki-estia-boston-ma/
LOCATION:Pontiaki Estia of Massachusetts\, 469 Albany Street\, Boston\, MA\, 02118\, United States
CATEGORIES:Greek Events in Boston and the New England Area
ATTACH;FMTTYPE=image/jpeg:https://e498h76z5mp.exactdn.com/wp-content/uploads/2023/11/400439307_2302070036850077_6449984767333144349_n.jpg
END:VEVENT
BEGIN:VEVENT
DTSTART;VALUE=DATE:20231202
DTEND;VALUE=DATE:20231203
DTSTAMP:20260423T143313
CREATED:20230901T185930Z
LAST-MODIFIED:20231114T211246Z
UID:90932-1701475200-1701561599@www.greekboston.com
SUMMARY:Angela Dimitriou and Christos Dantis Concert in Boston
DESCRIPTION:
URL:https://www.greekboston.com/event/angela-dimitriou-christos-dantis/
LOCATION:Oceanside Revere MA\, 1290 N Shore Rd\, Revere\, 02151\, United States
CATEGORIES:Greek Events in Boston and the New England Area
ATTACH;FMTTYPE=image/jpeg:https://e498h76z5mp.exactdn.com/wp-content/uploads/2023/09/PHOTO-2023-11-14-02-02-45-1.jpg
END:VEVENT
BEGIN:VEVENT
DTSTART;VALUE=DATE:20231202
DTEND;VALUE=DATE:20231203
DTSTAMP:20260423T143313
CREATED:20231023T214937Z
LAST-MODIFIED:20231023T214937Z
UID:91152-1701475200-1701561599@www.greekboston.com
SUMMARY:Gala Dinner at Dormition of the Virgin Mary Greek Church Somerville MA
DESCRIPTION:
URL:https://www.greekboston.com/event/gala-dinner-somerville-ma/
LOCATION:Dormition of the Virgin Mary Greek Orthodox Church\, 29 Central Street\, Somerville\, MA\, 02143\, United States
CATEGORIES:Greek Events in Boston and the New England Area
ATTACH;FMTTYPE=image/jpeg:https://e498h76z5mp.exactdn.com/wp-content/uploads/2023/10/393300742_738767811628818_6968544200974758046_n.jpg
END:VEVENT
BEGIN:VEVENT
DTSTART;VALUE=DATE:20231202
DTEND;VALUE=DATE:20231203
DTSTAMP:20260423T143313
CREATED:20231120T231038Z
LAST-MODIFIED:20231120T231121Z
UID:91316-1701475200-1701561599@www.greekboston.com
SUMMARY:Alexandros Kyriakopoulos Piano Recital
DESCRIPTION:
URL:https://www.greekboston.com/event/alexandros-kyriakopoulos-piano-recital/
LOCATION:Seully Hall – Boston Conservatory at Berklee\, 8 Fenway\, Boston\, MA\, 02215\, United States
CATEGORIES:Greek Events in Boston and the New England Area
ATTACH;FMTTYPE=image/jpeg:https://e498h76z5mp.exactdn.com/wp-content/uploads/2023/11/402013415_2646171838874921_7599425067911231994_n.jpg
END:VEVENT
BEGIN:VEVENT
DTSTART;VALUE=DATE:20231202
DTEND;VALUE=DATE:20231203
DTSTAMP:20260423T143313
CREATED:20181114T221950Z
LAST-MODIFIED:20231120T231657Z
UID:74442-1701475200-1701561599@www.greekboston.com
SUMMARY:Christmas Tree Lighting and Potluck at Annunciation Greek Church Brockton MA
DESCRIPTION:
URL:https://www.greekboston.com/event/tree-lighting-potluck-brockton-ma/
LOCATION:Annunciation Greek Orthodox Church – Brockton\, MA\, 457 Oak Street\, Brockton\, MA\, 02401\, United States
CATEGORIES:Greek Events in Boston and the New England Area
ATTACH;FMTTYPE=image/jpeg:https://e498h76z5mp.exactdn.com/wp-content/uploads/2018/11/405000846_745706090918679_154400180335044800_n.jpg
END:VEVENT
BEGIN:VEVENT
DTSTART;VALUE=DATE:20231202
DTEND;VALUE=DATE:20231203
DTSTAMP:20260423T143313
CREATED:20181023T142131Z
LAST-MODIFIED:20231117T163754Z
UID:74050-1701475200-1701561599@www.greekboston.com
SUMMARY:GOYA Greek Dance at St Catherine Greek Church Braintree MA
DESCRIPTION:
URL:https://www.greekboston.com/event/dance-braintree-ma/
LOCATION:Saint Catherine Greek Orthodox Church\, 119 Common Street\, Braintree\, MA\, 02184\, United States
CATEGORIES:Greek Events in Boston and the New England Area
ATTACH;FMTTYPE=image/png:https://e498h76z5mp.exactdn.com/wp-content/uploads/2018/10/Screenshot-2023-11-17-at-11.37.17-AM.png
END:VEVENT
BEGIN:VEVENT
DTSTART;VALUE=DATE:20231202
DTEND;VALUE=DATE:20231203
DTSTAMP:20260423T143313
CREATED:20141201T220337Z
LAST-MODIFIED:20231120T231446Z
UID:44989-1701475200-1701561599@www.greekboston.com
SUMMARY:Christmas Bazaar at St. George Greek Church in Keene NH
DESCRIPTION:
URL:https://www.greekboston.com/event/christmas-bazaar-keene-nh/
LOCATION:St. George Greek Orthodox Church – Keene\, NH\, 70 West Street \, Keene\, NH\, 03431\, United States
CATEGORIES:Greek Events in Boston and the New England Area
ATTACH;FMTTYPE=image/jpeg:https://e498h76z5mp.exactdn.com/wp-content/uploads/2014/12/401730326_762266952607750_2621180170643259955_n.jpg
END:VEVENT
BEGIN:VEVENT
DTSTART;VALUE=DATE:20231203
DTEND;VALUE=DATE:20231204
DTSTAMP:20260423T143313
CREATED:20231017T172054Z
LAST-MODIFIED:20231115T220013Z
UID:91126-1701561600-1701647999@www.greekboston.com
SUMMARY:Boston Lykeion Ellinidon 25th Anniversary Event
DESCRIPTION:
URL:https://www.greekboston.com/event/lykeion-ellinidon-25th-anniversary/
LOCATION:Maliotis Cultural Center\, 50 Goddard Avenue\, Brookline\, MA\, 02130\, United States
CATEGORIES:Greek Events in Boston and the New England Area
ATTACH;FMTTYPE=image/png:https://e498h76z5mp.exactdn.com/wp-content/uploads/2023/10/PNGble.png
END:VEVENT
BEGIN:VEVENT
DTSTART;VALUE=DATE:20231203
DTEND;VALUE=DATE:20231204
DTSTAMP:20260423T143313
CREATED:20231026T221935Z
LAST-MODIFIED:20231026T221935Z
UID:91176-1701561600-1701647999@www.greekboston.com
SUMMARY:Gala Luncheon at Dormition of the Virgin Mary Greek Church Somerville MA
DESCRIPTION:
URL:https://www.greekboston.com/event/gala-luncheon-somerville-ma/
LOCATION:Dormition of the Virgin Mary Greek Orthodox Church\, 29 Central Street\, Somerville\, MA\, 02143\, United States
CATEGORIES:Greek Events in Boston and the New England Area
ATTACH;FMTTYPE=image/jpeg:https://e498h76z5mp.exactdn.com/wp-content/uploads/2023/10/395447005_741790187993247_192629649858860338_n.jpg
END:VEVENT
BEGIN:VEVENT
DTSTART;VALUE=DATE:20231203
DTEND;VALUE=DATE:20231204
DTSTAMP:20260423T143313
CREATED:20231102T211356Z
LAST-MODIFIED:20231102T211356Z
UID:91233-1701561600-1701647999@www.greekboston.com
SUMMARY:A Village Murder\, presented by author Jonathan Exaros
DESCRIPTION:A Village Murder\, presented by author Jonathan Exaros\nSunday\, December 3\, 2023 at 12:15pm\nLocation: St. George Greek Orthodox Cathedral\, 650 Hanover St.\,\nManchester\, NH 03104\nOpen to the public\, and admission is free.\nFor more information\, please call 603-622-9113\nor\, write to Library@StGeorgeNH.org
URL:https://www.greekboston.com/event/village-murder-jonathan-exaros/
LOCATION:St. George Greek Orthodox Cathedral – Manchester\, NH\, 650 Hanover Street\, Manchester\, NH\, 03104\, United States
CATEGORIES:Greek Events in Boston and the New England Area
ATTACH;FMTTYPE=image/jpeg:https://e498h76z5mp.exactdn.com/wp-content/uploads/2023/11/flier-1.jpg
END:VEVENT
BEGIN:VEVENT
DTSTART;VALUE=DATE:20231203
DTEND;VALUE=DATE:20231204
DTSTAMP:20260423T143313
CREATED:20141106T172817Z
LAST-MODIFIED:20231108T152620Z
UID:44483-1701561600-1701647999@www.greekboston.com
SUMMARY:Christmas Party for St. Spyridon Greek Church Worcester MA
DESCRIPTION:
URL:https://www.greekboston.com/event/christmas-party-spyridon-worcester/
LOCATION:St. Spyridon Greek Orthodox Cathedral – Worcester\, 102 Russell Street\, Worcester\, MA\, 01609\, United States
CATEGORIES:Greek Events in Boston and the New England Area
ATTACH;FMTTYPE=image/jpeg:https://e498h76z5mp.exactdn.com/wp-content/uploads/2014/11/399435374_18320573023104797_8233099482176056190_n.jpg
END:VEVENT
BEGIN:VEVENT
DTSTART;VALUE=DATE:20231206
DTEND;VALUE=DATE:20231207
DTSTAMP:20260423T143313
CREATED:20231129T230339Z
LAST-MODIFIED:20260219T144007Z
UID:91340-1701820800-1701907199@www.greekboston.com
SUMMARY:St. Nicholas Children's Christmas Party in Brookline MA
DESCRIPTION:
URL:https://www.greekboston.com/event/childrens-christmas-party-brookline-ma/
LOCATION:Maliotis Cultural Center\, 50 Goddard Avenue\, Brookline\, MA\, 02130\, United States
CATEGORIES:Greek Events in Boston and the New England Area
ATTACH;FMTTYPE=image/jpeg:https://e498h76z5mp.exactdn.com/wp-content/uploads/2023/11/406290213_683534277243664_5853021076125386100_n.jpg
END:VEVENT
BEGIN:VEVENT
DTSTART;VALUE=DATE:20231209
DTEND;VALUE=DATE:20231210
DTSTAMP:20260423T143313
CREATED:20221107T203704Z
LAST-MODIFIED:20231108T163627Z
UID:89575-1702080000-1702166399@www.greekboston.com
SUMMARY:Christmas Concert at St. George Greek Church Lynn MA
DESCRIPTION:
URL:https://www.greekboston.com/event/christmas-concert-lynn-ma/
LOCATION:Saint George Greek Orthodox Church – Lynn\, MA\, 54 S Common Street\, Lynn\, MA\, United States
CATEGORIES:Greek Events in Boston and the New England Area
ATTACH;FMTTYPE=image/jpeg:https://e498h76z5mp.exactdn.com/wp-content/uploads/2022/11/2023-Concert-Flier-1.jpg
END:VEVENT
BEGIN:VEVENT
DTSTART;VALUE=DATE:20231209
DTEND;VALUE=DATE:20231210
DTSTAMP:20260423T143313
CREATED:20231207T224736Z
LAST-MODIFIED:20231207T224736Z
UID:91383-1702080000-1702166399@www.greekboston.com
SUMMARY:Youth Christmas Party at Saint George Greek Church Dartmouth MA
DESCRIPTION:
URL:https://www.greekboston.com/event/youth-christmas-party-dartmouth-ma/
LOCATION:St. George Greek Orthodox Church – N. Dartmouth\, MA\, 186 Cross Road \, North Dartmouth\, MA\, 02747\, United States
CATEGORIES:Greek Events in Boston and the New England Area
ATTACH;FMTTYPE=image/jpeg:https://e498h76z5mp.exactdn.com/wp-content/uploads/2023/12/408139266_735093668648648_4425678441159856980_n.jpg
END:VEVENT
BEGIN:VEVENT
DTSTART;VALUE=DATE:20231209
DTEND;VALUE=DATE:20231210
DTSTAMP:20260423T143313
CREATED:20191203T222446Z
LAST-MODIFIED:20231113T194613Z
UID:80548-1702080000-1702166399@www.greekboston.com
SUMMARY:Christmas Fair at Holy Trinity Greek Church Fitchburg MA
DESCRIPTION:
URL:https://www.greekboston.com/event/christmas-fair-fitchburg-ma/
LOCATION:Holy Trinity Greek Orthodox Church – Fitchburg\, MA\, 1319 Main Street\, Fitchburg\, MA\, 01420\, United States
CATEGORIES:Greek Events in Boston and the New England Area
ATTACH;FMTTYPE=image/jpeg:https://e498h76z5mp.exactdn.com/wp-content/uploads/2019/12/Christmas-Fair-scaled.jpg
END:VEVENT
BEGIN:VEVENT
DTSTART;VALUE=DATE:20231209
DTEND;VALUE=DATE:20231210
DTSTAMP:20260423T143313
CREATED:20181130T161456Z
LAST-MODIFIED:20231116T182952Z
UID:74651-1702080000-1702166399@www.greekboston.com
SUMMARY:Christmas Bazaar and Food Fair at St Spyridon Greek Church Newport RI
DESCRIPTION:
URL:https://www.greekboston.com/event/christmas-bazaar-newport-ri/
LOCATION:St. Spyridon Greek Orthodox Church – Newport\, RI\, Thames Street\, Newport\, RI\, 02840\, United States
CATEGORIES:Greek Events in Boston and the New England Area,Greek Festivals of New England
ATTACH;FMTTYPE=image/png:https://e498h76z5mp.exactdn.com/wp-content/uploads/2018/11/image-18.png
END:VEVENT
BEGIN:VEVENT
DTSTART;VALUE=DATE:20231210
DTEND;VALUE=DATE:20231211
DTSTAMP:20260423T143313
CREATED:20231201T222817Z
LAST-MODIFIED:20231204T231636Z
UID:91361-1702166400-1702252799@www.greekboston.com
SUMMARY:Taste & Art of Greece Christmas Market Weekends
DESCRIPTION:
URL:https://www.greekboston.com/event/christmas-market-weekends/
LOCATION:Taste and Art of Greece (TAG)\, 32 Hanover Street\, Manchester\, NH\, 03101\, United States
CATEGORIES:Greek Events in Boston and the New England Area
ATTACH;FMTTYPE=image/jpeg:https://e498h76z5mp.exactdn.com/wp-content/uploads/2023/12/IMG_8007.jpeg
END:VEVENT
BEGIN:VEVENT
DTSTART;VALUE=DATE:20231210
DTEND;VALUE=DATE:20231211
DTSTAMP:20260423T143313
CREATED:20231208T230600Z
LAST-MODIFIED:20231208T230600Z
UID:91395-1702166400-1702252799@www.greekboston.com
SUMMARY:Christmas Potluck Luncheon at St. Philip Greek Church Nashua NH
DESCRIPTION:
URL:https://www.greekboston.com/event/christmas-potluck-luncheon-nashua-nh/
LOCATION:St. Philip Greek Orthodox Church – Nashua\, NH\, 500 West Hollis Street\, Nashua\, NH\, 03062\, United States
CATEGORIES:Greek Events in Boston and the New England Area
ATTACH;FMTTYPE=image/jpeg:https://e498h76z5mp.exactdn.com/wp-content/uploads/2023/12/405755249_729170612579469_2169539559551121312_n.jpg
END:VEVENT
BEGIN:VEVENT
DTSTART;VALUE=DATE:20231210
DTEND;VALUE=DATE:20231211
DTSTAMP:20260423T143313
CREATED:20231208T230758Z
LAST-MODIFIED:20231208T230758Z
UID:91398-1702166400-1702252799@www.greekboston.com
SUMMARY:Bake Sale at Transfiguration Greek Church Lowell MA
DESCRIPTION:
URL:https://www.greekboston.com/event/bake-sale-lowell-ma/
LOCATION:Transfiguration Greek Orthodox Church – Lowell\, MA\, 25 Fr. John Sarantos Way\, Lowell\, 01854\, United States
CATEGORIES:Greek Events in Boston and the New England Area
ATTACH;FMTTYPE=image/jpeg:https://e498h76z5mp.exactdn.com/wp-content/uploads/2023/12/408135934_739861824835722_3619438592331930319_n.jpg
END:VEVENT
BEGIN:VEVENT
DTSTART;VALUE=DATE:20231215
DTEND;VALUE=DATE:20231216
DTSTAMP:20260423T143313
CREATED:20231125T163745Z
LAST-MODIFIED:20231130T141726Z
UID:91331-1702598400-1702684799@www.greekboston.com
SUMMARY:Cooking Greek and Baking Baklava Cookbook Signing Event in Manchester NH
DESCRIPTION:TAKE A LOOK AT BOTH COOKBOOKS AND BUY IT IN PERSON!\n \n\n\nCooking Greek Cookbook: 70 Greek recipes\, 206 pages on hardcover\, paperback\, ebook:  https://www.amazon.com/Cooking-Greek-Classic-Cookbook-At-Home/dp/B0BL9X9F4D/\n\n\nBaking Baklava Cookbook: 27 baklava recipes\, 100 pages on paperback: https://www.amazon.com/Baking-Baklava-Classic-Inspired-Recipes/dp/B0CMNVG8ZN/
URL:https://www.greekboston.com/event/cookbook-signing-manchester-nh/
LOCATION:Taste and Art of Greece (TAG)\, 32 Hanover Street\, Manchester\, NH\, 03101\, United States
CATEGORIES:Greek Events in Boston and the New England Area
ATTACH;FMTTYPE=image/png:https://e498h76z5mp.exactdn.com/wp-content/uploads/2023/11/cooking-greek-baking-baklava-signing-12-15-23a.png
END:VEVENT
BEGIN:VEVENT
DTSTART;VALUE=DATE:20231215
DTEND;VALUE=DATE:20231216
DTSTAMP:20260423T143313
CREATED:20231128T134412Z
LAST-MODIFIED:20231128T134412Z
UID:91335-1702598400-1702684799@www.greekboston.com
SUMMARY:Gingerbread Night  St. Nicholas Greek Church Lexington MA
DESCRIPTION:
URL:https://www.greekboston.com/event/gingerbread-night-lexington-ma/
LOCATION:St. Nicholas Greek Orthodox Church – Lexington\, MA\, 17 Meriam Street\, Lexington\, MA\, 02420\, United States
CATEGORIES:Greek Events in Boston and the New England Area
ATTACH;FMTTYPE=image/jpeg:https://e498h76z5mp.exactdn.com/wp-content/uploads/2023/11/406230533_18367661698078529_9031690095702870228_n.jpg
END:VEVENT
BEGIN:VEVENT
DTSTART;VALUE=DATE:20231215
DTEND;VALUE=DATE:20231216
DTSTAMP:20260423T143313
CREATED:20231204T232320Z
LAST-MODIFIED:20231204T232320Z
UID:91372-1702598400-1702684799@www.greekboston.com
SUMMARY:Parish Family Night at St. George Greek Church of Cape Cod
DESCRIPTION:
URL:https://www.greekboston.com/event/family-night-cape-cod/
LOCATION:St. George Greek Orthodox Church of Cape Cod\, 1130 Falmouth Road\, Centerville\, MA\, 02632\, United States
CATEGORIES:Greek Events in Boston and the New England Area
ATTACH;FMTTYPE=image/jpeg:https://e498h76z5mp.exactdn.com/wp-content/uploads/2023/12/406399420_744677097699077_5009150880246195132_n.jpg
END:VEVENT
BEGIN:VEVENT
DTSTART;VALUE=DATE:20231216
DTEND;VALUE=DATE:20231218
DTSTAMP:20260423T143313
CREATED:20231213T230954Z
LAST-MODIFIED:20231213T230954Z
UID:91402-1702684800-1702857599@www.greekboston.com
SUMMARY:Christmas Cookie Walk at St. Catherine Greek Church Braintree MA
DESCRIPTION:
URL:https://www.greekboston.com/event/christmas-cookie-walk-braintree-ma/
LOCATION:Saint Catherine Greek Orthodox Church\, 119 Common Street\, Braintree\, MA\, 02184\, United States
CATEGORIES:Greek Events in Boston and the New England Area
ATTACH;FMTTYPE=image/jpeg:https://e498h76z5mp.exactdn.com/wp-content/uploads/2023/12/409171385_728931399267080_606438204245469446_n.jpg
END:VEVENT
END:VCALENDAR