BEGIN:VCALENDAR
VERSION:2.0
PRODID:-// - ECPv6.15.18//NONSGML v1.0//EN
CALSCALE:GREGORIAN
METHOD:PUBLISH
X-ORIGINAL-URL:https://www.greekboston.com
X-WR-CALDESC:Events for 
REFRESH-INTERVAL;VALUE=DURATION:PT1H
X-Robots-Tag:noindex
X-PUBLISHED-TTL:PT1H
BEGIN:VTIMEZONE
TZID:America/New_York
BEGIN:DAYLIGHT
TZOFFSETFROM:-0500
TZOFFSETTO:-0400
TZNAME:EDT
DTSTART:20180311T070000
END:DAYLIGHT
BEGIN:STANDARD
TZOFFSETFROM:-0400
TZOFFSETTO:-0500
TZNAME:EST
DTSTART:20181104T060000
END:STANDARD
BEGIN:DAYLIGHT
TZOFFSETFROM:-0500
TZOFFSETTO:-0400
TZNAME:EDT
DTSTART:20190310T070000
END:DAYLIGHT
BEGIN:STANDARD
TZOFFSETFROM:-0400
TZOFFSETTO:-0500
TZNAME:EST
DTSTART:20191103T060000
END:STANDARD
BEGIN:DAYLIGHT
TZOFFSETFROM:-0500
TZOFFSETTO:-0400
TZNAME:EDT
DTSTART:20200308T070000
END:DAYLIGHT
BEGIN:STANDARD
TZOFFSETFROM:-0400
TZOFFSETTO:-0500
TZNAME:EST
DTSTART:20201101T060000
END:STANDARD
END:VTIMEZONE
BEGIN:VEVENT
DTSTART;TZID=America/New_York:20191005T210000
DTEND;TZID=America/New_York:20191006T020000
DTSTAMP:20260421T081052
CREATED:20140508T215809Z
LAST-MODIFIED:20190703T214706Z
UID:38999-1570309200-1570327200@www.greekboston.com
SUMMARY:Live Greek Music Night in Braintree MA
DESCRIPTION:
URL:https://www.greekboston.com/event/live-music-braintree-ma/
LOCATION:St. Catherine Greek Orthodox Church\, 119 Common Street\, Braintree\, MA\, 02184\, United States
CATEGORIES:Greek Events in Boston and the New England Area
ATTACH;FMTTYPE=image/jpeg:https://e498h76z5mp.exactdn.com/wp-content/uploads/2014/05/65760077_2319434191470545_6924458081199849472_n.jpg
END:VEVENT
BEGIN:VEVENT
DTSTART;TZID=America/New_York:20191005T173000
DTEND;TZID=America/New_York:20191005T223000
DTSTAMP:20260421T081053
CREATED:20150913T120303Z
LAST-MODIFIED:20190914T190939Z
UID:50983-1570296600-1570314600@www.greekboston.com
SUMMARY:Greek Dance at St. Spyridon Cathedral Worcester MA
DESCRIPTION:
URL:https://www.greekboston.com/event/dance-worcester-ma/
LOCATION:St. Spyridon Greek Orthodox Cathedral – Worcester\, 102 Russell Street\, Worcester\, MA\, 01609\, United States
CATEGORIES:Greek Events in Boston and the New England Area
ATTACH;FMTTYPE=image/jpeg:https://e498h76z5mp.exactdn.com/wp-content/uploads/2015/09/70238036_10157602809667359_5065199191534338048_o.jpg
END:VEVENT
BEGIN:VEVENT
DTSTART;TZID=America/New_York:20191005T143000
DTEND;TZID=America/New_York:20191005T173000
DTSTAMP:20260421T081053
CREATED:20170412T192659Z
LAST-MODIFIED:20190918T214347Z
UID:62904-1570285800-1570296600@www.greekboston.com
SUMMARY:Pontic Dance Workshop in Arlington MA
DESCRIPTION:
URL:https://www.greekboston.com/event/dance-workshop-arlington-ma/
LOCATION:CHURCH OF OUR SAVIOR\, 21 Marathon Street\, Arlington\, MA\, 02474\, United States
CATEGORIES:Greek Events in Boston and the New England Area
ATTACH;FMTTYPE=image/jpeg:https://e498h76z5mp.exactdn.com/wp-content/uploads/2017/04/JOE-GRAZIOSI-WORKSHOP-FLYER.-Fall-2019.jpg
END:VEVENT
BEGIN:VEVENT
DTSTART;TZID=America/New_York:20191004T200000
DTEND;TZID=America/New_York:20191004T220000
DTSTAMP:20260421T081053
CREATED:20190911T200717Z
LAST-MODIFIED:20190911T203216Z
UID:78889-1570219200-1570226400@www.greekboston.com
SUMMARY:Petros Klampanis Concert in Boston MA
DESCRIPTION:
URL:https://www.greekboston.com/event/petros-klampanis/
LOCATION:David Friend Recital Hall\, 921 Boylston Street\, Boston\, MA\, 02115\, United States
CATEGORIES:Greek Events in Boston and the New England Area
ATTACH;FMTTYPE=image/jpeg:https://e498h76z5mp.exactdn.com/wp-content/uploads/2019/09/BOS_concert_October-2019.jpg
END:VEVENT
BEGIN:VEVENT
DTSTART;TZID=America/New_York:20191004T184500
DTEND;TZID=America/New_York:20191004T204500
DTSTAMP:20260421T081053
CREATED:20190925T205841Z
LAST-MODIFIED:20190925T205841Z
UID:79124-1570214700-1570221900@www.greekboston.com
SUMMARY:Family First Friday Event at St. Demetrios Greek Church Weston MA
DESCRIPTION:
URL:https://www.greekboston.com/event/family-first-friday-weston-ma/
LOCATION:Greek Orthodox St. Demetrios Church in Weston MA\, 57 Brown Street\, Weston\, MA\, 02493\, United States
CATEGORIES:Greek Events in Boston and the New England Area
ATTACH;FMTTYPE=image/jpeg:https://e498h76z5mp.exactdn.com/wp-content/uploads/2019/09/70673225_10158780487893572_5754478516976484352_o.jpg
END:VEVENT
BEGIN:VEVENT
DTSTART;TZID=America/New_York:20191003T190000
DTEND;TZID=America/New_York:20191003T210000
DTSTAMP:20260421T081053
CREATED:20170923T120459Z
LAST-MODIFIED:20190927T211647Z
UID:66460-1570129200-1570136400@www.greekboston.com
SUMMARY:Welcome Back Gathering at  St. Demetrios Greek Church Weston MA
DESCRIPTION:It’s not too late to join us for the #Philoptochos Welcome Back Gathering on Thursday October 3rd @ 7pm. Please RSVP to philoptochos@stdemetriosweston.org
URL:https://www.greekboston.com/event/bbq-weston-ma/
LOCATION:St. Demetrios Greek Orthodox Church Weston MA\, 57 Brown Street\, Weston\, MA\, 02493\, United States
CATEGORIES:Greek Events in Boston and the New England Area
ATTACH;FMTTYPE=image/jpeg:https://e498h76z5mp.exactdn.com/wp-content/uploads/2017/09/71486293_10158789935613572_1275461727630131200_o.jpg
END:VEVENT
BEGIN:VEVENT
DTSTART;VALUE=DATE:20191003
DTEND;VALUE=DATE:20191004
DTSTAMP:20260421T081053
CREATED:20190914T190446Z
LAST-MODIFIED:20190914T190446Z
UID:78965-1570060800-1570147199@www.greekboston.com
SUMMARY:Philoptochos Fundraiser at Sts. Constantine & Helen Greek Church\, Andover MA
DESCRIPTION:
URL:https://www.greekboston.com/event/philoptochos-fundraiser-andover-ma/
LOCATION:Sts Constantine and Helen Greek Orthodox Church – Andover\, MA\, 71 Chandler Road\, Andover\, MA\, 01810\, United States
CATEGORIES:Greek Events in Boston and the New England Area
ATTACH;FMTTYPE=image/jpeg:https://e498h76z5mp.exactdn.com/wp-content/uploads/2019/09/Ted-Reinstein-ad-for-The-Word-2.jpg
END:VEVENT
BEGIN:VEVENT
DTSTART;TZID=America/New_York:20190929T180000
DTEND;TZID=America/New_York:20190929T200000
DTSTAMP:20260421T081053
CREATED:20190826T184425Z
LAST-MODIFIED:20190826T184439Z
UID:78584-1569780000-1569787200@www.greekboston.com
SUMMARY:"Healthy Food for Our Youth - Does Yiayia and Pappou Know Best"
DESCRIPTION:
URL:https://www.greekboston.com/event/healthy-food-yiayia-pappou/
LOCATION:Saints Constantine and Helen Greek Orthodox Church – Cambridge\, MA\, 14 Magazine Street\, Cambridge\, MA\, 02139\, United States
CATEGORIES:Greek Events in Boston and the New England Area
ATTACH;FMTTYPE=image/jpeg:https://e498h76z5mp.exactdn.com/wp-content/uploads/2019/08/69024067_482633545923078_2323708621466107904_o.jpg
END:VEVENT
BEGIN:VEVENT
DTSTART;TZID=America/New_York:20190928T220000
DTEND;TZID=America/New_York:20190929T020000
DTSTAMP:20260421T081053
CREATED:20190912T140143Z
LAST-MODIFIED:20190912T140143Z
UID:78901-1569708000-1569722400@www.greekboston.com
SUMMARY:Light Greek Hip Hop Rap Live Concert in Boston MA
DESCRIPTION:
URL:https://www.greekboston.com/event/light-rap-hip-hop/
LOCATION:Icon Boston\, 100 Warrenton Street\, Boston\, MA\, 02116\, United States
CATEGORIES:Greek Events in Boston and the New England Area
ATTACH;FMTTYPE=image/jpeg:https://e498h76z5mp.exactdn.com/wp-content/uploads/2019/09/69802338_2587438344817012_3083142449527259136_n.jpg
END:VEVENT
BEGIN:VEVENT
DTSTART;TZID=America/New_York:20190928T190000
DTEND;TZID=America/New_York:20190928T220000
DTSTAMP:20260421T081053
CREATED:20190916T152226Z
LAST-MODIFIED:20190916T152226Z
UID:78988-1569697200-1569708000@www.greekboston.com
SUMMARY:Oldies Dance at St. Philip Greek Church Nashua NH
DESCRIPTION:
URL:https://www.greekboston.com/event/oldies-dance-nashua-nh/
LOCATION:St. Philip Greek Orthodox Church – Nashua\, NH\, 500 West Hollis Street\, Nashua\, NH\, 03062\, United States
CATEGORIES:Greek Events in Boston and the New England Area
ATTACH;FMTTYPE=image/jpeg:https://e498h76z5mp.exactdn.com/wp-content/uploads/2019/09/81163d9f5c1b438681e1b26891e3dcf4-0.jpg
END:VEVENT
BEGIN:VEVENT
DTSTART;TZID=America/New_York:20190928T190000
DTEND;TZID=America/New_York:20190928T220000
DTSTAMP:20260421T081053
CREATED:20190419T213904Z
LAST-MODIFIED:20190710T200801Z
UID:76847-1569697200-1569708000@www.greekboston.com
SUMMARY:An Evening with Alkistis Protopsalti in Cambridge MA
DESCRIPTION:As part of the 60th Anniversary Celebration\, the Saint Demetrios Greek Orthodox Church of Weston presents an evening with legendary Greek artist\, Alkistis Protopsalti on Saturday\, September 28\, 2019\, Sanders Theater at Harvard University. Tickets: $95\, $75\, $55. Free parking one block from the Theater.\nRESERVE YOUR TICKETS NOW!\nFor tickets\, contact Sanders Theater Box Office at (617) 496-2222 or purchase online\nat https://www.boxoffice.harvard.edu. A discount is offered for groups of 10 or more.\nFor more information\, call the Saint Demetrios Church at (781) 237-5561 or email concertevent@stdemetriosweston.org. You can also visit the Saint Demetrios web page at stdemetriosweston.org and follow the Alkistis Protopsalti link.\nAlkistis Protopsalti has been at the forefront of Greek discography for more than 40 years with 28 personal albums\, all of them gold or platinum. One of the most important Greek singers\, Alkistis has a strong Dorian recognizable voice\, is very creative\, emotional and expressive. She has performed with famous orchestras including the Symphonic Orchestra of Prague\, the Boston Pops\, the Oxford Philharmonic\, the Kremlin Presidential Symphonic Orchestra\, and the Turkish Tekfen Symphony Orchestra. Her performances are unique\, and her stage presence unforgettable.
URL:https://www.greekboston.com/event/alkistis-protopsalti/
LOCATION:Sanders Theatre – Harvard University\, 45 Quincy Street\, Cambridge\, MA\, 02138\, United States
CATEGORIES:Greek Events in Boston and the New England Area
ATTACH;FMTTYPE=image/jpeg:https://e498h76z5mp.exactdn.com/wp-content/uploads/2019/04/18SDW006_ProtopsaltisSponsorship_Form-1.jpeg
END:VEVENT
BEGIN:VEVENT
DTSTART;TZID=America/New_York:20190927T183000
DTEND;TZID=America/New_York:20190927T193000
DTSTAMP:20260421T081053
CREATED:20150919T110430Z
LAST-MODIFIED:20190828T211417Z
UID:51078-1569609000-1569612600@www.greekboston.com
SUMMARY:Family Ice Cream Social for the Annunciation Greek Cathedral Of New England
DESCRIPTION:
URL:https://www.greekboston.com/event/ice-cream-social-cathederal/
LOCATION:Annunciation Cathedral of New England\, 514 Parker Street\, Boston\, MA\, 02120\, United States
CATEGORIES:Greek Events in Boston and the New England Area
ATTACH;FMTTYPE=image/jpeg:https://e498h76z5mp.exactdn.com/wp-content/uploads/2015/09/69135632_2859070037456402_4463863208423194624_o.jpg
END:VEVENT
BEGIN:VEVENT
DTSTART;VALUE=DATE:20190927
DTEND;VALUE=DATE:20190929
DTSTAMP:20260421T081053
CREATED:20180812T163015Z
LAST-MODIFIED:20190924T115117Z
UID:72962-1569542400-1569715199@www.greekboston.com
SUMMARY:Greek School Registration at The Annunciation Greek Cathedral of New England
DESCRIPTION:
URL:https://www.greekboston.com/event/school-registration-cathedral/
LOCATION:Annunciation Cathedral of New England\, 514 Parker Street\, Boston\, MA\, 02120\, United States
CATEGORIES:Greek Events in Boston and the New England Area
ATTACH;FMTTYPE=image/jpeg:https://e498h76z5mp.exactdn.com/wp-content/uploads/2018/08/hireteachersΑγγελία-για-δασκάλες-για-την-σχολική-χρονία-2019-2020.jpeg
END:VEVENT
BEGIN:VEVENT
DTSTART;TZID=America/New_York:20190926T190000
DTEND;TZID=America/New_York:20190926T200000
DTSTAMP:20260421T081053
CREATED:20190823T215142Z
LAST-MODIFIED:20190823T215158Z
UID:78574-1569524400-1569528000@www.greekboston.com
SUMMARY:Bible Study at Sts. Constantine and Helen Greek Church Cambridge MA
DESCRIPTION:
URL:https://www.greekboston.com/event/bible-study-cambridge-ma/
LOCATION:Saints Constantine and Helen Greek Orthodox Church – Cambridge\, MA\, 14 Magazine Street\, Cambridge\, MA\, 02139\, United States
CATEGORIES:Greek Events in Boston and the New England Area
ATTACH;FMTTYPE=image/jpeg:https://e498h76z5mp.exactdn.com/wp-content/uploads/2019/08/69070213_481128472740252_3139780848979542016_o.jpg
END:VEVENT
BEGIN:VEVENT
DTSTART;TZID=America/New_York:20190921T110000
DTEND;TZID=America/New_York:20190921T200000
DTSTAMP:20260421T081053
CREATED:20190607T210131Z
LAST-MODIFIED:20190821T123451Z
UID:77484-1569063600-1569096000@www.greekboston.com
SUMMARY:Gyro Fest at St. Nicholas Greek Church Lexington MA
DESCRIPTION:
URL:https://www.greekboston.com/event/gyro-fest-lexington-ma/
LOCATION:St. Nicholas Greek Orthodox Church – Lexington\, MA\, 17 Meriam Street\, Lexington\, MA\, 02420\, United States
CATEGORIES:Greek Events in Boston and the New England Area,Greek Festivals of New England
ATTACH;FMTTYPE=image/jpeg:https://e498h76z5mp.exactdn.com/wp-content/uploads/2019/06/FINAL-gyro-fest-flier-082119.jpg
END:VEVENT
BEGIN:VEVENT
DTSTART;VALUE=DATE:20190921
DTEND;VALUE=DATE:20190922
DTSTAMP:20260421T081053
CREATED:20190828T141548Z
LAST-MODIFIED:20190828T210625Z
UID:78680-1569024000-1569110399@www.greekboston.com
SUMMARY:Cathedral 5K Road Race in Brookline MA
DESCRIPTION:
URL:https://www.greekboston.com/event/cathedral-5k-road-race/
LOCATION:Cathedral Center\, 162 Goddard Ave\, Brookline\, 02445
CATEGORIES:Greek Events in Boston and the New England Area
ATTACH;FMTTYPE=image/jpeg:https://e498h76z5mp.exactdn.com/wp-content/uploads/2019/08/5KROADRACEMAPCATHEDRALrev.jpg
END:VEVENT
BEGIN:VEVENT
DTSTART;VALUE=DATE:20190920
DTEND;VALUE=DATE:20190923
DTSTAMP:20260421T081053
CREATED:20170818T123221Z
LAST-MODIFIED:20190805T193940Z
UID:65792-1568937600-1569196799@www.greekboston.com
SUMMARY:Greek Cultural Fair Festival at St. Basil Greek Church New Haven CT
DESCRIPTION:
URL:https://www.greekboston.com/event/festival-new-haven-ct/
LOCATION:St. Basil Greek Orthodox Church New Haven\, CT\, 1 Tower Ln\, New Haven\, CT\, 06519\, United States
CATEGORIES:Greek Events in Boston and the New England Area,Greek Festivals of New England
ATTACH;FMTTYPE=image/jpeg:https://e498h76z5mp.exactdn.com/wp-content/uploads/2017/08/Greek-Cultural-Fair.jpeg
END:VEVENT
BEGIN:VEVENT
DTSTART;TZID=America/New_York:20190919T180000
DTEND;TZID=America/New_York:20190919T200000
DTSTAMP:20260421T081053
CREATED:20190903T222523Z
LAST-MODIFIED:20190903T222523Z
UID:78793-1568916000-1568923200@www.greekboston.com
SUMMARY:Boston Orthodox Young Professionals Thursday Social
DESCRIPTION:Come network and mingle with other Orthodox young adults (21-35) from the Boston area!\nFirst drink on us from 6-7pm. Free Appetizers!\nSponsored by Young Adult Ministry: St. Mary Orthodox Church of Cambridge\, MA in conjunction with The Telos Project and the Metropolis of Boston Youth & Young Adult Office.
URL:https://www.greekboston.com/event/orthodox-professionals-social/
LOCATION:730 Tavern\, Kitchen & Patio\, 730 Massachusetts Ave.\, Cambridge\, MA\, 02139\, United States
CATEGORIES:Greek Events in Boston and the New England Area
ATTACH;FMTTYPE=image/jpeg:https://e498h76z5mp.exactdn.com/wp-content/uploads/2019/09/69576051_10162471668485601_4078228351297257472_o.jpg
END:VEVENT
BEGIN:VEVENT
DTSTART;TZID=America/New_York:20190916T183000
DTEND;TZID=America/New_York:20190916T203000
DTSTAMP:20260421T081053
CREATED:20181126T214122Z
LAST-MODIFIED:20190906T220522Z
UID:74585-1568658600-1568665800@www.greekboston.com
SUMMARY:Children's and Adult Choir Meetings in Brookline MA
DESCRIPTION:
URL:https://www.greekboston.com/event/choir-meetings-brookline-ma/
LOCATION:Maliotis Cultural Center\, 50 Goddard Avenue\, Brookline\, MA\, 02130\, United States
CATEGORIES:Greek Events in Boston and the New England Area
ATTACH;FMTTYPE=image/jpeg:https://e498h76z5mp.exactdn.com/wp-content/uploads/2018/11/CHOIRS-NEW.jpg
END:VEVENT
BEGIN:VEVENT
DTSTART;VALUE=DATE:20190916
DTEND;VALUE=DATE:20190917
DTSTAMP:20260421T081053
CREATED:20140818T213650Z
LAST-MODIFIED:20190801T150235Z
UID:42011-1568592000-1568678399@www.greekboston.com
SUMMARY:St. George Cape Cod Annual Charity Golf Classic
DESCRIPTION:Save the Date!\n10th Annual St. George Cape Cod Annual Charity Golf Classic\nSeptember 16\, 2019
URL:https://www.greekboston.com/event/st-george-golf-classic/
LOCATION:Willowbend Country Club\, 130 Willowbend Drrive\, Mashpee\, MA\, 02649\, United States
CATEGORIES:Greek Events in Boston and the New England Area
ATTACH;FMTTYPE=image/jpeg:https://e498h76z5mp.exactdn.com/wp-content/uploads/2014/08/golf.jpg
END:VEVENT
BEGIN:VEVENT
DTSTART;VALUE=DATE:20190915
DTEND;VALUE=DATE:20190916
DTSTAMP:20260421T081053
CREATED:20190902T124640Z
LAST-MODIFIED:20190902T124640Z
UID:78774-1568505600-1568591999@www.greekboston.com
SUMMARY:Archbishop Elpidophoros Visit at The Annunciation Cathedral of New England in Boston MA
DESCRIPTION:
URL:https://www.greekboston.com/event/archbishop-elpidophoros/
LOCATION:Annunciation Cathedral of New England\, 514 Parker Street\, Boston\, MA\, 02120\, United States
CATEGORIES:Greek Events in Boston and the New England Area
ATTACH;FMTTYPE=image/jpeg:https://e498h76z5mp.exactdn.com/wp-content/uploads/2019/09/090119-5.jpg
END:VEVENT
BEGIN:VEVENT
DTSTART;VALUE=DATE:20190915
DTEND;VALUE=DATE:20190916
DTSTAMP:20260421T081053
CREATED:20190816T201443Z
LAST-MODIFIED:20190820T233806Z
UID:78317-1568505600-1568591999@www.greekboston.com
SUMMARY:Art at the Greek Institute in Cambridge\, MA
DESCRIPTION:
URL:https://www.greekboston.com/event/art-institute-cambridge-ma/
LOCATION:The Greek Institute\, 1038 Massachusetts Avenue\, Cambridge\, MA\, 02138\, United States
CATEGORIES:Greek Events in Boston and the New England Area
ATTACH;FMTTYPE=image/jpeg:https://e498h76z5mp.exactdn.com/wp-content/uploads/2019/08/Gk-Inst-flyer.jpg
END:VEVENT
BEGIN:VEVENT
DTSTART;TZID=America/New_York:20190908T120000
DTEND;TZID=America/New_York:20190908T160000
DTSTAMP:20260421T081053
CREATED:20190808T140443Z
LAST-MODIFIED:20190813T142442Z
UID:78176-1567944000-1567958400@www.greekboston.com
SUMMARY:St. Gregory's Open House in Mansfield\, MA
DESCRIPTION:Sunday\, September 8\, 2019 at 12 PM – 4 PM\nSt. Gregory the Theologian Greek Orthodox Church\n1007 West St\, Mansfield\, Massachusetts 02048\nHosted by St. Gregory the Theologian Greek Orthodox Church
URL:https://www.greekboston.com/event/open-house-mansfield-ma/
LOCATION:St. Gregory the Theologian Greek Orthodox Church – Mansfield\, MA\, 1007 West St\, Mansfield\, MA\, 02048\, United States
CATEGORIES:Greek Events in Boston and the New England Area
ATTACH;FMTTYPE=image/jpeg:https://e498h76z5mp.exactdn.com/wp-content/uploads/2019/08/st-gregory-open-house.jpg
END:VEVENT
BEGIN:VEVENT
DTSTART;VALUE=DATE:20190908
DTEND;VALUE=DATE:20190909
DTSTAMP:20260421T081053
CREATED:20140804T200855Z
LAST-MODIFIED:20190903T222817Z
UID:41782-1567900800-1567987199@www.greekboston.com
SUMMARY:Peabody International Festival With St. Vasilios Greek Church
DESCRIPTION:
URL:https://www.greekboston.com/event/peabody-international-festival/
LOCATION:Saint Vasilios Greek Orthodox Church\, 5 Paleologos Street\, Peabody\, MA\, 01960\, United States
CATEGORIES:Greek Events in Boston and the New England Area,Greek Festivals of New England
ATTACH;FMTTYPE=image/png:https://e498h76z5mp.exactdn.com/wp-content/uploads/2014/08/67774412_1475732879232971_2351797574437961728_n.png
END:VEVENT
BEGIN:VEVENT
DTSTART;VALUE=DATE:20190908
DTEND;VALUE=DATE:20190909
DTSTAMP:20260421T081053
CREATED:20190715T205903Z
LAST-MODIFIED:20190715T205903Z
UID:77876-1567900800-1567987199@www.greekboston.com
SUMMARY:Pontiaki Estia Picnic in Medford MA
DESCRIPTION:
URL:https://www.greekboston.com/event/pontiaki-estia-picnic-medford-ma/
LOCATION:Condon Shell Medford MA\, 2501 Mystic Valley Pkwy\, Medford\, MA\, 02155\, United States
CATEGORIES:Greek Events in Boston and the New England Area
ATTACH;FMTTYPE=image/jpeg:https://e498h76z5mp.exactdn.com/wp-content/uploads/2019/07/66707302_1063092367414523_3453312688493428736_o.jpg
END:VEVENT
BEGIN:VEVENT
DTSTART;VALUE=DATE:20190907
DTEND;VALUE=DATE:20190908
DTSTAMP:20260421T081053
CREATED:20140825T211526Z
LAST-MODIFIED:20190712T203500Z
UID:42152-1567814400-1567900799@www.greekboston.com
SUMMARY:Transfiguration Lowell Greek Church Golf Outing
DESCRIPTION:Join us for our 9th annual Golf Outing to support the ministries of the Transfiguration Greek Orthodox Church! Please consider golfing\, becoming a sponsor\, supporting the raffle\, or making a general donation. We greatly appreciate contributions of time and talent as well!\nEntry Fee: $135 per golfer\nShotgun start at 8:00am\nScramble format\nLongest drive\, closest to the pin\, and other contests\nRefreshments and snacks at the ninth green\nAppetizers and dinner to follow\n50/50 raffle prize\nAwards presentation\nDinner guest only :$30\nRaffle tickets can be purchased from any Parish Council member or by contacting Costas Tsioulis at costasusa@hotmail.com or 508-423-1369.\nNot a golfer? Individual and business sponsorship opportunities are available! More information is available here: https://bit.ly/30hjC6r\nRSVP to Transfiguration Greek Orthodox Church\n25 Fr. John Sarantos Way\, Lowell\, MA 01854
URL:https://www.greekboston.com/event/transfiguration-golf-outing/
LOCATION:Tewksbury Country Club\, 1880 Main Street\, Tewksbury\, MA\, 01876\, United States
CATEGORIES:Greek Events in Boston and the New England Area
ATTACH;FMTTYPE=image/jpeg:https://e498h76z5mp.exactdn.com/wp-content/uploads/2014/08/13475114_1305501602812395_6169395415971903640_o.jpg
END:VEVENT
BEGIN:VEVENT
DTSTART;TZID=America/New_York:20190906T190000
DTEND;TZID=America/New_York:20190906T220000
DTSTAMP:20260421T081053
CREATED:20190809T162336Z
LAST-MODIFIED:20190809T162449Z
UID:78191-1567796400-1567807200@www.greekboston.com
SUMMARY:Sacred Voices Concert with Erini and Naseem Alatrash in Boston\, MA
DESCRIPTION:
URL:https://www.greekboston.com/event/sacred-voices-boston-ma/
LOCATION:Gordon Chapel – Old South Church\, 645 Boylston Street\, Boston\, MA\, United States
CATEGORIES:Greek Events in Boston and the New England Area
ATTACH;FMTTYPE=image/jpeg:https://e498h76z5mp.exactdn.com/wp-content/uploads/2019/08/IMG_8611.jpg
END:VEVENT
BEGIN:VEVENT
DTSTART;VALUE=DATE:20190826
DTEND;VALUE=DATE:20190827
DTSTAMP:20260421T081053
CREATED:20140818T151322Z
LAST-MODIFIED:20190813T145116Z
UID:41987-1566777600-1566863999@www.greekboston.com
SUMMARY:17th Annual Saint Spyridon Golf Classic
DESCRIPTION:St. Spyridon Cathedral is pleased to be hosting their 17th Annual Golf Classic on Monday\, August 31\, 2015 at Sterling National Golf Club\, Sterling\, MA\nEntry Fee: $150 per person\nIncludes: 18 Holes of Championship Golf on a private course including cart\, range balls\, a sleeve of golf balls\, lunch\, cocktail hour\, including hors d’oeuvres\, a delectable banquet style dinner and a special giveaway.Refreshments available on course.\nFormat: 4-Person Scramble\nRegistration: 12:00pm\nShot-Gun Start: 12:45pm\nCocktail hour: 6:00pm\nDinner\nAward presentation to follow with a $10\,000.00 hole-in-one prize sponsorship by\nU.S Marina with competitions including Hole-in-One\, Closest to the Pin\, and Men & Women’s Longest Drive.\nYour support of our tournament will go towards fulfilling the needs of our Cathedral and its’ ministries. We look forward to your participation as a golfer\, a sponsor or a raffle donor. Gift certificates\, golf merchandise\, electronics or any services you or your company may wish to contribute will be most appreciated.\nIf you have any questions please call:\nStu Paskalis at 508-752-0583\nTina Niedbala at 508.754.5925\nCathedral Office at 508.791.7326.\nCommittee members: Stu Paskalis\, Tina Niedbala\, George Fotos\, Angelos Giolekas\, George Gourousis\, Jimmy Kalogeropoulos\, Joan Theros\, and Bill Vasiliadis.
URL:https://www.greekboston.com/event/saint-spyridon-golf/
LOCATION:Pleasant Valley Country Club\, 95 Armsby Rd\, Sutton\, MA\, 01590\, United States
CATEGORIES:Greek Events in Boston and the New England Area
ATTACH;FMTTYPE=image/jpeg:https://e498h76z5mp.exactdn.com/wp-content/uploads/2014/08/st-spyridon-golf-classic.jpg
END:VEVENT
BEGIN:VEVENT
DTSTART;TZID=America/New_York:20190825T190000
DTEND;TZID=America/New_York:20190825T220000
DTSTAMP:20260421T081053
CREATED:20180621T184642Z
LAST-MODIFIED:20190729T193858Z
UID:72365-1566759600-1566770400@www.greekboston.com
SUMMARY:Boat Cruise for Holy Apostles Sts Peter and Paul Greek Church Haverhill MA
DESCRIPTION:
URL:https://www.greekboston.com/event/boat-cruise-haverhill-ma/
LOCATION:Plum Island\, Massachusetts\, Boston\, MA\, 02110\, United States
CATEGORIES:Greek Events in Boston and the New England Area
ATTACH;FMTTYPE=image/jpeg:https://e498h76z5mp.exactdn.com/wp-content/uploads/2018/06/Boat-Cruise-Flyer-1.jpg
END:VEVENT
BEGIN:VEVENT
DTSTART;VALUE=DATE:20190824
DTEND;VALUE=DATE:20190825
DTSTAMP:20260421T081053
CREATED:20160920T112032Z
LAST-MODIFIED:20190710T200202Z
UID:57847-1566604800-1566691199@www.greekboston.com
SUMMARY:Maids of Athena Greek Night in Brighton MA
DESCRIPTION:
URL:https://www.greekboston.com/event/music-night-brighton-ma/
LOCATION:Cityside Bar – Cleavland Circle\, 1960 Beacon Street\, Brighton\, MA\, 02135\, United States
CATEGORIES:Greek Events in Boston and the New England Area
ATTACH;FMTTYPE=image/jpeg:https://e498h76z5mp.exactdn.com/wp-content/uploads/2016/09/MOALowell-Greek-Night.jpg
END:VEVENT
END:VCALENDAR