BEGIN:VCALENDAR
VERSION:2.0
PRODID:-// - ECPv6.15.18//NONSGML v1.0//EN
CALSCALE:GREGORIAN
METHOD:PUBLISH
X-ORIGINAL-URL:https://www.greekboston.com
X-WR-CALDESC:Events for 
REFRESH-INTERVAL;VALUE=DURATION:PT1H
X-Robots-Tag:noindex
X-PUBLISHED-TTL:PT1H
BEGIN:VTIMEZONE
TZID:America/New_York
BEGIN:DAYLIGHT
TZOFFSETFROM:-0500
TZOFFSETTO:-0400
TZNAME:EDT
DTSTART:20150308T070000
END:DAYLIGHT
BEGIN:STANDARD
TZOFFSETFROM:-0400
TZOFFSETTO:-0500
TZNAME:EST
DTSTART:20151101T060000
END:STANDARD
BEGIN:DAYLIGHT
TZOFFSETFROM:-0500
TZOFFSETTO:-0400
TZNAME:EDT
DTSTART:20160313T070000
END:DAYLIGHT
BEGIN:STANDARD
TZOFFSETFROM:-0400
TZOFFSETTO:-0500
TZNAME:EST
DTSTART:20161106T060000
END:STANDARD
BEGIN:DAYLIGHT
TZOFFSETFROM:-0500
TZOFFSETTO:-0400
TZNAME:EDT
DTSTART:20170312T070000
END:DAYLIGHT
BEGIN:STANDARD
TZOFFSETFROM:-0400
TZOFFSETTO:-0500
TZNAME:EST
DTSTART:20171105T060000
END:STANDARD
END:VTIMEZONE
BEGIN:VEVENT
DTSTART;TZID=America/New_York:20160215T190000
DTEND;TZID=America/New_York:20160215T203000
DTSTAMP:20260421T143943
CREATED:20160204T215742Z
LAST-MODIFIED:20160204T215753Z
UID:52637-1455562800-1455568200@www.greekboston.com
SUMMARY:Presentation of Trojan Women\, Helen\, Hecuba: Three Plays about Women and the Trojan War\, by Francis Blessington
DESCRIPTION:Please join us for a presentation and book signing by Professor Francis Blessington:\nThese three ancient tragedies—Trojan Women\, Helen\, and Hecuba—dramatize the tragic fates of women in the wake of war. Euripides (480–406 BC) innovatively brought to Greek tragedy the inner lives of his characters. In these plays he delivers powerful portrayals of the suffering of both Greek and Trojan women as they become pawns and prizes of warring men.\nFrancis Blessington combines his work as a poet\, translator\, and teacher of literature and Greek with his theatrical experience to create fresh and faithful verse translations suitable for the stage\, the classroom\, or the general reader. The three plays are augmented by introductions\, notes\, and an appendix on elements of Greek tragedy. Blessington glosses historical and mythological terms\, identifies Greek themes in the texts\, offers literary interpretations\, and suggests topics for discussion.\nFrancis Blessington is a professor of English at Northeastern University in Boston. He is the author of several books of poetry and scholarship and has published translations of Euripides’ The Bacchae and Aristophanes’ The Frogs.\nFor More Information\, Please visit:\nhttps://www.facebook.com/events/182539915441837/
URL:https://www.greekboston.com/event/presentation-trojan-women/
LOCATION:The Greek Institute\, 1038 Massachusetts Avenue\, Cambridge\, MA\, 02138\, United States
CATEGORIES:Greek Events in Boston and the New England Area
ATTACH;FMTTYPE=image/jpeg:https://e498h76z5mp.exactdn.com/wp-content/uploads/2016/02/12654199_10153964342524529_16168257208324319_n.jpg
END:VEVENT
BEGIN:VEVENT
DTSTART;TZID=America/New_York:20160219T173500
DTEND;TZID=America/New_York:20160219T180000
DTSTAMP:20260421T143943
CREATED:20160216T124805Z
LAST-MODIFIED:20160216T124819Z
UID:53578-1455903300-1455904800@www.greekboston.com
SUMMARY:European Conference 2016
DESCRIPTION:Please note that Tufts University is hosting its 31st Annual EPIIC Symposium: “Europe in Turmoil” ahead of the European Conference at Harvard.\nFor more information\, visit:\nhttp://europeanconference.org/2016-agenda/
URL:https://www.greekboston.com/event/european-conference/
LOCATION:Harvard University Cambridge MA\, Cambridge\, MA\, 02138\, United States
CATEGORIES:Greek Events in Boston and the New England Area
ATTACH;FMTTYPE=image/jpeg:https://e498h76z5mp.exactdn.com/wp-content/uploads/2016/02/12651148_10205524440094260_8921481947032920204_n.jpg
END:VEVENT
BEGIN:VEVENT
DTSTART;TZID=America/New_York:20160220T203000
DTEND;TZID=America/New_York:20160221T010000
DTSTAMP:20260421T143943
CREATED:20160114T191935Z
LAST-MODIFIED:20160114T191951Z
UID:52404-1456000200-1456016400@www.greekboston.com
SUMMARY:Spyros Siolos Live Greek Concert in Worcester MA
DESCRIPTION:
URL:https://www.greekboston.com/event/spyros-siolos/
LOCATION:Alexander The Great Cultural Center Hrisohorafiton\, 880 Main Street\, Worcester\, MA\, 01608\, United States
CATEGORIES:Greek Events in Boston and the New England Area
ATTACH;FMTTYPE=image/jpeg:https://e498h76z5mp.exactdn.com/wp-content/uploads/2016/01/12540852_10153425949312057_8195664611553061034_n.jpg
END:VEVENT
BEGIN:VEVENT
DTSTART;TZID=America/New_York:20160220T213000
DTEND;TZID=America/New_York:20160220T233000
DTSTAMP:20260421T143943
CREATED:20160131T134035Z
LAST-MODIFIED:20160131T134035Z
UID:52564-1456003800-1456011000@www.greekboston.com
SUMMARY:Live Greek Music Night in Smithfield RI
DESCRIPTION:
URL:https://www.greekboston.com/event/live-music-smithfield-ri/
LOCATION:Terrazza Smithfield  RI\, 645 Douglas Pike\, Smithfield\, RI\, 02917\, United States
CATEGORIES:Greek Events in Boston and the New England Area
ATTACH;FMTTYPE=image/jpeg:https://e498h76z5mp.exactdn.com/wp-content/uploads/2016/01/12605322_1232904560060045_4361282965860244664_o.jpg
END:VEVENT
BEGIN:VEVENT
DTSTART;TZID=America/New_York:20160221T113000
DTEND;TZID=America/New_York:20160221T130000
DTSTAMP:20260421T143943
CREATED:20160205T204242Z
LAST-MODIFIED:20160205T204242Z
UID:52712-1456054200-1456059600@www.greekboston.com
SUMMARY:The Great Fire Lecture at Holy Trinity Church in Portland Maine
DESCRIPTION:Award Winning Author Lou Ureneck to Speak at the\nHoly Trinity Parish House\nSunday\, February 21\, 2016 at 11:30 AM\nA luncheon will be served with the lecture.\nSponsored by Paideia of Maine\n$12 Donation Includes the Luncheon
URL:https://www.greekboston.com/event/great-fire-lecture-portland-maine/
LOCATION:Holy Trinity Greek Orthodox Church – Portland\, ME\, 133 Pleasant Street\, Portland\, ME\, 04102 \, United States
CATEGORIES:Greek Events in Boston and the New England Area
ATTACH;FMTTYPE=image/png:https://e498h76z5mp.exactdn.com/wp-content/uploads/2016/02/Lou-Ureneck.png
END:VEVENT
BEGIN:VEVENT
DTSTART;TZID=America/New_York:20160221T130000
DTEND;TZID=America/New_York:20160221T150000
DTSTAMP:20260421T143943
CREATED:20160126T180104Z
LAST-MODIFIED:20160126T180135Z
UID:52537-1456059600-1456066800@www.greekboston.com
SUMMARY:Philoptohos/Sunday School Visit to Hellenic Nursing Home
DESCRIPTION:
URL:https://www.greekboston.com/event/sunday-school-nursing-home/
LOCATION:Hellenic Nursing & Rehabilitation Center\, 601 Sherman Street\, Canton\, 02021\, United States
CATEGORIES:Greek Events in Boston and the New England Area
ATTACH;FMTTYPE=image/jpeg:https://e498h76z5mp.exactdn.com/wp-content/uploads/2016/01/12552677_1190158107680945_3069643601121793726_n.jpg
END:VEVENT
BEGIN:VEVENT
DTSTART;TZID=America/New_York:20160221T130000
DTEND;TZID=America/New_York:20160221T150000
DTSTAMP:20260421T143943
CREATED:20160128T125733Z
LAST-MODIFIED:20160128T125733Z
UID:52542-1456059600-1456066800@www.greekboston.com
SUMMARY:Fundraising Luncheon Benefit in Worcester MA for The St Nicholas National Shrine at Ground Zero in New York
DESCRIPTION:All are Welcome to Attend! Bring your family\, friends\, neighbors\, fellow Orthodox Christians\, etc.\nPlease join us on February 21\, for a fundraising luncheon and program to benefit:\nThe Saint Nicholas National Shrine at Ground Zero in New York\n\nPatricia Perry\, is a professional historical interpreter\, a member of the Association for Living History\, and former Chairperson for Blackstone Valley Interpreter Network. She promises to bring to light the trials\, triumphs and private details of our First Ladies from Eleanor Roosevelt to Michelle Obama.\n$20.00 Per Person\nFlyers will be going out to the community. We are taking PAID RESERVATIONS ONLY\, as we will be providing a luncheon. Please remit bottom portion of flyer with your payment to St. Spyridon Cathedral\, 102 Russell Street\, Worcester\, MA 01609.\nIf you cannot attend\, you can still make a donation which will be forwarded to the Saint Nicholas Shrine!
URL:https://www.greekboston.com/event/fundraising-ground-zero-worcester-ma/
LOCATION:St. Spyridon Greek Orthodox Cathedral – Worcester\, 102 Russell Street\, Worcester\, MA\, 01609\, United States
CATEGORIES:Greek Events in Boston and the New England Area
ATTACH;FMTTYPE=image/jpeg:https://e498h76z5mp.exactdn.com/wp-content/uploads/2016/01/12646648_494533630732721_3630093283994760326_o.jpg
END:VEVENT
BEGIN:VEVENT
DTSTART;TZID=America/New_York:20160221T130000
DTEND;TZID=America/New_York:20160221T150000
DTSTAMP:20260421T143943
CREATED:20160216T125929Z
LAST-MODIFIED:20160216T125929Z
UID:53580-1456059600-1456066800@www.greekboston.com
SUMMARY:Local Author Reading Event at St. George Cathedral Springfield MA
DESCRIPTION:
URL:https://www.greekboston.com/event/local-author-springfield-ma/
LOCATION:St. George Greek Orthodox Cathedral – Springfield\, MA\, 22 St. George Road\, Springfield\, MA\, 02720\, United States
CATEGORIES:Greek Events in Boston and the New England Area
ATTACH;FMTTYPE=image/jpeg:https://e498h76z5mp.exactdn.com/wp-content/uploads/2016/02/12710968_1114368405240942_8319086385885892072_o.jpg
END:VEVENT
BEGIN:VEVENT
DTSTART;TZID=America/New_York:20160221T200000
DTEND;TZID=America/New_York:20160222T010000
DTSTAMP:20260421T143943
CREATED:20160114T185958Z
LAST-MODIFIED:20160114T190841Z
UID:52402-1456084800-1456102800@www.greekboston.com
SUMMARY:Zafeiris Melas Live Greek Concert in Roslindale MA
DESCRIPTION:
URL:https://www.greekboston.com/event/zafeiris-melas/
LOCATION:St. Nectarios Greek Orthodox Church – Roslindale\, MA\, 39 Belgrade Ave\, Roslindale\, MA\,  02131\, United States
CATEGORIES:Greek Events in Boston and the New England Area
ATTACH;FMTTYPE=image/jpeg:https://e498h76z5mp.exactdn.com/wp-content/uploads/2016/01/12549118_10156347902105328_2438786540476189655_n.jpg
END:VEVENT
BEGIN:VEVENT
DTSTART;TZID=America/New_York:20160223T190000
DTEND;TZID=America/New_York:20160223T220000
DTSTAMP:20260421T143943
CREATED:20160116T145519Z
LAST-MODIFIED:20160116T145519Z
UID:52412-1456254000-1456264800@www.greekboston.com
SUMMARY:Sophia Papazoglou Live Greek Concert in Brookline MA
DESCRIPTION:
URL:https://www.greekboston.com/event/sophia-papazoglou/
LOCATION:Maliotis Cultural Center\, 50 Goddard Avenue\, Brookline\, MA\, 02130\, United States
CATEGORIES:Greek Events in Boston and the New England Area
ATTACH;FMTTYPE=image/jpeg:https://e498h76z5mp.exactdn.com/wp-content/uploads/2016/01/Sophia-Papazoglou-Feb.23-Flyer.jpg
END:VEVENT
BEGIN:VEVENT
DTSTART;TZID=America/New_York:20160226T190000
DTEND;TZID=America/New_York:20160226T210000
DTSTAMP:20260421T143943
CREATED:20160219T202900Z
LAST-MODIFIED:20160219T202900Z
UID:53685-1456513200-1456520400@www.greekboston.com
SUMMARY:February Symposium at Holy Cross Greek Orthodox School of Theology Brookline MA
DESCRIPTION:
URL:https://www.greekboston.com/event/february-symposium-brookline-ma/
LOCATION:Hellenic College Holy Cross – Brookline MA\, 50 Goddard Ave\, Brookline\, MA\, 02445\, United States
CATEGORIES:Greek Events in Boston and the New England Area
ATTACH;FMTTYPE=image/jpeg:https://e498h76z5mp.exactdn.com/wp-content/uploads/2016/02/revisedFebSymp.poster-_1_.jpg
END:VEVENT
BEGIN:VEVENT
DTSTART;TZID=America/New_York:20160226T191500
DTEND;TZID=America/New_York:20160226T201500
DTSTAMP:20260421T143943
CREATED:20151118T162550Z
LAST-MODIFIED:20160226T165528Z
UID:51852-1456514100-1456517700@www.greekboston.com
SUMMARY:Dancing Zorbas Cardio Fitness Class at St Nectarios Greek Church Roslindale MA
DESCRIPTION:
URL:https://www.greekboston.com/event/zorbas-zumba-roslindale-ma/
LOCATION:St. Nectarios Greek Orthodox Church – Roslindale\, MA\, 39 Belgrade Ave\, Roslindale\, MA\,  02131\, United States
CATEGORIES:Greek Events in Boston and the New England Area
ATTACH;FMTTYPE=image/jpeg:https://e498h76z5mp.exactdn.com/wp-content/uploads/2015/11/10339394_863669916854_8470096201362972812_o.jpg
END:VEVENT
BEGIN:VEVENT
DTSTART;TZID=America/New_York:20160227T103000
DTEND;TZID=America/New_York:20160227T120000
DTSTAMP:20260421T143943
CREATED:20160211T180723Z
LAST-MODIFIED:20160211T180723Z
UID:53530-1456569000-1456574400@www.greekboston.com
SUMMARY:JOY HOPE Event at St. Gregory the Theologian Greek Church Mansfield MA
DESCRIPTION:Please save the date and join us for a day of games\, fellowship and crafts. JOY will be meeting on the same day as our blood drive\, Saturday\, February 27th from 10:30 am to 12:00 pm. Our JOY/HOPE group encompasses children in grades K-6. We encourage parents to drop off their children and take the opportunity to donate blood at this time. If you are interested in lending a hand\, please contact Stephanie LaFond at steph@lafonds.net. We will also be organizing the nursery that day\, so please consider helping out or looking for any toys or toy storage that you may be able to donate. Thank you.
URL:https://www.greekboston.com/event/joy-hope-mansfield-ma/
LOCATION:St. Gregory the Theologian Greek Orthodox Church – Mansfield\, MA\, 1007 West St\, Mansfield\, MA\, 02048\, United States
CATEGORIES:Greek Events in Boston and the New England Area
ATTACH;FMTTYPE=image/jpeg:https://e498h76z5mp.exactdn.com/wp-content/uploads/2016/02/12715534_1220679854612927_3785416998363404757_n.jpg
END:VEVENT
BEGIN:VEVENT
DTSTART;TZID=America/New_York:20160227T153000
DTEND;TZID=America/New_York:20160227T180000
DTSTAMP:20260421T143943
CREATED:20160225T115958Z
LAST-MODIFIED:20160225T115958Z
UID:53834-1456587000-1456596000@www.greekboston.com
SUMMARY:CAS Annual Fundraiser: A Night In Mykonos
DESCRIPTION:Hosted by Christian Angel Smile Foundation.  Please join us for a wonderful evening to support Families who are in need. Live and silent auctions\, Raffles\, entertainment\, wine tasting\, dinner. General Admission $75. Reserved tables 10-12 p $100 per person. Advance purchase recommended.
URL:https://www.greekboston.com/event/cas-annual-fundraiser/
LOCATION:Danversport Yacht Club Danvers MA\, 161 Elliott St\, Danvers\, Massachusetts 01923\, Danvers\, MA\, 01923\, United States
CATEGORIES:Greek Events in Boston and the New England Area
ATTACH;FMTTYPE=image/jpeg:https://e498h76z5mp.exactdn.com/wp-content/uploads/2016/02/12644705_10153391542886045_1163006884339942113_n.jpg
END:VEVENT
BEGIN:VEVENT
DTSTART;TZID=America/New_York:20160227T190000
DTEND;TZID=America/New_York:20160227T230000
DTSTAMP:20260421T143943
CREATED:20160110T141105Z
LAST-MODIFIED:20160116T124620Z
UID:52372-1456599600-1456614000@www.greekboston.com
SUMMARY:Annunciation Woburn GOYA's Red Carpet Semiformal
DESCRIPTION:
URL:https://www.greekboston.com/event/goya-dance-woburn-ma/
LOCATION:Annunciation of The Virgin Mary Greek Orthodox Church  – Woburn\, MA\, 70 Montvale Avenue \, Woburn\, MA\, 01801 \, United States
CATEGORIES:Greek Events in Boston and the New England Area
ATTACH;FMTTYPE=image/jpeg:https://e498h76z5mp.exactdn.com/wp-content/uploads/2016/01/reallyFINAL-CHURCH-FLIER-goya-dance.jpg
END:VEVENT
BEGIN:VEVENT
DTSTART;TZID=America/New_York:20160228T100000
DTEND;TZID=America/New_York:20160228T130000
DTSTAMP:20260421T143943
CREATED:20150116T183756Z
LAST-MODIFIED:20160209T212122Z
UID:45813-1456653600-1456664400@www.greekboston.com
SUMMARY:Godparents Sunday Luncheon at Saint Athanasius the Great Greek Church in Arlington MA
DESCRIPTION:The St. Athanasius Catechetical Sunday School cordially invites you to participate in the 2016 celebration of the special bond between Godparents and their Godchildren! The celebration will take place on Sunday\, February 28th 2016 starting at 10 am.\nActivities include special Godparent/Godchildren blessing during the Divine Liturgy\, invitation to your child’s classroom activities\, cake\, pictures and a special commemorative board featuring Godparents and their Godchildren.
URL:https://www.greekboston.com/event/godparents-luncheon-arlington-ma/
LOCATION:St. Athanasius the Great Greek Orthodox Church – Arlington\, MA\, 4 Appleton St\, Arlington\, MA\, 02476\, United States
CATEGORIES:Greek Events in Boston and the New England Area
ATTACH;FMTTYPE=image/jpeg:https://e498h76z5mp.exactdn.com/wp-content/uploads/2015/01/DSC02144.jpg
END:VEVENT
BEGIN:VEVENT
DTSTART;TZID=America/New_York:20160301T133000
DTEND;TZID=America/New_York:20160301T143000
DTSTAMP:20260421T143943
CREATED:20160225T215821Z
LAST-MODIFIED:20160225T215821Z
UID:53861-1456839000-1456842600@www.greekboston.com
SUMMARY:Greek Orthodox Center for Family Care Webinar
DESCRIPTION:Don’t miss out on our upcoming webinar this Tuesday\, March 1st\, at 1:30PM EST!\nONE WEEK from today!\nTo register visit: https://goarch.zoom.us/webinar/register/56151b6209e2149166858a512be5123a
URL:https://www.greekboston.com/event/orthodox-center-family-webinar/
LOCATION:MA
CATEGORIES:Greek Events in Boston and the New England Area
ATTACH;FMTTYPE=image/jpeg:https://e498h76z5mp.exactdn.com/wp-content/uploads/2016/02/12779095_595037147320088_144509219528317640_o.jpg
END:VEVENT
BEGIN:VEVENT
DTSTART;TZID=America/New_York:20160305T213000
DTEND;TZID=America/New_York:20160306T010000
DTSTAMP:20260421T143943
CREATED:20160203T144405Z
LAST-MODIFIED:20160203T144430Z
UID:52596-1457213400-1457226000@www.greekboston.com
SUMMARY:KARNAVALI GREEK NIGHT in Roslindale MA
DESCRIPTION:κυριες και κυριοι!!! PLEASE WELCOME A ONE TIME SPECIAL EVENT THAT ONLY GREEKS KNOW HOW TO DO BEST! KARNAVALI IS HERE SO GET YOUR MASKS AND GRAB YOUR BEADS CAUSE THE GREEKS ARE PUTTING A WHOLE NEW MEANING TO WHAT MARDI GRAS REPRESENTS! JOIN US MARCH 5th FOR THE CRAZIEST APOKRIATIKO PARTY!! TRANSFORMING THE HALL FOR A NIGHT TO BRING BACK MEMORIES!! DON’T MISS OUT ON THIS SPECIAL EVENT!! COSTUMES ARE ENCOURAGED SO DRESS RIDICULOUS!! το πάρτυ δεν σταματάει!!!!!
URL:https://www.greekboston.com/event/karnavali-night-roslindale-ma/
LOCATION:St. Nectarios Greek Orthodox Church – Roslindale\, MA\, 39 Belgrade Ave\, Roslindale\, MA\,  02131\, United States
CATEGORIES:Greek Events in Boston and the New England Area
ATTACH;FMTTYPE=image/jpeg:https://e498h76z5mp.exactdn.com/wp-content/uploads/2016/02/12669480_10205898791089053_6403206897439391414_n.jpg
END:VEVENT
BEGIN:VEVENT
DTSTART;TZID=America/New_York:20160306T113000
DTEND;TZID=America/New_York:20160306T133000
DTSTAMP:20260421T143943
CREATED:20160218T130623Z
LAST-MODIFIED:20160218T130623Z
UID:53629-1457263800-1457271000@www.greekboston.com
SUMMARY:Meatfare Sunday Brunch at St. Gregory the Theologian Greek Church Mansfield MA
DESCRIPTION:All are welcomed to join in a fellowship brunch on Sunday\, March 6th\, Meatfare Sunday\, in our church hall. For those observing the Lenten Fast\, Meatfare Sunday is the last day on which meat and poultry are eaten before Easter/Pascha. Although we will not charge a fee for the brunch\, we will accept donations for the International Orthodox Christian Charities (IOCC) to be designated to Syrian refugees. We look forward to this opportunity to join in fellowship with our St. Gregory’s family and to supporting a good cause.
URL:https://www.greekboston.com/event/meatfare-brunch-mansfield-ma/
LOCATION:St. Gregory the Theologian Greek Orthodox Church – Mansfield\, MA\, 1007 West St\, Mansfield\, MA\, 02048\, United States
CATEGORIES:Greek Events in Boston and the New England Area
ATTACH;FMTTYPE=image/jpeg:https://e498h76z5mp.exactdn.com/wp-content/uploads/2016/02/12741910_1225452984135614_1806647290549365157_n.jpg
END:VEVENT
BEGIN:VEVENT
DTSTART;TZID=America/New_York:20160306T190000
DTEND;TZID=America/New_York:20160306T230000
DTSTAMP:20260421T143943
CREATED:20160215T171019Z
LAST-MODIFIED:20160215T171031Z
UID:53575-1457290800-1457305200@www.greekboston.com
SUMMARY:Athenian Bouzoukia in Boston!
DESCRIPTION:*****Saturday\,March 5th you are invited to the hottest Greek BOUZOUKIA party in Boston*****\nat:ALEXANDROS CAFE-Σας προσκαλούμε όλους για να ζήσουμε μαζί μια ξεχωριστή\,ατελείωτη και αξέχαστη ΕΛΛΗΝΙΚΗ ΛΑΙΚΗ βραδιά στην Βοστώνη!!\nΜουσική επιμέλεια:\nFeaturing by:ATHENIAN ENTERTAINMENT and:\n***ΓΙΩΡΓΟΣ ΚΑΡΑΤΖΑΣ\n***ΡΑΝΙΑ ΘΕΟΦΑΝΙΔΟΥ\n***ΜΙΧΑΛΗΣ ΣΤΟΥΠΑΚΗΣ\n***MIRON BROYTMAN\n***(ΦΩΝΗΤΙΚΑ\,ΜΠΟΥΖΟΥΚΙ\,ΚΛΑΡΙΝΟ\,ΠΛΗΚΤΡΑ\,ΦΩΤΙΣΜΟΣ)\n\nMusic Starts:22:00 and ends??????????\nMAKE YOUR RESERVATIONS ASP!!!!!!!!!!!\nΝΑ ΕΙΣΤΕ ΟΛΟΙ ΕΚΕΙ\,ΚΑΛΗ ΣΑΣ ΔΙΑΣΚΕΔΑΣΗ!!!!\nBE THERE!!!!!!!\nΠληροφορίες για reservations στο τηλ:857 247 3190 Alexandros Kouklatzis
URL:https://www.greekboston.com/event/athenian-bouzoukia/
LOCATION:Hellenic Soccer Club in Roslindale MA\, 47 Poplar Street\, Roslindale\, MA\, 02131\, United States
CATEGORIES:Greek Events in Boston and the New England Area
ATTACH;FMTTYPE=image/jpeg:https://e498h76z5mp.exactdn.com/wp-content/uploads/2016/02/12654229_552806011562390_6418795167139408524_n.jpg
END:VEVENT
BEGIN:VEVENT
DTSTART;TZID=America/New_York:20160308T183000
DTEND;TZID=America/New_York:20160308T210000
DTSTAMP:20260421T143943
CREATED:20151026T161008Z
LAST-MODIFIED:20160219T190324Z
UID:51460-1457461800-1457470800@www.greekboston.com
SUMMARY:AHEPA Chapter Meeting in Marlboro MA
DESCRIPTION:Regular Monthly Meeting\nMarlboro AHEPA Nicolas Granitsas Chapter 105\nat the Marlboro Ahepa House
URL:https://www.greekboston.com/event/marlboro-ahepa-meeting/
LOCATION:Marlboro AHEPA House\, 80 Westboro Road East\, Marlboro\, MA\, 01752\, United States
CATEGORIES:Greek Events in Boston and the New England Area
ATTACH;FMTTYPE=image/gif:https://e498h76z5mp.exactdn.com/wp-content/uploads/2015/10/AHEPA.gif
END:VEVENT
BEGIN:VEVENT
DTSTART;TZID=America/New_York:20160308T190000
DTEND;TZID=America/New_York:20160308T210000
DTSTAMP:20260421T143943
CREATED:20151026T162158Z
LAST-MODIFIED:20160219T190506Z
UID:51467-1457463600-1457470800@www.greekboston.com
SUMMARY:AHEPA Chapter Meeting in Boston MA
DESCRIPTION:Regular monthly meeting of\nBoston AHEPA Athens Chapter 24\nat the Annunciaton Greek Orthodox Church Cathedral Center
URL:https://www.greekboston.com/event/boston-ahepa-meeting/
LOCATION:Annunciation Greek Orthodox Church – Brockton\, MA\, 457 Oak Street\, Brockton\, MA\, 02401\, United States
CATEGORIES:Greek Events in Boston and the New England Area
ATTACH;FMTTYPE=image/gif:https://e498h76z5mp.exactdn.com/wp-content/uploads/2015/10/AHEPA1.gif
END:VEVENT
BEGIN:VEVENT
DTSTART;TZID=America/New_York:20160308T190000
DTEND;TZID=America/New_York:20160308T210000
DTSTAMP:20260421T143943
CREATED:20151026T162701Z
LAST-MODIFIED:20160219T190217Z
UID:51469-1457463600-1457470800@www.greekboston.com
SUMMARY:Ahepa Chapter Meeting in Haverhill MA
DESCRIPTION:Regular monthly meeting of\nHaverhill AHEPA Acropolis Chapter 39\nat the Haverhill AHEPA House
URL:https://www.greekboston.com/event/haverhill-ahepa-meeting/
LOCATION:Haverhill AHEPA House\, 40 Buttonwoods Avenue\, Haverhill\, MA\, United States
CATEGORIES:Greek Events in Boston and the New England Area
ATTACH;FMTTYPE=image/gif:https://e498h76z5mp.exactdn.com/wp-content/uploads/2015/10/AHEPA.gif
END:VEVENT
BEGIN:VEVENT
DTSTART;TZID=America/New_York:20160309T190000
DTEND;TZID=America/New_York:20160309T210000
DTSTAMP:20260421T143943
CREATED:20151026T163053Z
LAST-MODIFIED:20160219T190116Z
UID:51471-1457550000-1457557200@www.greekboston.com
SUMMARY:AHEPA Chapter Meeting in Worcester MA
DESCRIPTION:Regular monthly meeting of\nWorcester AHEPA Peter L Bell Chapter 80\nat the Worcester AHEPA House
URL:https://www.greekboston.com/event/worcester-ahepa-meeting/
LOCATION:Worcester AHEPA House\, 68 Cedar Street\, Worcester\, MA\, United States
CATEGORIES:Greek Events in Boston and the New England Area
ATTACH;FMTTYPE=image/gif:https://e498h76z5mp.exactdn.com/wp-content/uploads/2015/10/AHEPA.gif
END:VEVENT
BEGIN:VEVENT
DTSTART;TZID=America/New_York:20160309T190000
DTEND;TZID=America/New_York:20160309T210000
DTSTAMP:20260421T143943
CREATED:20160218T125210Z
LAST-MODIFIED:20160218T125210Z
UID:53627-1457550000-1457557200@www.greekboston.com
SUMMARY:Presentation: Volunteering with Refugees in Mytilini
DESCRIPTION:Vasiliki Moore\, returned in early January\, to her home in East Alstead after nearly two months of volunteer work on the Island of Mytilini. She and many other volunteers assisted refugees and migrants as they arrived on the island. Her first-person account of what she saw while working on the island provides a testimony to the horrendous conditions that have driven so many to leave their troubled homelands.\nPresentation followed by questions & answers and refreshments.\nOpen to the public – everyone is invited!
URL:https://www.greekboston.com/event/refugees-mytilini/
LOCATION:St. George Greek Orthodox Church – Keene\, NH\, 70 West Street \, Keene\, NH\, 03431\, United States
CATEGORIES:Greek Events in Boston and the New England Area
ATTACH;FMTTYPE=image/jpeg:https://e498h76z5mp.exactdn.com/wp-content/uploads/2016/02/12728823_1019953458068860_5305034688541582595_n.jpg
END:VEVENT
BEGIN:VEVENT
DTSTART;TZID=America/New_York:20160310T190000
DTEND;TZID=America/New_York:20160310T210000
DTSTAMP:20260421T143943
CREATED:20151026T163510Z
LAST-MODIFIED:20160219T185833Z
UID:51474-1457636400-1457643600@www.greekboston.com
SUMMARY:AHEPA Chapter Meeting in Watertown MA
DESCRIPTION:Regular monthly meeting of\nWatertown AHEPA Harris J Booras Chapter 406\nat Taxiarche Greek Orthodox Church
URL:https://www.greekboston.com/event/watertown-ahepa-meeting/
LOCATION:Taxiarchae Greek Orthodox Church Watertown MA\, 25 Bigelow Ave\, Watertown\, MA\, 02472\, United States
CATEGORIES:Greek Events in Boston and the New England Area
ATTACH;FMTTYPE=image/gif:https://e498h76z5mp.exactdn.com/wp-content/uploads/2015/10/AHEPA.gif
END:VEVENT
BEGIN:VEVENT
DTSTART;TZID=America/New_York:20160311T191500
DTEND;TZID=America/New_York:20160311T201500
DTSTAMP:20260421T143943
CREATED:20160309T130138Z
LAST-MODIFIED:20160309T130138Z
UID:54471-1457723700-1457727300@www.greekboston.com
SUMMARY:Dancing Zorbas Cardio Fitness Class in Braintree MA
DESCRIPTION:Greek Dancing “Cardio Fitness Style” presented by Yiota Kariotis & Alycia Kazis and the St. Nectarios WILS! Have some fun\, relieve some stress and exercise while we workout to Greek Music!
URL:https://www.greekboston.com/event/cardio-fitness-class-braintree/
LOCATION:St. Catherine Greek Orthodox Church\, 119 Common Street\, Braintree\, MA\, 02184\, United States
CATEGORIES:Greek Events in Boston and the New England Area
ATTACH;FMTTYPE=image/jpeg:https://e498h76z5mp.exactdn.com/wp-content/uploads/2016/03/11143297_865875092664_6331389368853130867_o.jpg
END:VEVENT
BEGIN:VEVENT
DTSTART;TZID=America/New_York:20160311T193000
DTEND;TZID=America/New_York:20160311T233000
DTSTAMP:20260421T143943
CREATED:20160216T182658Z
LAST-MODIFIED:20160216T182710Z
UID:53582-1457724600-1457739000@www.greekboston.com
SUMMARY:Mardi Gras at St. George Greek Church Keene NH
DESCRIPTION:Join us for Αποκριάτικο / Apokriatiko\, our annual Carnival dance before the start of Great Lent.\nFriday\, March 11\, 2016\n7:30 to 11:30 p.m.\nHellenic Hall\, 70 West Street\, Keene\nBring the family – Bring your friends\nPlease dress in a costume if you would like!\nEnjoy great food and dance to music by Salonica Boys (DJ)\nAdults: $15.00\nStudents/Children (5 and above): $10.00\nChildren under 5: free\nCash Bar
URL:https://www.greekboston.com/event/mardi-gras-keene-nh/
LOCATION:St. George Greek Orthodox Church – Keene\, NH\, 70 West Street \, Keene\, NH\, 03431\, United States
CATEGORIES:Greek Events in Boston and the New England Area
ATTACH;FMTTYPE=image/jpeg:https://e498h76z5mp.exactdn.com/wp-content/uploads/2016/02/12657255_1019151891482350_8617203609269049375_o.jpg
END:VEVENT
BEGIN:VEVENT
DTSTART;TZID=America/New_York:20160312T193000
DTEND;TZID=America/New_York:20160312T220000
DTSTAMP:20260421T143943
CREATED:20151108T135611Z
LAST-MODIFIED:20160108T190102Z
UID:51765-1457811000-1457820000@www.greekboston.com
SUMMARY:Apokriatiko Glendi with Basile the Greek Comedian in Foxborough MA
DESCRIPTION:The Greek Orthodox Churches of Pawtucket and Cranston Rhode Island\, are proud to present “Apokriatiko Glendi with Basile the Comedian.”Basile the Comedian is well known around the world. He will be performing “Growing up Greek in America.” Basile has over 100 television appearances throughout the world\, including HBO\, Showtime\, Comedy Central and the Jay Leno Show on NBC to name just a few.Our Churches have come together to create a memorable evening for the whole family. Be prepared for live music\, lots of laughs\, and memories for years. Please visit basile.eventbrite.com for tickets. Doors will open at 7:30pm. $75 for VIP (Closer tickets) $50 for General Admission. Both tickets include “mezedes.” 
URL:https://www.greekboston.com/event/basile-comedian-foxborough-ma/
LOCATION:Demetri’s Function Facility Foxborough MA\, 2 Washington Street\, Foxborough\, MA\, 02035\, United States
CATEGORIES:Greek Events in Boston and the New England Area
ATTACH;FMTTYPE=image/jpeg:https://e498h76z5mp.exactdn.com/wp-content/uploads/2015/11/BasileConcertFinal.jpg
END:VEVENT
BEGIN:VEVENT
DTSTART;TZID=America/New_York:20160312T193000
DTEND;TZID=America/New_York:20160312T230000
DTSTAMP:20260421T143943
CREATED:20160224T221829Z
LAST-MODIFIED:20160224T221829Z
UID:53831-1457811000-1457823600@www.greekboston.com
SUMMARY:The Music of Greece Event at Dormition of the Virgin Mary Greek Church Somerville MA
DESCRIPTION:
URL:https://www.greekboston.com/event/music-greece-somerville-ma/
LOCATION:Dormition of the Virgin Mary Greek Orthodox Church\, 29 Central Street\, Somerville\, MA\, 02143\, United States
CATEGORIES:Greek Events in Boston and the New England Area
ATTACH;FMTTYPE=image/jpeg:https://e498h76z5mp.exactdn.com/wp-content/uploads/2016/02/For-Email-Sharing.jpg
END:VEVENT
END:VCALENDAR