BEGIN:VCALENDAR
VERSION:2.0
PRODID:-// - ECPv6.15.18//NONSGML v1.0//EN
CALSCALE:GREGORIAN
METHOD:PUBLISH
X-ORIGINAL-URL:https://www.greekboston.com
X-WR-CALDESC:Events for 
REFRESH-INTERVAL;VALUE=DURATION:PT1H
X-Robots-Tag:noindex
X-PUBLISHED-TTL:PT1H
BEGIN:VTIMEZONE
TZID:America/New_York
BEGIN:DAYLIGHT
TZOFFSETFROM:-0500
TZOFFSETTO:-0400
TZNAME:EDT
DTSTART:20150308T070000
END:DAYLIGHT
BEGIN:STANDARD
TZOFFSETFROM:-0400
TZOFFSETTO:-0500
TZNAME:EST
DTSTART:20151101T060000
END:STANDARD
BEGIN:DAYLIGHT
TZOFFSETFROM:-0500
TZOFFSETTO:-0400
TZNAME:EDT
DTSTART:20160313T070000
END:DAYLIGHT
BEGIN:STANDARD
TZOFFSETFROM:-0400
TZOFFSETTO:-0500
TZNAME:EST
DTSTART:20161106T060000
END:STANDARD
BEGIN:DAYLIGHT
TZOFFSETFROM:-0500
TZOFFSETTO:-0400
TZNAME:EDT
DTSTART:20170312T070000
END:DAYLIGHT
BEGIN:STANDARD
TZOFFSETFROM:-0400
TZOFFSETTO:-0500
TZNAME:EST
DTSTART:20171105T060000
END:STANDARD
END:VTIMEZONE
BEGIN:VEVENT
DTSTART;TZID=America/New_York:20160425T193000
DTEND;TZID=America/New_York:20160425T210000
DTSTAMP:20260421T065533
CREATED:20160417T205125Z
LAST-MODIFIED:20160417T224233Z
UID:55588-1461612600-1461618000@www.greekboston.com
SUMMARY:Belmont World Film Presents the New England Premiere of the Movie CHEVALIER
DESCRIPTION:Greek New Wave director Tsangari sets this satirical film on a luxury yacht in the middle of the Aegean Sea\, where six diverse men are on a fishing vacation. Overcome by farcical machismo after their first catch\, the men devise an unusual game to determine who is the most masculine. The winner of this curious series of contests will wear the victorious signet ring\, the “chevalier.” Official selection at the Toronto International Film Festival. Contains several brief scenes of frontal nudity.\nSpeaker: Vassiliki Rapti\, Preceptor in Modern Greek at Harvard University\, whose publications and research interests center upon Modern Greek literature\, avant-garde theatre and performance\, especially surrealist drama\, and the poetics of play and games.\nFor tickets and more information\, visit www.belmontworldfilm.org/2016Pages/Chevalier.html
URL:https://www.greekboston.com/event/chevalier-movie/
LOCATION:Studio Cinema\, 376 Trapelo Road\, Belmont\, MA\, 02478\, United States
CATEGORIES:Greek Events in Boston and the New England Area
ATTACH;FMTTYPE=image/jpeg:https://e498h76z5mp.exactdn.com/wp-content/uploads/2016/04/Chevalier3.jpg
END:VEVENT
BEGIN:VEVENT
DTSTART;TZID=America/New_York:20160426T180000
DTEND;TZID=America/New_York:20160426T203000
DTSTAMP:20260421T065533
CREATED:20160425T185225Z
LAST-MODIFIED:20160425T185225Z
UID:55743-1461693600-1461702600@www.greekboston.com
SUMMARY:Greek Wine Tasting Alston MA from Xinomavro Naoussa
DESCRIPTION:OPEN TO THE PUBLIC – Tuesday April\, 26\n6pm to 8:30pm\nPAY YOUR AGE NIGHT/A Benefit for the Footlight Club\nDiscover the Best New Wine You Never Heard Of:\nNAOUSSA XINOMAVRO and meet winemakers from Naoussa\, Greece\nHERE’S HOW IT WORKS! Everyone buys a ticket for $21 in advance\, and you pay the difference at the door…\nBWS @ Bee’s Knees | Pay Your Age Tasting to benefit The Footlight Club\n1316 Commonwealth Avenue\, Boston\, MA
URL:https://www.greekboston.com/event/wine-tasting-allston-ma/
LOCATION:Bee’s Knees\, 1316 Commonwealth Avenue\, Allston\, MA\, 02134\, United States
CATEGORIES:Greek Events in Boston and the New England Area
ATTACH;FMTTYPE=image/jpeg:https://e498h76z5mp.exactdn.com/wp-content/uploads/2016/04/10689981_1515429655395488_871938309472204619_n.jpg
END:VEVENT
BEGIN:VEVENT
DTSTART;TZID=America/New_York:20160427T180000
DTEND;TZID=America/New_York:20160427T210000
DTSTAMP:20260421T065533
CREATED:20160418T202643Z
LAST-MODIFIED:20160418T202643Z
UID:55594-1461780000-1461790800@www.greekboston.com
SUMMARY:Greek Wine Dinner at Tinos Greek Kitchen Hampton NH
DESCRIPTION:Tinios Greek Kitchen features an extensive wine list offering over 70 wines! We are extremely excited to be hosting our first wine dinner. Guests will enjoy a wine and appetizer reception to start; followed by indulging in a three course menu where each course is partnered perfectly with a range of MS Walker/Diamond Import wine selections; reservations are essential. $75 per person.\nFor reservations please call 603-926-5489 or visit http://galleyhatch.com/event/tinos-wine-dinner/
URL:https://www.greekboston.com/event/wine-dinner-hampton-nh/
LOCATION:Tinos Greek Kitchen\, 325 Lafayette Road\, Hampton\, NH\, 03842\, United States
CATEGORIES:Greek Events in Boston and the New England Area
ATTACH;FMTTYPE=image/jpeg:https://e498h76z5mp.exactdn.com/wp-content/uploads/2016/04/2016Wine-dinner-Menu.jpg
END:VEVENT
BEGIN:VEVENT
DTSTART;TZID=America/New_York:20160501T110000
DTEND;TZID=America/New_York:20160501T200000
DTSTAMP:20260421T065533
CREATED:20160418T202943Z
LAST-MODIFIED:20160418T202943Z
UID:55596-1462100400-1462132800@www.greekboston.com
SUMMARY:Greek Easter at Tinos Greek Kitchen Hampton NH
DESCRIPTION:Join us for Greek Easter with Guest Chef- Mary Papadopoulos Reilly\nMary is best known on the North Shore for the Italian food she served as the former chef and owner of Enzo Restaurant & Bar. However\, she has fond memories of Easter traditions she shared with her father’s family in Astoria\, Queens and the congregation of St. Nicholas Greek Orthodox Church in New Jersey. She is looking forward to sharing her traditions\, both new and old\, at Tinos Greek Kitchen this spring.\nhttp://galleyhatch.com/event/greek-easter-at-tinos/
URL:https://www.greekboston.com/event/easter-hampton-nh/
LOCATION:Tinos Greek Kitchen\, 325 Lafayette Road\, Hampton\, NH\, 03842\, United States
CATEGORIES:Greek Events in Boston and the New England Area
ATTACH;FMTTYPE=image/jpeg:https://e498h76z5mp.exactdn.com/wp-content/uploads/2016/04/2016greekeaster-greekboston.jpg
END:VEVENT
BEGIN:VEVENT
DTSTART;TZID=America/New_York:20160501T130000
DTEND;TZID=America/New_York:20160501T170000
DTSTAMP:20260421T065533
CREATED:20160419T125228Z
LAST-MODIFIED:20160419T125244Z
UID:55603-1462107600-1462122000@www.greekboston.com
SUMMARY:Greek Easter Feast for Greek Community @ MIT Cambridge MA
DESCRIPTION:Join the Hellenic Student Association of MIT for our annual Greek Easter Celebration! There will be delicious food (lamb\, souvlakia\, tzatziki\, spanakopita\, and more)\, live music\, dancing\, and a cash bar (21+ ID required).\nTickets sold at the door (soon info on online pre-sale)\nStudents: $15\nNon-Students: $20
URL:https://www.greekboston.com/event/easter-mit-cambridge/
LOCATION:Sidney Pacific Graduate Residence MIT\, 70 Pacific Street\, Cambridge\, MA\, 02139\, United States
CATEGORIES:Greek Events in Boston and the New England Area
ATTACH;FMTTYPE=image/jpeg:https://e498h76z5mp.exactdn.com/wp-content/uploads/2016/04/13043228_10154703761469338_7053029501624119292_n.jpg
END:VEVENT
BEGIN:VEVENT
DTSTART;TZID=America/New_York:20160501T150000
DTEND;TZID=America/New_York:20160501T200000
DTSTAMP:20260421T065533
CREATED:20160406T183046Z
LAST-MODIFIED:20160406T183126Z
UID:55382-1462114800-1462132800@www.greekboston.com
SUMMARY:Greek Easter at Doretta Taverna & Raw Bar
DESCRIPTION:
URL:https://www.greekboston.com/event/easter-doretta-taverna/
LOCATION:Doretta Taverna & Raw Bar Boston MA\, 79 Park Plaza\, Boston\, MA\, 02116\, United States
CATEGORIES:Greek Events in Boston and the New England Area
ATTACH;FMTTYPE=image/jpeg:https://e498h76z5mp.exactdn.com/wp-content/uploads/2016/04/Greek-Easter.jpg
END:VEVENT
BEGIN:VEVENT
DTSTART;TZID=America/New_York:20160501T220000
DTEND;TZID=America/New_York:20160502T020000
DTSTAMP:20260421T065533
CREATED:20160317T210800Z
LAST-MODIFIED:20160327T214646Z
UID:54700-1462140000-1462154400@www.greekboston.com
SUMMARY:Easter Greek Night in Boston MA
DESCRIPTION:ELLAS TV AND PAREA BOSTON CORDIALLY INVITES YOU TO JOIN US AS WE CELEBRATE GREEK EASTER @ SOCIETY. DJ CHRIS OF SOLONICA BOYS KICKING THE BEST GREEK DANCE ANTHEMS THAT WILL MAKE YOU SCREAM OPA! CALL FOR MORE INFORMATION\, GUEST LIST \,TABLE RESERVATION FOR LARGE PAREA:\nJIMMY K @ 617_599_8380\nPANOS G @ 617_697_7097\nPAUL Y @ 857_453_0154\nTHIS IS 21 PLUS EVENT
URL:https://www.greekboston.com/event/easter-greek-night/
LOCATION:Society on High Boston MA\, 99 High Street\, Boston\, MA\, 02110\, United States
CATEGORIES:Greek Events in Boston and the New England Area
ATTACH;FMTTYPE=image/jpeg:https://e498h76z5mp.exactdn.com/wp-content/uploads/2016/03/12512326_10153955383116132_2414691840786018240_n.jpg
END:VEVENT
BEGIN:VEVENT
DTSTART;TZID=America/New_York:20160504T081500
DTEND;TZID=America/New_York:20160504T081500
DTSTAMP:20260421T065533
CREATED:20160407T131731Z
LAST-MODIFIED:20160407T131806Z
UID:55406-1462349700-1462349700@www.greekboston.com
SUMMARY:Freeport Maine Day of Shopping for Annunciation Greek Orthodox Cathedral of New England
DESCRIPTION:
URL:https://www.greekboston.com/event/freeport-maine-shopping/
LOCATION:Cathedral Center\, 162 Goddard Ave\, Brookline\, 02445
CATEGORIES:Greek Events in Boston and the New England Area
ATTACH;FMTTYPE=image/jpeg:https://e498h76z5mp.exactdn.com/wp-content/uploads/2016/04/12828499_1220609841302438_1630519093448796056_o.jpg
END:VEVENT
BEGIN:VEVENT
DTSTART;VALUE=DATE:20160505
DTEND;VALUE=DATE:20160506
DTSTAMP:20260421T065533
CREATED:20160323T122432Z
LAST-MODIFIED:20160323T122432Z
UID:54798-1462406400-1462492799@www.greekboston.com
SUMMARY:Greek Classes:  ΜΑΘHΣΙΣ – MATHESIS (learning\, knowledge\, experience) at The Greek Institute Cambridge MA
DESCRIPTION:
URL:https://www.greekboston.com/event/classes-mathesis-cambridge-ma/
LOCATION:The Greek Institute\, 1038 Massachusetts Avenue\, Cambridge\, MA\, 02138\, United States
CATEGORIES:Greek Events in Boston and the New England Area
ATTACH;FMTTYPE=image/jpeg:https://e498h76z5mp.exactdn.com/wp-content/uploads/2016/03/ΜΑΘΕΣΙΣ-Mathesis.jpg
END:VEVENT
BEGIN:VEVENT
DTSTART;TZID=America/New_York:20160506T183000
DTEND;TZID=America/New_York:20160506T220000
DTSTAMP:20260421T065533
CREATED:20160318T193103Z
LAST-MODIFIED:20160318T193103Z
UID:54713-1462559400-1462572000@www.greekboston.com
SUMMARY:Hellenic American Academy 110 Years of Academic Excellence
DESCRIPTION:Please join us as we celebrate 110 Years of Academic Excellence\nDinner-Dance FEATURING orfeas\nFor more information contact\nhaaevents@aol.com
URL:https://www.greekboston.com/event/hellenic-american-academy-excellence/
LOCATION:Indian Ridge Country Club\, 73 Lovejoy Road\, Andover\, 01810\, United States
CATEGORIES:Greek Events in Boston and the New England Area
ATTACH;FMTTYPE=image/jpeg:https://e498h76z5mp.exactdn.com/wp-content/uploads/2016/03/10417725_810610462376471_2446888956465015632_n.jpg
END:VEVENT
BEGIN:VEVENT
DTSTART;TZID=America/New_York:20160507T190000
DTEND;TZID=America/New_York:20160507T220000
DTSTAMP:20260421T065533
CREATED:20160422T005530Z
LAST-MODIFIED:20160422T005530Z
UID:55707-1462647600-1462658400@www.greekboston.com
SUMMARY:El Greco\, Master Ahead of His Time Lecture Worcester MA
DESCRIPTION:
URL:https://www.greekboston.com/event/el-greco-lecture-worcester-ma/
LOCATION:St. Spyridon Greek Orthodox Cathedral – Worcester\, 102 Russell Street\, Worcester\, MA\, 01609\, United States
CATEGORIES:Greek Events in Boston and the New England Area
ATTACH;FMTTYPE=image/jpeg:https://e498h76z5mp.exactdn.com/wp-content/uploads/2016/04/HAS-El-Greco-postercopy_scan.jpg
END:VEVENT
BEGIN:VEVENT
DTSTART;TZID=America/New_York:20160507T190000
DTEND;TZID=America/New_York:20160507T220000
DTSTAMP:20260421T065533
CREATED:20160504T121529Z
LAST-MODIFIED:20160504T121529Z
UID:55858-1462647600-1462658400@www.greekboston.com
SUMMARY:Wine and Beer Tasting and Silent Auction at St Vasilios Greek Church Peabody MA
DESCRIPTION:
URL:https://www.greekboston.com/event/tasting-silent-auction-peabody-ma/
LOCATION:Saint Vasilios Greek Orthodox Church\, 5 Paleologos Street\, Peabody\, MA\, 01960\, United States
CATEGORIES:Greek Events in Boston and the New England Area
ATTACH;FMTTYPE=image/jpeg:https://e498h76z5mp.exactdn.com/wp-content/uploads/2016/05/13094182_723007027838897_5076703723583200440_n.jpg
END:VEVENT
BEGIN:VEVENT
DTSTART;TZID=America/New_York:20160508T120000
DTEND;TZID=America/New_York:20160508T150000
DTSTAMP:20260421T065533
CREATED:20160503T161817Z
LAST-MODIFIED:20160503T161817Z
UID:55835-1462708800-1462719600@www.greekboston.com
SUMMARY:Mother's Day Luncheon at St. Philip Greek Church Nashua NH
DESCRIPTION:Christ is Risen! This Sunday\, May 8\, friends from AHEPA will offer a beautiful luncheon in honor of Mother’s Day–lovely flowers will also be given to all our mothers. Please join us and bring the whole family for Divine Liturgy and this wonderful community event.
URL:https://www.greekboston.com/event/mothers-day-luncheon-nashua-nh/
LOCATION:St. Philip Greek Orthodox Church – Nashua\, NH\, 500 West Hollis Street\, Nashua\, NH\, 03062\, United States
CATEGORIES:Greek Events in Boston and the New England Area
ATTACH;FMTTYPE=image/jpeg:https://e498h76z5mp.exactdn.com/wp-content/uploads/2016/05/13133202_1067991676605486_1013490010763076084_n.jpg
END:VEVENT
BEGIN:VEVENT
DTSTART;TZID=America/New_York:20160510T193000
DTEND;TZID=America/New_York:20160510T210000
DTSTAMP:20260421T065533
CREATED:20160318T171721Z
LAST-MODIFIED:20160318T171749Z
UID:54708-1462908600-1462914000@www.greekboston.com
SUMMARY:Hellenic Culture & Heritage Society "Celebrates" Eleni Zohdi's book\, "Eleni's Poetic Stories" in Lowell MA
DESCRIPTION:May 10\, 2016 at Transfiguration Greek Orthodox Church\, 25 Father Sarantos way\, Lowell MA 7:30 to 9:00 pm\nhttp://ekdoseis.koyinta.gr/en/video/58-eleni-zohdi-the-wave\nRSVP BY APRIL 10 PLEASE! SPACE IS LIMITED REFRESHMENTS WILL BE SERVED
URL:https://www.greekboston.com/event/eleni-zohdis-poetic-stories/
LOCATION:Transfiguration Greek Orthodox Church – Lowell\, MA\, 25 Fr. John Sarantos Way\, Lowell\, 01854\, United States
ATTACH;FMTTYPE=image/jpeg:https://e498h76z5mp.exactdn.com/wp-content/uploads/2016/03/88308d5f09774d69832a8ea943f53be1-0.jpg
END:VEVENT
BEGIN:VEVENT
DTSTART;TZID=America/New_York:20160511T173000
DTEND;TZID=America/New_York:20160511T203000
DTSTAMP:20260421T065533
CREATED:20160420T200305Z
LAST-MODIFIED:20160420T200305Z
UID:55658-1462987800-1462998600@www.greekboston.com
SUMMARY:Tour of New Greek Art Galleries at the Museum of Fine Arts Boston MA
DESCRIPTION:May 11th at 5:30pm Christine Kondoleon\, George D. and Margo Behrakis Senior Curator of Greek and Roman Art\, will lead a guided tour of the three\, new Greek galleries at the Museum of Fine Arts (at 465 Huntington Avenue Boston\, Massachusetts 02115) exclusively for members and friends of the Greek Institute. These galleries include works that highlight Homer and the Epics; Dionysus and the Symposium; and Theater and Performance. The tour will also honor the memory of our dear friend and member of our advisory board\, Henry Irving\, who passed away earlier this year.\nThis tour will be available to friends and members of the Greek Institute free of charge. Please RSVP by May 4th by phone (617-547-4770) or email (greekinst@verizon.net).
URL:https://www.greekboston.com/event/tour-art-galleries-mfa/
LOCATION:Museum of Fine Arts (MFA) Boston\, 465 Huntington Ave\, Boston\, MA\, 02115\, United States
CATEGORIES:Greek Events in Boston and the New England Area
ATTACH;FMTTYPE=image/gif:https://e498h76z5mp.exactdn.com/wp-content/uploads/2016/04/GILogo.gif
END:VEVENT
BEGIN:VEVENT
DTSTART;TZID=America/New_York:20160513T183000
DTEND;TZID=America/New_York:20160513T223000
DTSTAMP:20260421T065533
CREATED:20160209T204918Z
LAST-MODIFIED:20170511T185502Z
UID:52880-1463164200-1463178600@www.greekboston.com
SUMMARY:Live Greek Music in Hampton NH
DESCRIPTION:Enjoy an evening of Live Greek Music by Enosis Greek Music band at the newly established Tinos Greek Kitchen in Hampton NH! Enjoy the wonderful ambiance this venue has to offer.
URL:https://www.greekboston.com/event/night-hampton-nh-2/
LOCATION:Tinos Greek Kitchen\, 325 Lafayette Road\, Hampton\, NH\, 03842\, United States
CATEGORIES:Greek Events in Boston and the New England Area
ATTACH;FMTTYPE=image/jpeg:https://e498h76z5mp.exactdn.com/wp-content/uploads/2016/02/Greek-Night-Hampton-NH.jpg
END:VEVENT
BEGIN:VEVENT
DTSTART;TZID=America/New_York:20160513T200000
DTEND;TZID=America/New_York:20160513T230000
DTSTAMP:20260421T065533
CREATED:20160414T112017Z
LAST-MODIFIED:20160414T112036Z
UID:55534-1463169600-1463180400@www.greekboston.com
SUMMARY:Evren at the Athenian Corner Lowell MA
DESCRIPTION:Please join me for a fantastic Friday night full of good food\, live music\, open dancing\, delightful company\, and lots of fun. Music starts around 8pm and my performance will be sometime between 8:30 and 9. I look forward to sharing my dance with you!\nIf you would like to sit at my table\, please let me know – via private message – by May 4th. Otherwise\, please contact the Athenian Corner directly (978-458-7052) to make your reservation for a table near the stage.
URL:https://www.greekboston.com/event/evren-lowell-ma/
LOCATION:Athenian Corner Restaurant Lowell MA\, 207 Market Street\, Lowell\, 01852\, United States
CATEGORIES:Greek Events in Boston and the New England Area
ATTACH;FMTTYPE=image/jpeg:https://e498h76z5mp.exactdn.com/wp-content/uploads/2016/04/12987226_10153555876183231_6423260600779947625_n.jpg
END:VEVENT
BEGIN:VEVENT
DTSTART;TZID=America/New_York:20160514T190000
DTEND;TZID=America/New_York:20160514T223000
DTSTAMP:20260421T065533
CREATED:20150326T202802Z
LAST-MODIFIED:20160319T135823Z
UID:47042-1463252400-1463265000@www.greekboston.com
SUMMARY:Greek Music Ensemble at Annunciation Greek Church Brockton MA
DESCRIPTION:7 PM Buffet and Cocktail Reception.\nConcert 8 PM to 10:30 PM\nTickets are $50 for adults and $15 for under 18 years of age.
URL:https://www.greekboston.com/event/music-ensemble-brockton-ma/
LOCATION:Annunciation Greek Orthodox Church – Brockton\, MA\, 457 Oak Street\, Brockton\, MA\, 02401\, United States
CATEGORIES:Greek Events in Boston and the New England Area
ATTACH;FMTTYPE=image/jpeg:https://e498h76z5mp.exactdn.com/wp-content/uploads/2015/03/10378072_10153314954841436_707186794947254111_n.jpg
END:VEVENT
BEGIN:VEVENT
DTSTART;TZID=America/New_York:20160514T190000
DTEND;TZID=America/New_York:20160514T230000
DTSTAMP:20260421T065533
CREATED:20160119T202140Z
LAST-MODIFIED:20160119T202140Z
UID:52443-1463252400-1463266800@www.greekboston.com
SUMMARY:35th Anniversary Celebration of Spirit Dance at St. Luke Greek Church East Longmeadow MA
DESCRIPTION:
URL:https://www.greekboston.com/event/anniversary-celebration-longmeadow-ma/
LOCATION:Greek Orthodox Church of St Luke\, 400 Prospect Street \, East Longmeadow\, MA\, 01028\, United States
CATEGORIES:Greek Events in Boston and the New England Area
ATTACH;FMTTYPE=image/jpeg:https://e498h76z5mp.exactdn.com/wp-content/uploads/2016/01/12594036_1146991205318865_8524168834902422293_o.jpg
END:VEVENT
BEGIN:VEVENT
DTSTART;TZID=America/New_York:20160514T190000
DTEND;TZID=America/New_York:20160514T230000
DTSTAMP:20260421T065533
CREATED:20160310T194358Z
LAST-MODIFIED:20160510T184745Z
UID:54529-1463252400-1463266800@www.greekboston.com
SUMMARY:GOYA Masquerade Ball in Pawtucket RI
DESCRIPTION:GOYA Masquerade Ball in Pawtucket\, Rhode Island\nSaturday\, May 14\, 2016 @ 7 P.M. to 11 P.M.\nAssumption of the Virgin Mary Greek Orthodox Church\n97 Walcott Street\, Pawtucket\, Rhode Island\nPawtucket GOYA will be hosting a Masquerade Ball on Saturday May 14th from 7 P.M. until 11 P.M.  All GOYAns are invited!!!  Dance to the Greek and American sounds of DJ Stavros of the Salonica Boys.  Admission is $10 which includes a light menu.  Semi-formal attire.  Bring your own masquerade mask.  Masks will also be available at the door. Please RSVP by May 7th to AssumptionRIGOYA@gmail.com
URL:https://www.greekboston.com/event/masquerade-ball-pawtucket-ri/
LOCATION:Assumption of the Virgin Mary Church -Pawtucket\, RI\, 97 Walcott Street\, Pawtucket\, RI\, United States
CATEGORIES:Greek Events in Boston and the New England Area
ATTACH;FMTTYPE=image/jpeg:https://e498h76z5mp.exactdn.com/wp-content/uploads/2016/03/5-14-2016-Pawtucket-Goya-Dance-Flyer.jpg
END:VEVENT
BEGIN:VEVENT
DTSTART;TZID=America/New_York:20160514T210000
DTEND;TZID=America/New_York:20160515T000000
DTSTAMP:20260421T065533
CREATED:20160412T162811Z
LAST-MODIFIED:20160413T230234Z
UID:55487-1463259600-1463270400@www.greekboston.com
SUMMARY:Stathis Psaltis Live Show in Braintree MA
DESCRIPTION:
URL:https://www.greekboston.com/event/stathis-psaltis/
LOCATION:St. Catherine Greek Orthodox Church\, 119 Common Street\, Braintree\, MA\, 02184\, United States
CATEGORIES:Greek Events in Boston and the New England Area
ATTACH;FMTTYPE=image/jpeg:https://e498h76z5mp.exactdn.com/wp-content/uploads/2016/04/psaltis-boston-back.jpg
END:VEVENT
BEGIN:VEVENT
DTSTART;TZID=America/New_York:20160517T190000
DTEND;TZID=America/New_York:20160517T220000
DTSTAMP:20260421T065533
CREATED:20160510T184631Z
LAST-MODIFIED:20160510T184631Z
UID:55965-1463511600-1463522400@www.greekboston.com
SUMMARY:St. Val's Mens Club Bowling Night Danvers MA
DESCRIPTION:
URL:https://www.greekboston.com/event/bowling-night-danvers-ma/
LOCATION:Sunnyside Bowladrome Danvers MA\, 176 Water Street\, Danvers\, MA\, 01923\, United States
CATEGORIES:Greek Events in Boston and the New England Area
ATTACH;FMTTYPE=image/jpeg:https://e498h76z5mp.exactdn.com/wp-content/uploads/2016/05/facebook_1462893523334.jpg
END:VEVENT
BEGIN:VEVENT
DTSTART;TZID=America/New_York:20160517T193000
DTEND;TZID=America/New_York:20160517T220000
DTSTAMP:20260421T065533
CREATED:20160512T185049Z
LAST-MODIFIED:20160512T185049Z
UID:56038-1463513400-1463522400@www.greekboston.com
SUMMARY:Psaltikon Directed by Spyridon Antonopoulos will perform as Part of the Newton Festival of the Arts
DESCRIPTION:The ensemble Psaltikon\, directed by Spyridon Antonopoulos\, will perform a concert titled “The Psalmody of Creation” at Newton City Hall\, 7:30pm\, Tuesday\, 17 May. The program will explore the repertoire of Byzantine chant (ψαλτική) as well as its origins in ancient Greek music and Jewish music. Tickets are $10\, and may be purchased at the door or online at http://www.newtoncommunitypride.org.
URL:https://www.greekboston.com/event/psaltikon-spyridon-antonopoulos-newton-ma/
LOCATION:Newton Cultural Center at Newton City Hall\, 1000 Commonwealth Avenue\, Newton\, MA 02459\, MA\, 02459\, United States
CATEGORIES:Greek Events in Boston and the New England Area
ATTACH;FMTTYPE=image/jpeg:https://e498h76z5mp.exactdn.com/wp-content/uploads/2016/05/psaltikon-newton-flyer-2b-final_-_1_.jpg
END:VEVENT
BEGIN:VEVENT
DTSTART;TZID=America/New_York:20160519T180000
DTEND;TZID=America/New_York:20160519T220000
DTSTAMP:20260421T065533
CREATED:20160331T112321Z
LAST-MODIFIED:20160331T112321Z
UID:55164-1463680800-1463695200@www.greekboston.com
SUMMARY:Greek Isle Paint and Sip Fundraiser at St. George Greek Church Pittsfiled MA
DESCRIPTION:May 19th @ 6:00pm Greek Isle paint & sip to benefit St. George Greek Orthodox Church. At Berkshire Paint and Sip 305 North St. Pittsfield\, MA\nCost $35 includes paint supplies and Greek appetizers. Cash bar. You will get step by step instructions to complete a 16 X 20 canvas. Please reserve today 413-205-8346 or online at berkshirepaintandsip.com
URL:https://www.greekboston.com/event/paint-sip-fundraiser-pittsfiled-ma/
LOCATION:St. George Greek Orthodox Church of the Berkshires\, 73 Bradford St. \, Pittsfield\, MA\, 01201\, United States
CATEGORIES:Greek Events in Boston and the New England Area
ATTACH;FMTTYPE=image/jpeg:https://e498h76z5mp.exactdn.com/wp-content/uploads/2016/03/12832512_1309625772387889_6652079682814791013_n.jpg
END:VEVENT
BEGIN:VEVENT
DTSTART;TZID=America/New_York:20160520T170000
DTEND;TZID=America/New_York:20160520T200000
DTSTAMP:20260421T065533
CREATED:20160514T104609Z
LAST-MODIFIED:20160520T144017Z
UID:56089-1463763600-1463774400@www.greekboston.com
SUMMARY:1916-2016: 100 Year Commemoration of the Genocidal Acts of the Ottoman Turks
DESCRIPTION:Pontian Society “Panagia Soumela” of Boston & Pontian Society “Pontiaki Estia” of Massachusetts invite you to join them in commemorating the 100 year anniversary of the Greek Pontian Genocidal acts by the Ottoman Turks.\nJOIN US IN A 2 DAY EVENT!!!\nThursday\, May 19\, 2016 @ 6:30pm\nMemorial Service for the 353\,000 victims\nSt. Nectarios Greek Orthodox Church\n39 Belgrade Ave\, Roslindale\, MA 02131\nFriday\, May 20\, 2016 @ 5:00pm\nConference\nConsulate General of Greece\n86 Beacon St\, Boston MA 02108\n(light reception to follow)\nFriday evening Speakers:\nDR. THEODOSIOS KYRIAKIDIS: Aristotle University\, Thessaloniki\, Greece\, Department of Theology\nDR. NIKOLAOS MICHAELIDIS: Princeton University\, New Jersey\, USA\, Department of Anthropology\nDR. PAMELA STEINER: Harvard University\, Boston MA\, School of Public Health.\nPresentations by: Parthena Lambrianidis\, original poem & Dr. Kyriakidis\, Book author.
URL:https://www.greekboston.com/event/commemoration-genocidal-turks/
LOCATION:Consulate General of Greece in Boston\, 86 Beacon Street\, Boston\, Massachusetts 02108\, MA\, 02108\, United States
CATEGORIES:Greek Events in Boston and the New England Area
ATTACH;FMTTYPE=image/jpeg:https://e498h76z5mp.exactdn.com/wp-content/uploads/2016/05/13235181_855245047954340_5317322172916247062_o.jpg
END:VEVENT
BEGIN:VEVENT
DTSTART;TZID=America/New_York:20160521T190000
DTEND;TZID=America/New_York:20160521T230000
DTSTAMP:20260421T065533
CREATED:20160315T124559Z
LAST-MODIFIED:20160315T124559Z
UID:54602-1463857200-1463871600@www.greekboston.com
SUMMARY:Basile Greek Comedy Show at Dormition of the Virgin Mary Greek Church Somerville MA
DESCRIPTION:
URL:https://www.greekboston.com/event/basile-comedy-show-somerville-ma/
LOCATION:Dormition of the Virgin Mary Greek Orthodox Church\, 29 Central Street\, Somerville\, MA\, 02143\, United States
CATEGORIES:Greek Events in Boston and the New England Area
ATTACH;FMTTYPE=image/jpeg:https://e498h76z5mp.exactdn.com/wp-content/uploads/2016/03/Basile.jpg
END:VEVENT
BEGIN:VEVENT
DTSTART;TZID=America/New_York:20160523T103000
DTEND;TZID=America/New_York:20160523T103000
DTSTAMP:20260421T065533
CREATED:20160324T202437Z
LAST-MODIFIED:20160324T202437Z
UID:54900-1463999400-1463999400@www.greekboston.com
SUMMARY:Peter James Condakes Memorial Golf Tournament
DESCRIPTION:Mark your calendars May 23\, 2016 Registration and Coffee 10:30 AM Lunch and Practice 10:30 AM-12:15 PM Golf Tournament/Best Ball or Scramble 12:30 PM Dinner and Raffles 6:00-7:30 PM Raffle & Auction Items Needed Suggested items: games tickets\, round of golf at private club & golf gear etc.. For More Information Contact Anthony Marken\, Gina Spencer or Suzanne & James Polymerios Visit our NEWonline registration and Auction site at BidPal.net/pjcgolf
URL:https://www.greekboston.com/event/condakes-golf-tournament/
LOCATION:Woodland Golf Club Auburndale MA\, 1897 Washington Street\, Auburndale\, MA\, 02466\, United States
CATEGORIES:Greek Events in Boston and the New England Area
ATTACH;FMTTYPE=image/jpeg:https://e498h76z5mp.exactdn.com/wp-content/uploads/2016/03/Save-the-date16-Front.jpg
END:VEVENT
BEGIN:VEVENT
DTSTART;TZID=America/New_York:20160527T210000
DTEND;TZID=America/New_York:20160527T230000
DTSTAMP:20260421T065533
CREATED:20160522T111144Z
LAST-MODIFIED:20160522T111144Z
UID:56434-1464382800-1464390000@www.greekboston.com
SUMMARY:Live Greek Music in Haverhill MA
DESCRIPTION:
URL:https://www.greekboston.com/event/live-music-haverhill-ma/
LOCATION:Olympia Social Club\, 59 Orchard Street\, Haverhill\, MA\, 01832\, United States
CATEGORIES:Greek Events in Boston and the New England Area
ATTACH;FMTTYPE=image/jpeg:https://e498h76z5mp.exactdn.com/wp-content/uploads/2016/05/image3.jpeg
END:VEVENT
BEGIN:VEVENT
DTSTART;TZID=America/New_York:20160528T080000
DTEND;TZID=America/New_York:20160528T140000
DTSTAMP:20260421T065533
CREATED:20160522T105415Z
LAST-MODIFIED:20160522T105415Z
UID:56429-1464422400-1464444000@www.greekboston.com
SUMMARY:Indoor Rummage Sale at St. Nicholas Greek Church Portsmouth NH
DESCRIPTION:Only good quality items for sale! No adult clothing. A little bit of everything. Come see\, shop and buy and eat Greek pastry. If you want Greek pastries\, plan to get there early!
URL:https://www.greekboston.com/event/sale-portsmouth-nh/
LOCATION:St. Nicholas Greek Orthodox Church – Portsmouth\, NH\, 40 Andrew Jarvis Drive\, Portsmouth\, NH\, 03801\, United States
CATEGORIES:Greek Events in Boston and the New England Area
ATTACH;FMTTYPE=image/jpeg:https://e498h76z5mp.exactdn.com/wp-content/uploads/2016/05/13260264_1143991088985334_5471727687728035722_n.jpg
END:VEVENT
BEGIN:VEVENT
DTSTART;TZID=America/New_York:20160604T103000
DTEND;TZID=America/New_York:20160604T113000
DTSTAMP:20260421T065533
CREATED:20160514T105225Z
LAST-MODIFIED:20160514T105308Z
UID:56095-1465036200-1465039800@www.greekboston.com
SUMMARY:Rosalita's Puppets at Greek 4 Kids Newton MA
DESCRIPTION:
URL:https://www.greekboston.com/event/puppets-greek-4-kids/
LOCATION:Greek 4 Kids Newton MA\, 1345 Centre Street\, Newton \, MA\, 02459\, United States
CATEGORIES:Greek Events in Boston and the New England Area
ATTACH;FMTTYPE=image/jpeg:https://e498h76z5mp.exactdn.com/wp-content/uploads/2016/05/facebook_1463181918741.jpg
END:VEVENT
END:VCALENDAR