BEGIN:VCALENDAR
VERSION:2.0
PRODID:-// - ECPv6.15.20//NONSGML v1.0//EN
CALSCALE:GREGORIAN
METHOD:PUBLISH
X-ORIGINAL-URL:https://www.greekboston.com
X-WR-CALDESC:Events for 
REFRESH-INTERVAL;VALUE=DURATION:PT1H
X-Robots-Tag:noindex
X-PUBLISHED-TTL:PT1H
BEGIN:VTIMEZONE
TZID:America/New_York
BEGIN:DAYLIGHT
TZOFFSETFROM:-0500
TZOFFSETTO:-0400
TZNAME:EDT
DTSTART:20200308T070000
END:DAYLIGHT
BEGIN:STANDARD
TZOFFSETFROM:-0400
TZOFFSETTO:-0500
TZNAME:EST
DTSTART:20201101T060000
END:STANDARD
BEGIN:DAYLIGHT
TZOFFSETFROM:-0500
TZOFFSETTO:-0400
TZNAME:EDT
DTSTART:20210314T070000
END:DAYLIGHT
BEGIN:STANDARD
TZOFFSETFROM:-0400
TZOFFSETTO:-0500
TZNAME:EST
DTSTART:20211107T060000
END:STANDARD
BEGIN:DAYLIGHT
TZOFFSETFROM:-0500
TZOFFSETTO:-0400
TZNAME:EDT
DTSTART:20220313T070000
END:DAYLIGHT
BEGIN:STANDARD
TZOFFSETFROM:-0400
TZOFFSETTO:-0500
TZNAME:EST
DTSTART:20221106T060000
END:STANDARD
END:VTIMEZONE
BEGIN:VEVENT
DTSTART;VALUE=DATE:20211022
DTEND;VALUE=DATE:20211023
DTSTAMP:20260422T175622
CREATED:20211018T160615Z
LAST-MODIFIED:20211018T160615Z
UID:87538-1634860800-1634947199@www.greekboston.com
SUMMARY:Taste & Art of Greece Store Grand Opening Event in Manchester NH
DESCRIPTION:
URL:https://www.greekboston.com/event/taste-art-greece-opening-manchester-nh/
LOCATION:The Mall of New Hampshire\, 1500 S Willow Street\, Manchester\, NH\, 03103\, United States
CATEGORIES:Greek Events in Boston and the New England Area
ATTACH;FMTTYPE=image/jpeg:https://e498h76z5mp.exactdn.com/wp-content/uploads/2021/10/244755353_1693133684213303_5570052944656785787_n.jpeg
END:VEVENT
BEGIN:VEVENT
DTSTART;VALUE=DATE:20211022
DTEND;VALUE=DATE:20211024
DTSTAMP:20260422T175622
CREATED:20160510T195733Z
LAST-MODIFIED:20211013T205217Z
UID:55968-1634860800-1635033599@www.greekboston.com
SUMMARY:New Britain CT Greek Festival at St. George Greek Church
DESCRIPTION:
URL:https://www.greekboston.com/event/new-britain-ct-festival/
LOCATION:Saint George Greek Orthodox Church New Britain CT\, 301 West Main Street\, New Britain\, CT\, 06052\, United States
CATEGORIES:Greek Events in Boston and the New England Area,Greek Festivals of New England
ATTACH;FMTTYPE=image/jpeg:https://e498h76z5mp.exactdn.com/wp-content/uploads/2016/05/244431715_10220333848232489_7139788740132795114_n.jpeg
END:VEVENT
BEGIN:VEVENT
DTSTART;VALUE=DATE:20211023
DTEND;VALUE=DATE:20211024
DTSTAMP:20260422T175622
CREATED:20211013T204535Z
LAST-MODIFIED:20211013T204606Z
UID:87489-1634947200-1635033599@www.greekboston.com
SUMMARY:Hellenic Student Glendi in Brookline
DESCRIPTION:
URL:https://www.greekboston.com/event/hellenic-student-glendi-brookline-ma/
LOCATION:Hellenic College Holy Cross – Brookline MA\, 50 Goddard Ave\, Brookline\, MA\, 02445\, United States
CATEGORIES:Greek Events in Boston and the New England Area
ATTACH;FMTTYPE=image/jpeg:https://e498h76z5mp.exactdn.com/wp-content/uploads/2021/10/245350267_243683621142716_729591344277655984_n.jpeg
END:VEVENT
BEGIN:VEVENT
DTSTART;VALUE=DATE:20211024
DTEND;VALUE=DATE:20211025
DTSTAMP:20260422T175622
CREATED:20210924T185301Z
LAST-MODIFIED:20210924T185301Z
UID:87304-1635033600-1635119999@www.greekboston.com
SUMMARY:Youth Campfire Night for Holy Apostles Greek Church Haverhill MA
DESCRIPTION:
URL:https://www.greekboston.com/event/youth-campfire-night-haverhille-ma/
LOCATION:Smolak Farms\, 315 S Bradford Street\, North Andover\, MA\, 01845\, United States
CATEGORIES:Greek Events in Boston and the New England Area
ATTACH;FMTTYPE=image/jpeg:https://e498h76z5mp.exactdn.com/wp-content/uploads/2021/09/242433885_2662664663879984_4108873341573753975_n.jpeg
END:VEVENT
BEGIN:VEVENT
DTSTART;VALUE=DATE:20211024
DTEND;VALUE=DATE:20211025
DTSTAMP:20260422T175622
CREATED:20211021T190443Z
LAST-MODIFIED:20211021T190443Z
UID:87564-1635033600-1635119999@www.greekboston.com
SUMMARY:GOYA Car Wash at St. Athanasius the Great Greek Church Arlington MA
DESCRIPTION:
URL:https://www.greekboston.com/event/car-wash-arlington-ma/
LOCATION:Saint Athanasius Greek Orthodox Church – Arlington\, MA\, 4 Appleton St\, Arlington\, MA\, 02474\, United States
CATEGORIES:Greek Events in Boston and the New England Area
ATTACH;FMTTYPE=image/jpeg:https://e498h76z5mp.exactdn.com/wp-content/uploads/2021/10/247248866_5176366419078790_1127456653372513858_n.jpeg
END:VEVENT
BEGIN:VEVENT
DTSTART;VALUE=DATE:20211024
DTEND;VALUE=DATE:20211025
DTSTAMP:20260422T175622
CREATED:20211021T192020Z
LAST-MODIFIED:20211021T192020Z
UID:87573-1635033600-1635119999@www.greekboston.com
SUMMARY:Drive Thru Greek Dinner Event at St. Demetrios Greek Church Weston MA
DESCRIPTION:
URL:https://www.greekboston.com/event/drive-thru-dinner-weston-ma/
LOCATION:St. Demetrios Greek Orthodox Church Weston MA\, 57 Brown Street\, Weston\, MA\, 02493\, United States
CATEGORIES:Greek Events in Boston and the New England Area
ATTACH;FMTTYPE=image/jpeg:https://e498h76z5mp.exactdn.com/wp-content/uploads/2021/10/245139162_10161218956508572_422798119711131436_n.jpeg
END:VEVENT
BEGIN:VEVENT
DTSTART;VALUE=DATE:20211030
DTEND;VALUE=DATE:20211031
DTSTAMP:20260422T175622
CREATED:20190927T211229Z
LAST-MODIFIED:20210930T214535Z
UID:79199-1635552000-1635638399@www.greekboston.com
SUMMARY:Cancer Walkathon at the Annunciation Greek Church Brockton MA
DESCRIPTION:
URL:https://www.greekboston.com/event/cancer-walkathon-brockton-ma/
LOCATION:Annunciation Greek Orthodox Church – Brockton\, MA\, 457 Oak Street\, Brockton\, MA\, 02401\, United States
CATEGORIES:Greek Events in Boston and the New England Area
ATTACH;FMTTYPE=image/jpeg:https://e498h76z5mp.exactdn.com/wp-content/uploads/2019/09/243650858_10158100158231436_6000476468256495608_n.jpeg
END:VEVENT
BEGIN:VEVENT
DTSTART;VALUE=DATE:20211106
DTEND;VALUE=DATE:20211107
DTSTAMP:20260422T175622
CREATED:20210728T221225Z
LAST-MODIFIED:20211028T204922Z
UID:86853-1636156800-1636243199@www.greekboston.com
SUMMARY:Greek Music Night in Billerica MA
DESCRIPTION:
URL:https://www.greekboston.com/event/music-night-billerica-ma/
LOCATION:Casa De Greek\, 15 Middlesex Turnpike\, Billerica\, MA 01821\, Billerica\, MA\, 01821\, United States
CATEGORIES:Greek Events in Boston and the New England Area
ATTACH;FMTTYPE=image/jpeg:https://e498h76z5mp.exactdn.com/wp-content/uploads/2021/07/Casa-de-Greek-Nov-6-21.jpeg
END:VEVENT
BEGIN:VEVENT
DTSTART;VALUE=DATE:20211106
DTEND;VALUE=DATE:20211107
DTSTAMP:20260422T175622
CREATED:20150110T140305Z
LAST-MODIFIED:20210714T182938Z
UID:45686-1636156800-1636243199@www.greekboston.com
SUMMARY:Dinner Dance for St. Nicholas Greek Church in Portsmouth NH
DESCRIPTION:
URL:https://www.greekboston.com/event/dinner-dance-portsmouth-nh/
LOCATION:Wentworth by the Sea Country Club\, 60 Wentworth Rd\, Rye\, NH\, 03870\, United States
CATEGORIES:Greek Events in Boston and the New England Area
ATTACH;FMTTYPE=image/jpeg:https://e498h76z5mp.exactdn.com/wp-content/uploads/2015/01/218575050_4306875086030236_4201288651412262023_n.jpeg
END:VEVENT
BEGIN:VEVENT
DTSTART;VALUE=DATE:20211106
DTEND;VALUE=DATE:20211108
DTSTAMP:20260422T175622
CREATED:20150514T120359Z
LAST-MODIFIED:20211103T173439Z
UID:48008-1636156800-1636329599@www.greekboston.com
SUMMARY:Pontiaki Vradia Greek Music Dance Night in Boston MA
DESCRIPTION:
URL:https://www.greekboston.com/event/pontiaki-vradia/
LOCATION:Pontiaki Estia of Massachusetts\, 469 Albany Street\, Boston\, MA\, 02118\, United States
CATEGORIES:Greek Events in Boston and the New England Area
ATTACH;FMTTYPE=image/jpeg:https://e498h76z5mp.exactdn.com/wp-content/uploads/2015/05/252207827_1764347903955629_5208251362534312978_n.jpeg
END:VEVENT
BEGIN:VEVENT
DTSTART;VALUE=DATE:20211112
DTEND;VALUE=DATE:20211113
DTSTAMP:20260422T175622
CREATED:20211004T180500Z
LAST-MODIFIED:20211004T180520Z
UID:87456-1636675200-1636761599@www.greekboston.com
SUMMARY:Metropolis of Boston Philoptochos Virtual Wine Tasting Event
DESCRIPTION:
URL:https://www.greekboston.com/event/metropolis-philoptochos-virtual-wine-tasting/
LOCATION:MA
CATEGORIES:Greek Events in Boston and the New England Area
ATTACH;FMTTYPE=image/jpeg:https://e498h76z5mp.exactdn.com/wp-content/uploads/2021/10/Metropolis-of-Boston-Philoptochos-Winetasting-1.jpg
END:VEVENT
BEGIN:VEVENT
DTSTART;TZID=America/New_York:20211112T080000
DTEND;TZID=America/New_York:20211112T170000
DTSTAMP:20260422T175622
CREATED:20211105T174429Z
LAST-MODIFIED:20211105T174429Z
UID:87691-1636704000-1636736400@www.greekboston.com
SUMMARY:GOYA and JOY Potluck Dinner at Sts. Constantine and Helen Church Cambridge MA
DESCRIPTION:
URL:https://www.greekboston.com/event/goya-joy-potluck-cambridge-ma/
LOCATION:Saints Constantine and Helen Greek Orthodox Church – Cambridge\, MA\, 14 Magazine Street\, Cambridge\, MA\, 02139\, United States
CATEGORIES:Greek Events in Boston and the New England Area
ATTACH;FMTTYPE=image/png:https://e498h76z5mp.exactdn.com/wp-content/uploads/2021/11/250345603_1056808648505562_2058908977762940762_n.png
END:VEVENT
BEGIN:VEVENT
DTSTART;VALUE=DATE:20211113
DTEND;VALUE=DATE:20211114
DTSTAMP:20260422T175622
CREATED:20211025T201503Z
LAST-MODIFIED:20211025T201503Z
UID:87589-1636761600-1636847999@www.greekboston.com
SUMMARY:Boston Missions Dinner at Taxiarchae Greek Church Watertown MA
DESCRIPTION:
URL:https://www.greekboston.com/event/missions-dinner-watertown-ma/
LOCATION:Taxiarchae Greek Orthodox Church Watertown MA\, 25 Bigelow Ave\, Watertown\, MA\, 02472\, United States
CATEGORIES:Greek Events in Boston and the New England Area
ATTACH;FMTTYPE=image/jpeg:https://e498h76z5mp.exactdn.com/wp-content/uploads/2021/10/244625812_4705509696145995_7554470803043923928_n.jpeg
END:VEVENT
BEGIN:VEVENT
DTSTART;VALUE=DATE:20211113
DTEND;VALUE=DATE:20211114
DTSTAMP:20260422T175622
CREATED:20211110T223606Z
LAST-MODIFIED:20211110T223606Z
UID:87724-1636761600-1636847999@www.greekboston.com
SUMMARY:Vetrans Dinner at Sts Constantine & Helen Greek Orthodox Church Webster MA
DESCRIPTION:
URL:https://www.greekboston.com/event/vetrans-dinner-webster-ma/
LOCATION:Saints Constantine and Helen Greek Orthodox Church – Webster\, MA\, 37 Lake Parkway\, Webster\, MA\, 01570\, United States
CATEGORIES:Greek Events in Boston and the New England Area
ATTACH;FMTTYPE=image/jpeg:https://e498h76z5mp.exactdn.com/wp-content/uploads/2021/11/255942220_4579490022089651_1206106081941187637_n.jpeg
END:VEVENT
BEGIN:VEVENT
DTSTART;VALUE=DATE:20211120
DTEND;VALUE=DATE:20211121
DTSTAMP:20260422T175622
CREATED:20211018T160031Z
LAST-MODIFIED:20211018T161026Z
UID:87535-1637366400-1637452799@www.greekboston.com
SUMMARY:Glendi Party at Hellenic American Academy Lowell MA
DESCRIPTION:
URL:https://www.greekboston.com/event/glendi-party-lowell-ma/
LOCATION:Indian Ridge Country Club\, 73 Lovejoy Road\, Andover\, 01810\, United States
CATEGORIES:Greek Events in Boston and the New England Area
ATTACH;FMTTYPE=image/jpeg:https://e498h76z5mp.exactdn.com/wp-content/uploads/2021/10/245160042_10226110180201483_2744448627996461949_n.jpeg
END:VEVENT
BEGIN:VEVENT
DTSTART;VALUE=DATE:20211127
DTEND;VALUE=DATE:20211129
DTSTAMP:20260422T175622
CREATED:20171031T113713Z
LAST-MODIFIED:20211012T202437Z
UID:67319-1637971200-1638143999@www.greekboston.com
SUMMARY:Christmas Bazaar Sts Constantine and Helen Greek Church Chicopee MA
DESCRIPTION:
URL:https://www.greekboston.com/event/christmas-bazaar-chicopee-ma/
LOCATION:Saints Constantine & Helen Greek Orthodox Church  Chicopee MA\, 30 Grattan Street\, Chicopee\, MA\, 01020\, United States
CATEGORIES:Greek Events in Boston and the New England Area
ATTACH;FMTTYPE=image/jpeg:https://e498h76z5mp.exactdn.com/wp-content/uploads/2017/10/2021-Bazaar-Flyer-1.jpg
END:VEVENT
BEGIN:VEVENT
DTSTART;VALUE=DATE:20211128
DTEND;VALUE=DATE:20211129
DTSTAMP:20260422T175622
CREATED:20150314T111545Z
LAST-MODIFIED:20211115T211621Z
UID:46628-1638057600-1638143999@www.greekboston.com
SUMMARY:Joy Event at the Annunciation Greek Church in Woburn MA
DESCRIPTION:
URL:https://www.greekboston.com/event/joy-woburn-ma/
LOCATION:Annunciation of The Virgin Mary Greek Orthodox Church  – Woburn\, MA\, 70 Montvale Avenue \, Woburn\, MA\, 01801 \, United States
CATEGORIES:Greek Events in Boston and the New England Area
ATTACH;FMTTYPE=image/jpeg:https://e498h76z5mp.exactdn.com/wp-content/uploads/2015/03/257470870_10161558247188782_4845961614949676889_n.jpeg
END:VEVENT
BEGIN:VEVENT
DTSTART;VALUE=DATE:20211204
DTEND;VALUE=DATE:20211205
DTSTAMP:20260422T175622
CREATED:20211129T185757Z
LAST-MODIFIED:20211129T185757Z
UID:87821-1638576000-1638662399@www.greekboston.com
SUMMARY:Christmas Fair at Annunciation Greek Church of Woburn MA
DESCRIPTION:
URL:https://www.greekboston.com/event/christmas-fair-woburn-ma/
LOCATION:Annunciation of The Virgin Mary Greek Orthodox Church  – Woburn\, MA\, 70 Montvale Avenue \, Woburn\, MA\, 01801 \, United States
CATEGORIES:Greek Events in Boston and the New England Area
ATTACH;FMTTYPE=image/jpeg:https://e498h76z5mp.exactdn.com/wp-content/uploads/2021/11/262182812_4995320623812634_8384416692117715329_n.jpeg
END:VEVENT
BEGIN:VEVENT
DTSTART;VALUE=DATE:20211205
DTEND;VALUE=DATE:20211206
DTSTAMP:20260422T175622
CREATED:20211201T222424Z
LAST-MODIFIED:20211201T222424Z
UID:87847-1638662400-1638748799@www.greekboston.com
SUMMARY:Greek Comedy Night in Boston MA
DESCRIPTION:
URL:https://www.greekboston.com/event/comedy-night/
LOCATION:Laugh Boston\, 425 Summer Street\, Boston\, MA\, 02210\, United States
CATEGORIES:Greek Events in Boston and the New England Area
ATTACH;FMTTYPE=image/jpeg:https://e498h76z5mp.exactdn.com/wp-content/uploads/2021/12/262040309_10160563656822494_9184456568825436922_n.jpeg
END:VEVENT
BEGIN:VEVENT
DTSTART;VALUE=DATE:20211210
DTEND;VALUE=DATE:20211211
DTSTAMP:20260422T175622
CREATED:20211105T173958Z
LAST-MODIFIED:20211105T173958Z
UID:87688-1639094400-1639180799@www.greekboston.com
SUMMARY:Greek Comedy Show with Basile at St. Athanasius the Great Greek Church Arlington MA
DESCRIPTION:
URL:https://www.greekboston.com/event/comedy-show-arlington-ma/
LOCATION:Saint Athanasius Greek Orthodox Church – Arlington\, MA\, 4 Appleton St\, Arlington\, MA\, 02474\, United States
CATEGORIES:Greek Events in Boston and the New England Area
ATTACH;FMTTYPE=image/jpeg:https://e498h76z5mp.exactdn.com/wp-content/uploads/2021/11/248945831_5222368374478594_2930176290889182295_n.jpeg
END:VEVENT
BEGIN:VEVENT
DTSTART;VALUE=DATE:20211210
DTEND;VALUE=DATE:20211211
DTSTAMP:20260422T175622
CREATED:20211123T231117Z
LAST-MODIFIED:20211123T231137Z
UID:87801-1639094400-1639180799@www.greekboston.com
SUMMARY:Youth Gingerbread Night at the Annunciation Greek Cathedral of New England
DESCRIPTION:
URL:https://www.greekboston.com/event/youth-gingerbread-night-cathedral/
LOCATION:Cathedral Center\, 162 Goddard Ave\, Brookline\, 02445
CATEGORIES:Greek Events in Boston and the New England Area
ATTACH;FMTTYPE=image/jpeg:https://e498h76z5mp.exactdn.com/wp-content/uploads/2021/11/259774600_5183954711634578_6655451478574059123_n.jpeg
END:VEVENT
BEGIN:VEVENT
DTSTART;VALUE=DATE:20211211
DTEND;VALUE=DATE:20211212
DTSTAMP:20260422T175622
CREATED:20211112T194242Z
LAST-MODIFIED:20211112T194242Z
UID:87731-1639180800-1639267199@www.greekboston.com
SUMMARY:Christmas Stockings for Veterans Event at Holy Apostles Greek Church Haverhill MA
DESCRIPTION:
URL:https://www.greekboston.com/event/christmas-stockings-veterans-haverhill-ma/
LOCATION:Holy Apostles Greek Orthodox Church\, 156 Winter Street\, Haverhill\, MA\, 01830\, United States
CATEGORIES:Greek Events in Boston and the New England Area
ATTACH;FMTTYPE=image/jpeg:https://e498h76z5mp.exactdn.com/wp-content/uploads/2021/11/256416299_2709387389207711_559495953746862237_n.jpeg
END:VEVENT
BEGIN:VEVENT
DTSTART;VALUE=DATE:20211212
DTEND;VALUE=DATE:20211213
DTSTAMP:20260422T175622
CREATED:20211129T185301Z
LAST-MODIFIED:20211129T185321Z
UID:87817-1639267200-1639353599@www.greekboston.com
SUMMARY:Greek Christmas Concert in Brookline
DESCRIPTION:
URL:https://www.greekboston.com/event/christmas-concert-brookline-ma/
LOCATION:Maliotis Cultural Center\, 50 Goddard Avenue\, Brookline\, MA\, 02130\, United States
CATEGORIES:Greek Events in Boston and the New England Area
ATTACH;FMTTYPE=image/jpeg:https://e498h76z5mp.exactdn.com/wp-content/uploads/2021/11/261815917_273855281458883_1948638822003529848_n.jpeg
END:VEVENT
BEGIN:VEVENT
DTSTART;VALUE=DATE:20211212
DTEND;VALUE=DATE:20211213
DTSTAMP:20260422T175622
CREATED:20211208T193709Z
LAST-MODIFIED:20211208T193709Z
UID:87884-1639267200-1639353599@www.greekboston.com
SUMMARY:Christmas Bake Sale at St John the Baptist Greek Church Boston MA
DESCRIPTION:
URL:https://www.greekboston.com/event/christmas-bake-sale-st-john/
LOCATION:St. John the Baptist Hellenic Orthodox Church – Boston\, MA\, 15 Union Park Street\, Boston\, MA\, 02118\, United States
CATEGORIES:Greek Events in Boston and the New England Area
ATTACH;FMTTYPE=image/jpeg:https://e498h76z5mp.exactdn.com/wp-content/uploads/2021/12/264659612_540859072920_1720562064137591262_n.jpeg
END:VEVENT
BEGIN:VEVENT
DTSTART;VALUE=DATE:20211218
DTEND;VALUE=DATE:20211219
DTSTAMP:20260422T175622
CREATED:20211109T184658Z
LAST-MODIFIED:20211109T184658Z
UID:87717-1639785600-1639871999@www.greekboston.com
SUMMARY:Ancient Greek Free Admission Day at the Boston Museum of Fine Arts
DESCRIPTION:MORE INFORMATION CAN BE FOUND HERE:\nhttps://www.mfa.org/event/special-event/ancient-greek-and-roman-free-admission-day
URL:https://www.greekboston.com/event/ancient-free-admission-day-mfa/
LOCATION:Museum of Fine Arts (MFA) Boston\, 465 Huntington Ave\, Boston\, MA\, 02115\, United States
CATEGORIES:Greek Events in Boston and the New England Area
ATTACH;FMTTYPE=image/jpeg:https://e498h76z5mp.exactdn.com/wp-content/uploads/2021/11/255118474_261678762676535_692065260935380352_n.jpeg
END:VEVENT
BEGIN:VEVENT
DTSTART;VALUE=DATE:20211218
DTEND;VALUE=DATE:20211219
DTSTAMP:20260422T175622
CREATED:20211209T192501Z
LAST-MODIFIED:20211209T192501Z
UID:87899-1639785600-1639871999@www.greekboston.com
SUMMARY:Greek to Go Event at Annunciation Greek Church Newburyport MA
DESCRIPTION:
URL:https://www.greekboston.com/event/to-go-event-newburyport-ma/
LOCATION:Annunciation Greek Orthodox Church – Newburyport\, MA\, 7 Harris St \, Newburyport\, MA\, 01950\, United States
CATEGORIES:Greek Events in Boston and the New England Area
ATTACH;FMTTYPE=image/jpeg:https://e498h76z5mp.exactdn.com/wp-content/uploads/2021/12/265180523_10159704909065747_798907786937652115_n.jpeg
END:VEVENT
BEGIN:VEVENT
DTSTART;VALUE=DATE:20211218
DTEND;VALUE=DATE:20211219
DTSTAMP:20260422T175622
CREATED:20171202T160715Z
LAST-MODIFIED:20211205T201643Z
UID:68006-1639785600-1639871999@www.greekboston.com
SUMMARY:Christmas Greek Music Night in Cambridge MA
DESCRIPTION:
URL:https://www.greekboston.com/event/christmas-night/
LOCATION:Greek American Political Club\, 288 Green Street\, Cambridge\, 02139\, United States
CATEGORIES:Greek Events in Boston and the New England Area
ATTACH;FMTTYPE=image/jpeg:https://e498h76z5mp.exactdn.com/wp-content/uploads/2017/12/PHOTO-2021-12-04-18-13-53-1.jpg
END:VEVENT
BEGIN:VEVENT
DTSTART;VALUE=DATE:20211219
DTEND;VALUE=DATE:20211220
DTSTAMP:20260422T175622
CREATED:20211210T204233Z
LAST-MODIFIED:20211210T204233Z
UID:87913-1639872000-1639958399@www.greekboston.com
SUMMARY:GOYA Yankee Swap Party at Sts. Constantine & Helen Greek Church Andover MA
DESCRIPTION:
URL:https://www.greekboston.com/event/goya-yankee-swap-andover-ma/
LOCATION:Sts Constantine and Helen Greek Orthodox Church – Andover\, MA\, 71 Chandler Road\, Andover\, MA\, 01810\, United States
CATEGORIES:Greek Events in Boston and the New England Area
ATTACH;FMTTYPE=image/png:https://e498h76z5mp.exactdn.com/wp-content/uploads/2021/12/265486640_5210979458915533_2694517811711871732_n.png
END:VEVENT
BEGIN:VEVENT
DTSTART;VALUE=DATE:20211219
DTEND;VALUE=DATE:20211220
DTSTAMP:20260422T175622
CREATED:20161213T205941Z
LAST-MODIFIED:20211124T203753Z
UID:59552-1639872000-1639958399@www.greekboston.com
SUMMARY:Cathedral Greek School Christmas Pageant
DESCRIPTION:
URL:https://www.greekboston.com/event/cathedral-christmas-pageant/
LOCATION:Annunciation Cathedral of New England\, 514 Parker Street\, Boston\, MA\, 02120\, United States
CATEGORIES:Greek Events in Boston and the New England Area
ATTACH;FMTTYPE=image/jpeg:https://e498h76z5mp.exactdn.com/wp-content/uploads/2016/12/259056912_5183954534967929_8704036344832318790_n.jpeg
END:VEVENT
BEGIN:VEVENT
DTSTART;VALUE=DATE:20211224
DTEND;VALUE=DATE:20211225
DTSTAMP:20260422T175622
CREATED:20211207T210219Z
LAST-MODIFIED:20211207T210219Z
UID:87877-1640304000-1640390399@www.greekboston.com
SUMMARY:Christmas Eve Greek Night Party in Boston MA
DESCRIPTION:
URL:https://www.greekboston.com/event/christmas-eve-party/
LOCATION:Venue Boston\, 100 Warrenton Street\, Boston\, MA\, 02116\, United States
CATEGORIES:Greek Events in Boston and the New England Area
ATTACH;FMTTYPE=image/jpeg:https://e498h76z5mp.exactdn.com/wp-content/uploads/2021/12/3017F20C-3E66-4560-B5B6-45660FC7FB79.jpg
END:VEVENT
END:VCALENDAR