BEGIN:VCALENDAR
VERSION:2.0
PRODID:-// - ECPv6.15.20//NONSGML v1.0//EN
CALSCALE:GREGORIAN
METHOD:PUBLISH
X-ORIGINAL-URL:https://www.greekboston.com
X-WR-CALDESC:Events for 
REFRESH-INTERVAL;VALUE=DURATION:PT1H
X-Robots-Tag:noindex
X-PUBLISHED-TTL:PT1H
BEGIN:VTIMEZONE
TZID:America/New_York
BEGIN:DAYLIGHT
TZOFFSETFROM:-0500
TZOFFSETTO:-0400
TZNAME:EDT
DTSTART:20230312T070000
END:DAYLIGHT
BEGIN:STANDARD
TZOFFSETFROM:-0400
TZOFFSETTO:-0500
TZNAME:EST
DTSTART:20231105T060000
END:STANDARD
BEGIN:DAYLIGHT
TZOFFSETFROM:-0500
TZOFFSETTO:-0400
TZNAME:EDT
DTSTART:20240310T070000
END:DAYLIGHT
BEGIN:STANDARD
TZOFFSETFROM:-0400
TZOFFSETTO:-0500
TZNAME:EST
DTSTART:20241103T060000
END:STANDARD
BEGIN:DAYLIGHT
TZOFFSETFROM:-0500
TZOFFSETTO:-0400
TZNAME:EDT
DTSTART:20250309T070000
END:DAYLIGHT
BEGIN:STANDARD
TZOFFSETFROM:-0400
TZOFFSETTO:-0500
TZNAME:EST
DTSTART:20251102T060000
END:STANDARD
BEGIN:DAYLIGHT
TZOFFSETFROM:-0500
TZOFFSETTO:-0400
TZNAME:EDT
DTSTART:20260308T070000
END:DAYLIGHT
BEGIN:STANDARD
TZOFFSETFROM:-0400
TZOFFSETTO:-0500
TZNAME:EST
DTSTART:20261101T060000
END:STANDARD
END:VTIMEZONE
BEGIN:VEVENT
DTSTART;VALUE=DATE:20241220
DTEND;VALUE=DATE:20241221
DTSTAMP:20260424T141837
CREATED:20241204T223549Z
LAST-MODIFIED:20241204T223549Z
UID:92475-1734652800-1734739199@www.greekboston.com
SUMMARY:Psaltikon Concert Event in Peabody MA
DESCRIPTION:
URL:https://www.greekboston.com/event/psaltikon-concert-peabody-ma/
LOCATION:Saint Vasilios Greek Orthodox Church\, 5 Paleologos Street\, Peabody\, MA\, 01960\, United States
CATEGORIES:Greek Events in Boston and the New England Area
ATTACH;FMTTYPE=image/jpeg:https://e498h76z5mp.exactdn.com/wp-content/uploads/2024/12/Psaltikon-Concert-for-Bulletin-NEW.jpg
END:VEVENT
BEGIN:VEVENT
DTSTART;VALUE=DATE:20241221
DTEND;VALUE=DATE:20241222
DTSTAMP:20260424T141837
CREATED:20170512T154746Z
LAST-MODIFIED:20241210T235850Z
UID:63552-1734739200-1734825599@www.greekboston.com
SUMMARY:Pontiaki Estia Greek Christmas Party
DESCRIPTION:
URL:https://www.greekboston.com/event/pontiaki-estia-christmas-party/
LOCATION:Pontiaki Estia of Massachusetts\, 469 Albany Street\, Boston\, MA\, 02118\, United States
CATEGORIES:Greek Events in Boston and the New England Area
ATTACH;FMTTYPE=image/jpeg:https://e498h76z5mp.exactdn.com/wp-content/uploads/2017/05/469357324_2598727200517691_4421011547088860341_n.jpg
END:VEVENT
BEGIN:VEVENT
DTSTART;VALUE=DATE:20241221
DTEND;VALUE=DATE:20241222
DTSTAMP:20260424T141837
CREATED:20241219T144520Z
LAST-MODIFIED:20241219T144534Z
UID:92510-1734739200-1734825599@www.greekboston.com
SUMMARY:Christmas Kalanda Event in Brookline MA
DESCRIPTION:
URL:https://www.greekboston.com/event/christmas-kalanda-brookline-ma/
LOCATION:Maliotis Cultural Center\, 50 Goddard Avenue\, Brookline\, MA\, 02130\, United States
CATEGORIES:Greek Events in Boston and the New England Area
ATTACH;FMTTYPE=image/jpeg:https://e498h76z5mp.exactdn.com/wp-content/uploads/2024/12/470589712_940888358174920_5959341328418500197_n.jpg
END:VEVENT
BEGIN:VEVENT
DTSTART;VALUE=DATE:20241227
DTEND;VALUE=DATE:20241228
DTSTAMP:20260424T141837
CREATED:20241120T203055Z
LAST-MODIFIED:20241204T223152Z
UID:92432-1735257600-1735343999@www.greekboston.com
SUMMARY:Giorgos Margaritis Greek Concert in Roslindale MA
DESCRIPTION:
URL:https://www.greekboston.com/event/giorgos-margaritis-concert/
LOCATION:St. Nectarios Greek Orthodox Church – Roslindale\, MA\, 39 Belgrade Ave\, Roslindale\, MA\,  02131\, United States
CATEGORIES:Greek Events in Boston and the New England Area
ATTACH;FMTTYPE=image/png:https://e498h76z5mp.exactdn.com/wp-content/uploads/2024/11/Screenshot-2024-12-04-at-5.30.22 PM.png
END:VEVENT
BEGIN:VEVENT
DTSTART;VALUE=DATE:20241228
DTEND;VALUE=DATE:20241229
DTSTAMP:20260424T141837
CREATED:20241126T223007Z
LAST-MODIFIED:20241126T223020Z
UID:92466-1735344000-1735430399@www.greekboston.com
SUMMARY:Teddy K Classic Boston Greek Christmas Party
DESCRIPTION:
URL:https://www.greekboston.com/event/teddy-k-classic-christmas-party/
LOCATION:Farm Grill\, 40 Needham St\, Newton\, 02459
CATEGORIES:Greek Events in Boston and the New England Area
ATTACH;FMTTYPE=image/jpeg:https://e498h76z5mp.exactdn.com/wp-content/uploads/2024/11/468089953_1097265835736128_2750105026240437280_n.jpg
END:VEVENT
BEGIN:VEVENT
DTSTART;VALUE=DATE:20241229
DTEND;VALUE=DATE:20241230
DTSTAMP:20260424T141837
CREATED:20241217T200748Z
LAST-MODIFIED:20241217T200748Z
UID:92507-1735430400-1735516799@www.greekboston.com
SUMMARY:Library talk: The Forgotten Women of the Letters of the Greek Diaspora and the exceptional case of Iphigenia Copadis
DESCRIPTION:December 29\, 2024 at 12:30pm\nLibrary talk: The Forgotten Women of the Letters of the Greek Diaspora\nand the exceptional case of Iphigenia Copadis\nBy Dr. Theodora Patrona\nThis event is free and open to the public. Pre-registration required by December 27th.\nJoin us in the Library or online via Zoom.\nSt. George Greek Orthodox Cathedral\n650 Hanover St.\, Manchester\, NH 03104\n603-622-9113\nlibrary@stgeorgenh.org
URL:https://www.greekboston.com/event/library-talk-manchester-nh/
LOCATION:St. George Greek Orthodox Cathedral – Manchester\, NH\, 650 Hanover Street\, Manchester\, NH\, 03104\, United States
CATEGORIES:Greek Events in Boston and the New England Area
ATTACH;FMTTYPE=image/jpeg:https://e498h76z5mp.exactdn.com/wp-content/uploads/2024/12/Flier-Dr-Theodora-Patrona-December-29-2024-.jpg
END:VEVENT
BEGIN:VEVENT
DTSTART;VALUE=DATE:20241231
DTEND;VALUE=DATE:20250101
DTSTAMP:20260424T141837
CREATED:20241007T224727Z
LAST-MODIFIED:20241007T224742Z
UID:92278-1735603200-1735689599@www.greekboston.com
SUMMARY:New Years Eve at MBC Event
DESCRIPTION:
URL:https://www.greekboston.com/event/new-years-eve-mbc/
LOCATION:Saint Methodios Faith and Heritage Center – Contoocook NH\, 329 Merrimac Road\, Contoocook\, NH\, 03229\, United States
CATEGORIES:Greek Events in Boston and the New England Area
ATTACH;FMTTYPE=image/jpeg:https://e498h76z5mp.exactdn.com/wp-content/uploads/2024/10/462054773_18422869213078529_6944595598445960420_n.jpg
END:VEVENT
BEGIN:VEVENT
DTSTART;VALUE=DATE:20241231
DTEND;VALUE=DATE:20250101
DTSTAMP:20260424T141837
CREATED:20241118T183800Z
LAST-MODIFIED:20241118T183800Z
UID:92426-1735603200-1735689599@www.greekboston.com
SUMMARY:New Year's Eve Potluck by Cretan's Association Minos-Crete in Springfield\, MA
DESCRIPTION:
URL:https://www.greekboston.com/event/new-years-eve-minos-crete/
LOCATION:MA
CATEGORIES:Greek Events in Boston and the New England Area
ATTACH;FMTTYPE=image/png:https://e498h76z5mp.exactdn.com/wp-content/uploads/2024/11/Minos-Crete-NYE-2025-Flyer.png
END:VEVENT
BEGIN:VEVENT
DTSTART;VALUE=DATE:20241231
DTEND;VALUE=DATE:20250101
DTSTAMP:20260424T141837
CREATED:20241121T145202Z
LAST-MODIFIED:20241121T145202Z
UID:92451-1735603200-1735689599@www.greekboston.com
SUMMARY:New Year's Eve Celebration Brockton MA
DESCRIPTION:
URL:https://www.greekboston.com/event/new-years-eve-brockton-ma/
LOCATION:Annunciation Greek Orthodox Church – Brockton\, MA\, 457 Oak Street\, Brockton\, MA\, 02401\, United States
CATEGORIES:Greek Events in Boston and the New England Area
ATTACH;FMTTYPE=image/jpeg:https://e498h76z5mp.exactdn.com/wp-content/uploads/2024/11/467913198_992300042925948_5271636992199023202_n.jpg
END:VEVENT
BEGIN:VEVENT
DTSTART;VALUE=DATE:20241231
DTEND;VALUE=DATE:20250101
DTSTAMP:20260424T141837
CREATED:20241219T145120Z
LAST-MODIFIED:20241219T145120Z
UID:92516-1735603200-1735689599@www.greekboston.com
SUMMARY:New Year's Eve Celebration Woburn MA
DESCRIPTION:
URL:https://www.greekboston.com/event/new-years-eve-woburn-ma/
LOCATION:Eleni’s Greek Restaurant\, 920 Main Street\, Woburn\, MA\, 01801\, United States
CATEGORIES:Greek Events in Boston and the New England Area
ATTACH;FMTTYPE=image/jpeg:https://e498h76z5mp.exactdn.com/wp-content/uploads/2024/12/470155705_122185356638145689_6540970747252925242_n.jpg
END:VEVENT
BEGIN:VEVENT
DTSTART;VALUE=DATE:20241231
DTEND;VALUE=DATE:20250101
DTSTAMP:20260424T141837
CREATED:20151123T191635Z
LAST-MODIFIED:20241108T152326Z
UID:51905-1735603200-1735689599@www.greekboston.com
SUMMARY:New Year's Eve Celebration at St Nectarios Greek Church Roslindale MA
DESCRIPTION:
URL:https://www.greekboston.com/event/new-years-roslindale-ma/
LOCATION:St. Nectarios Greek Orthodox Church – Roslindale\, MA\, 39 Belgrade Ave\, Roslindale\, MA\,  02131\, United States
CATEGORIES:Greek Events in Boston and the New England Area
ATTACH;FMTTYPE=image/png:https://e498h76z5mp.exactdn.com/wp-content/uploads/2015/11/Screenshot-2024-11-08-at-10.22.43 AM.png
END:VEVENT
BEGIN:VEVENT
DTSTART;VALUE=DATE:20241231
DTEND;VALUE=DATE:20250101
DTSTAMP:20260424T141837
CREATED:20191230T220155Z
LAST-MODIFIED:20241210T232550Z
UID:81028-1735603200-1735689599@www.greekboston.com
SUMMARY:New Years Eve Party in Cranston RI
DESCRIPTION:
URL:https://www.greekboston.com/event/new-years-eve-cranston-ri/
LOCATION:Annunciation Greek Orthodox Church – Cranston\, RI\, 175 Oaklawn Avenue\, Cranston\, RI\, 02920\, United States
CATEGORIES:Greek Events in Boston and the New England Area
ATTACH;FMTTYPE=image/png:https://e498h76z5mp.exactdn.com/wp-content/uploads/2019/12/Screenshot-2024-12-09-at-7.50.23 PM.png
END:VEVENT
BEGIN:VEVENT
DTSTART;VALUE=DATE:20250104
DTEND;VALUE=DATE:20250105
DTSTAMP:20260424T141837
CREATED:20241016T222016Z
LAST-MODIFIED:20241204T224339Z
UID:92329-1735948800-1736035199@www.greekboston.com
SUMMARY:St. Vasilios Greek Food Fair in Peabody MA
DESCRIPTION:
URL:https://www.greekboston.com/event/food-fair-peabody-ma/
LOCATION:Saint Vasilios Greek Orthodox Church\, 5 Paleologos Street\, Peabody\, MA\, 01960\, United States
CATEGORIES:Greek Events in Boston and the New England Area,Greek Festivals of New England
ATTACH;FMTTYPE=image/jpeg:https://e498h76z5mp.exactdn.com/wp-content/uploads/2024/10/469005734_968775298621855_737717972259181949_n.jpg
END:VEVENT
BEGIN:VEVENT
DTSTART;VALUE=DATE:20250111
DTEND;VALUE=DATE:20250112
DTSTAMP:20260424T141837
CREATED:20141231T155613Z
LAST-MODIFIED:20250107T143540Z
UID:45462-1736553600-1736639999@www.greekboston.com
SUMMARY:Federation of Hellenic American Societies of New England Annual Vasilopita Celebration
DESCRIPTION:
URL:https://www.greekboston.com/event/vasilopita-dinner-federation/
LOCATION:Maliotis Cultural Center\, 50 Goddard Avenue\, Brookline\, MA\, 02130\, United States
CATEGORIES:Greek Events in Boston and the New England Area
ATTACH;FMTTYPE=image/jpeg:https://e498h76z5mp.exactdn.com/wp-content/uploads/2014/12/vasilopita.jpg
END:VEVENT
BEGIN:VEVENT
DTSTART;VALUE=DATE:20250117
DTEND;VALUE=DATE:20250118
DTSTAMP:20260424T141837
CREATED:20250110T194942Z
LAST-MODIFIED:20250110T194942Z
UID:92539-1737072000-1737158399@www.greekboston.com
SUMMARY:St. Val's Men's Club Game Night
DESCRIPTION:
URL:https://www.greekboston.com/event/st-vals-mens-club-game-night/
LOCATION:Saint Vasilios Greek Orthodox Church\, 5 Paleologos Street\, Peabody\, MA\, 01960\, United States
CATEGORIES:Greek Events in Boston and the New England Area
ATTACH;FMTTYPE=image/jpeg:https://e498h76z5mp.exactdn.com/wp-content/uploads/2025/01/472914537_994047662761285_5226746323731520502_n.jpg
END:VEVENT
BEGIN:VEVENT
DTSTART;VALUE=DATE:20250118
DTEND;VALUE=DATE:20250119
DTSTAMP:20260424T141837
CREATED:20241219T144745Z
LAST-MODIFIED:20241219T144802Z
UID:92513-1737158400-1737244799@www.greekboston.com
SUMMARY:Pickleball 4 Parkinson's in Springfield MA
DESCRIPTION:
URL:https://www.greekboston.com/event/pickleball-parkinsons-springfield-ma/
LOCATION:St. George Greek Orthodox Cathedral – Springfield\, MA\, 22 St. George Road\, Springfield\, MA\, 02720\, United States
CATEGORIES:Greek Events in Boston and the New England Area
ATTACH;FMTTYPE=image/jpeg:https://e498h76z5mp.exactdn.com/wp-content/uploads/2024/12/469816032_999722358857692_6356572856373655502_n.jpg
END:VEVENT
BEGIN:VEVENT
DTSTART;VALUE=DATE:20250119
DTEND;VALUE=DATE:20250120
DTSTAMP:20260424T141837
CREATED:20250114T143402Z
LAST-MODIFIED:20250114T143402Z
UID:92552-1737244800-1737331199@www.greekboston.com
SUMMARY:Baked Lamb Dinner at St. Nicholas Greek Church Manchester NH
DESCRIPTION:
URL:https://www.greekboston.com/event/baked-lamb-dinner-manchester-nh/
LOCATION:St. Nicholas Greek Orthodox Church Manchester NH\, 1160 Bridge Street\, Manchester\, NH\, 03104\, United States
CATEGORIES:Greek Events in Boston and the New England Area
ATTACH;FMTTYPE=image/jpeg:https://e498h76z5mp.exactdn.com/wp-content/uploads/2025/01/473184213_1067176952113797_5026818963463025601_n.jpg
END:VEVENT
BEGIN:VEVENT
DTSTART;VALUE=DATE:20250125
DTEND;VALUE=DATE:20250126
DTSTAMP:20260424T141837
CREATED:20250114T142838Z
LAST-MODIFIED:20250114T142849Z
UID:92545-1737763200-1737849599@www.greekboston.com
SUMMARY:Fundraising Event in Brookline MA
DESCRIPTION:
URL:https://www.greekboston.com/event/fundraising-brookline-ma/
LOCATION:Maliotis Cultural Center\, 50 Goddard Avenue\, Brookline\, MA\, 02130\, United States
CATEGORIES:Greek Events in Boston and the New England Area
ATTACH;FMTTYPE=image/jpeg:https://e498h76z5mp.exactdn.com/wp-content/uploads/2025/01/473671778_909446248007932_3033846683969227116_n.jpg
END:VEVENT
BEGIN:VEVENT
DTSTART;VALUE=DATE:20250201
DTEND;VALUE=DATE:20250202
DTSTAMP:20260424T141837
CREATED:20240109T232854Z
LAST-MODIFIED:20250130T165214Z
UID:91460-1738368000-1738454399@www.greekboston.com
SUMMARY:GOYA Dance at St. Nectarios Greek Church Roslindale MA
DESCRIPTION:
URL:https://www.greekboston.com/event/goya-dance-roslindale-ma/
LOCATION:St. Nectarios Greek Orthodox Church – Roslindale\, MA\, 39 Belgrade Ave\, Roslindale\, MA\,  02131\, United States
CATEGORIES:Greek Events in Boston and the New England Area
ATTACH;FMTTYPE=image/jpeg:https://e498h76z5mp.exactdn.com/wp-content/uploads/2024/01/474610261_18482910742011566_7206976660294576962_n.jpg
END:VEVENT
BEGIN:VEVENT
DTSTART;VALUE=DATE:20250201
DTEND;VALUE=DATE:20250202
DTSTAMP:20260424T141837
CREATED:20250114T143042Z
LAST-MODIFIED:20250130T165210Z
UID:92548-1738368000-1738454399@www.greekboston.com
SUMMARY:Seminarian Couples Brunch in Brookline MA
DESCRIPTION:
URL:https://www.greekboston.com/event/seminarian-couples-brookline-ma/
LOCATION:Maliotis Cultural Center\, 50 Goddard Avenue\, Brookline\, MA\, 02130\, United States
CATEGORIES:Greek Events in Boston and the New England Area
ATTACH;FMTTYPE=image/jpeg:https://e498h76z5mp.exactdn.com/wp-content/uploads/2025/01/473309873_960255766238179_1995800941307081663_n.jpg
END:VEVENT
BEGIN:VEVENT
DTSTART;VALUE=DATE:20250202
DTEND;VALUE=DATE:20250203
DTSTAMP:20260424T141837
CREATED:20150202T213620Z
LAST-MODIFIED:20250130T165159Z
UID:46101-1738454400-1738540799@www.greekboston.com
SUMMARY:Have A Heart Luncheon at Annunciation Greek Church in Brockton MA
DESCRIPTION:
URL:https://www.greekboston.com/event/heart-luncheon-brockton/
LOCATION:Annunciation Greek Orthodox Church – Brockton\, MA\, 457 Oak Street\, Brockton\, MA\, 02401\, United States
CATEGORIES:Greek Events in Boston and the New England Area
ATTACH;FMTTYPE=image/jpeg:https://e498h76z5mp.exactdn.com/wp-content/uploads/2015/02/472668716_1026818412807444_155413549411275772_n.jpg
END:VEVENT
BEGIN:VEVENT
DTSTART;VALUE=DATE:20250202
DTEND;VALUE=DATE:20250203
DTSTAMP:20260424T141837
CREATED:20140920T140343Z
LAST-MODIFIED:20250130T165205Z
UID:42773-1738454400-1738540799@www.greekboston.com
SUMMARY:Panos Kiamos Live Show in Boston
DESCRIPTION:
URL:https://www.greekboston.com/event/panos-kiamos-concert/
LOCATION:Royale Boston Nightclub\, 279 Tremont Street\, Boston\, MA\, 02116\, United States
CATEGORIES:Greek Events in Boston and the New England Area
ATTACH;FMTTYPE=image/png:https://e498h76z5mp.exactdn.com/wp-content/uploads/2014/09/Screenshot-2025-01-18-at-2.59.20 PM.png
END:VEVENT
BEGIN:VEVENT
DTSTART;VALUE=DATE:20250203
DTEND;VALUE=DATE:20250204
DTSTAMP:20260424T141837
CREATED:20250118T195139Z
LAST-MODIFIED:20250130T165154Z
UID:92563-1738540800-1738627199@www.greekboston.com
SUMMARY:Daughters of Penelope Galatea Chapter 117 Paint Night
DESCRIPTION:
URL:https://www.greekboston.com/event/daughters-penelope-paint-night/
LOCATION:Brothers Sports Bar & Grille Tewksbury\, 553 Main Street\, Tewksbury\, MA\, 01876\, United States
CATEGORIES:Greek Events in Boston and the New England Area
ATTACH;FMTTYPE=image/jpeg:https://e498h76z5mp.exactdn.com/wp-content/uploads/2025/01/IMG_1572.jpeg
END:VEVENT
BEGIN:VEVENT
DTSTART;VALUE=DATE:20250205
DTEND;VALUE=DATE:20250206
DTSTAMP:20260424T141837
CREATED:20190228T215911Z
LAST-MODIFIED:20250130T165149Z
UID:75907-1738713600-1738799999@www.greekboston.com
SUMMARY:Hellenic Bar Association of New England Lecture in Boston MA
DESCRIPTION:
URL:https://www.greekboston.com/event/hellenic-bar-association-new-england-lecture/
LOCATION:Suffolk University Law School\, 120 Tremont Street\, Boston\, MA\, 02108\, United States
CATEGORIES:Greek Events in Boston and the New England Area
ATTACH;FMTTYPE=image/jpeg:https://e498h76z5mp.exactdn.com/wp-content/uploads/2019/02/Katsas-Flyer.jpg
END:VEVENT
BEGIN:VEVENT
DTSTART;VALUE=DATE:20250207
DTEND;VALUE=DATE:20250208
DTSTAMP:20260424T141837
CREATED:20250125T204529Z
LAST-MODIFIED:20250130T165143Z
UID:92607-1738886400-1738972799@www.greekboston.com
SUMMARY:Savor the Essence of Greece Event
DESCRIPTION:
URL:https://www.greekboston.com/event/savor-essence-greece/
LOCATION:Maliotis Cultural Center\, 50 Goddard Avenue\, Brookline\, MA\, 02130\, United States
CATEGORIES:Greek Events in Boston and the New England Area
ATTACH;FMTTYPE=image/png:https://e498h76z5mp.exactdn.com/wp-content/uploads/2025/01/Savor-the-Essence-of-Greece-FINAL.png
END:VEVENT
BEGIN:VEVENT
DTSTART;VALUE=DATE:20250208
DTEND;VALUE=DATE:20250209
DTSTAMP:20260424T141837
CREATED:20250110T195323Z
LAST-MODIFIED:20250130T165139Z
UID:92542-1738972800-1739059199@www.greekboston.com
SUMMARY:Elvis Impersonator Event in Woburn MA
DESCRIPTION:
URL:https://www.greekboston.com/event/elvis-impersonator-woburn-ma/
LOCATION:Annunciation of The Virgin Mary Greek Orthodox Church  – Woburn\, MA\, 70 Montvale Avenue \, Woburn\, MA\, 01801 \, United States
CATEGORIES:Greek Events in Boston and the New England Area
ATTACH;FMTTYPE=image/png:https://e498h76z5mp.exactdn.com/wp-content/uploads/2025/01/IMG_8003.png
END:VEVENT
BEGIN:VEVENT
DTSTART;VALUE=DATE:20250208
DTEND;VALUE=DATE:20250209
DTSTAMP:20260424T141837
CREATED:20250124T195925Z
LAST-MODIFIED:20250130T165133Z
UID:92601-1738972800-1739059199@www.greekboston.com
SUMMARY:Have I Been Scammed Event at St. George Greek Church Lynn MA
DESCRIPTION:
URL:https://www.greekboston.com/event/scammed-lynn-ma/
LOCATION:Greek Orthodox St. George Church in Lynn MA\, 54 South Common Street\, Lynn\, 01902\, United States
CATEGORIES:Greek Events in Boston and the New England Area
ATTACH;FMTTYPE=image/png:https://e498h76z5mp.exactdn.com/wp-content/uploads/2025/01/Screenshot-2025-01-24-at-2.49.23 PM.png
END:VEVENT
BEGIN:VEVENT
DTSTART;VALUE=DATE:20250208
DTEND;VALUE=DATE:20250209
DTSTAMP:20260424T141837
CREATED:20250203T212737Z
LAST-MODIFIED:20250203T212757Z
UID:92703-1738972800-1739059199@www.greekboston.com
SUMMARY:Share the Love Event in Woburn MA
DESCRIPTION:
URL:https://www.greekboston.com/event/share-love-woburn-ma/
LOCATION:Annunciation of The Virgin Mary Greek Orthodox Church  – Woburn\, MA\, 70 Montvale Avenue \, Woburn\, MA\, 01801 \, United States
CATEGORIES:Greek Events in Boston and the New England Area
ATTACH;FMTTYPE=image/jpeg:https://e498h76z5mp.exactdn.com/wp-content/uploads/2025/02/475461066_1022637523228174_1238378688879198647_n.jpg
END:VEVENT
BEGIN:VEVENT
DTSTART;VALUE=DATE:20250208
DTEND;VALUE=DATE:20250209
DTSTAMP:20260424T141837
CREATED:20181008T150046Z
LAST-MODIFIED:20250203T211301Z
UID:73805-1738972800-1739059199@www.greekboston.com
SUMMARY:Greek Dance Glendi at Annunciation Greek Church Cranston RI
DESCRIPTION:
URL:https://www.greekboston.com/event/dance-cranston-ri/
LOCATION:Annunciation Greek Orthodox Church – Cranston\, RI\, 175 Oaklawn Avenue\, Cranston\, RI\, 02920\, United States
CATEGORIES:Greek Events in Boston and the New England Area
ATTACH;FMTTYPE=image/jpeg:https://e498h76z5mp.exactdn.com/wp-content/uploads/2018/10/473182940_10161877662498955_8417088782640401747_n.jpg
END:VEVENT
BEGIN:VEVENT
DTSTART;VALUE=DATE:20250209
DTEND;VALUE=DATE:20250210
DTSTAMP:20260424T141837
CREATED:20250204T225938Z
LAST-MODIFIED:20250220T000606Z
UID:92710-1739059200-1739145599@www.greekboston.com
SUMMARY:Wing-A-Thon Fundraiser Event in Weston MA
DESCRIPTION:
URL:https://www.greekboston.com/event/wing-a-thon-fundraiser-weston-ma/
LOCATION:St. Demetrios Greek Orthodox Church Weston MA\, 57 Brown Street\, Weston\, MA\, 02493\, United States
CATEGORIES:Greek Events in Boston and the New England Area
ATTACH;FMTTYPE=image/jpeg:https://e498h76z5mp.exactdn.com/wp-content/uploads/2025/02/476158956_1058415056325966_3566490255131058672_n.jpg
END:VEVENT
END:VCALENDAR