BEGIN:VCALENDAR
VERSION:2.0
PRODID:-// - ECPv6.15.20//NONSGML v1.0//EN
CALSCALE:GREGORIAN
METHOD:PUBLISH
X-ORIGINAL-URL:https://www.greekboston.com
X-WR-CALDESC:Events for 
REFRESH-INTERVAL;VALUE=DURATION:PT1H
X-Robots-Tag:noindex
X-PUBLISHED-TTL:PT1H
BEGIN:VTIMEZONE
TZID:America/New_York
BEGIN:DAYLIGHT
TZOFFSETFROM:-0500
TZOFFSETTO:-0400
TZNAME:EDT
DTSTART:20250309T070000
END:DAYLIGHT
BEGIN:STANDARD
TZOFFSETFROM:-0400
TZOFFSETTO:-0500
TZNAME:EST
DTSTART:20251102T060000
END:STANDARD
BEGIN:DAYLIGHT
TZOFFSETFROM:-0500
TZOFFSETTO:-0400
TZNAME:EDT
DTSTART:20260308T070000
END:DAYLIGHT
BEGIN:STANDARD
TZOFFSETFROM:-0400
TZOFFSETTO:-0500
TZNAME:EST
DTSTART:20261101T060000
END:STANDARD
BEGIN:DAYLIGHT
TZOFFSETFROM:-0500
TZOFFSETTO:-0400
TZNAME:EDT
DTSTART:20270314T070000
END:DAYLIGHT
BEGIN:STANDARD
TZOFFSETFROM:-0400
TZOFFSETTO:-0500
TZNAME:EST
DTSTART:20271107T060000
END:STANDARD
END:VTIMEZONE
BEGIN:VEVENT
DTSTART;VALUE=DATE:20260602
DTEND;VALUE=DATE:20260603
DTSTAMP:20260425T122054
CREATED:20160222T154806Z
LAST-MODIFIED:20260213T140308Z
UID:53750-1780358400-1780444799@www.greekboston.com
SUMMARY:Greek Heritage Night at Fenway Park
DESCRIPTION:
URL:https://www.greekboston.com/event/heritage-night-fenway-park/
LOCATION:Fenway Park Boston MA\, 4 Yawkey Way\, Boston\, MA\, 02215\, United States
CATEGORIES:Greek Events in Boston and the New England Area
ATTACH;FMTTYPE=image/jpeg:https://e498h76z5mp.exactdn.com/wp-content/uploads/2016/02/image_2026-02-13_090247640.jpg
END:VEVENT
BEGIN:VEVENT
DTSTART;VALUE=DATE:20260604
DTEND;VALUE=DATE:20260608
DTSTAMP:20260425T122054
CREATED:20140221T004300Z
LAST-MODIFIED:20260420T131615Z
UID:35569-1780531200-1780876799@www.greekboston.com
SUMMARY:Arlington MA Greek Festival at St. Athanasius Greek Church
DESCRIPTION:
URL:https://www.greekboston.com/event/festival-arlington-ma/
LOCATION:St. Athanasius the Great Greek Orthodox Church – Arlington\, MA\, 4 Appleton St\, Arlington\, MA\, 02476\, United States
CATEGORIES:Greek Events in Boston and the New England Area,Greek Festivals of New England
ATTACH;FMTTYPE=image/jpeg:https://e498h76z5mp.exactdn.com/wp-content/uploads/2014/02/image_2026-04-20_091537753.jpg
END:VEVENT
BEGIN:VEVENT
DTSTART;VALUE=DATE:20260610
DTEND;VALUE=DATE:20260611
DTSTAMP:20260425T122054
CREATED:20250828T130154Z
LAST-MODIFIED:20260424T125102Z
UID:93115-1781049600-1781135999@www.greekboston.com
SUMMARY:AI Marketing Webinar by Brick Marketing
DESCRIPTION:Register for the free AI SEO marketing webinar here:\nhttps://www.brickmarketing.com/webinars
URL:https://www.greekboston.com/event/brick-marketing-webinar/
LOCATION:Brick Marketing\, 101 Federal Street\, Suite 1900\, Boston\, MA\, 02110\, United States
CATEGORIES:Greek Events in Boston and the New England Area
ATTACH;FMTTYPE=image/jpeg:https://e498h76z5mp.exactdn.com/wp-content/uploads/2025/08/brick-marketing-6-10-26-webinar.jpg
END:VEVENT
BEGIN:VEVENT
DTSTART;VALUE=DATE:20260612
DTEND;VALUE=DATE:20260615
DTSTAMP:20260425T122054
CREATED:20140221T010636Z
LAST-MODIFIED:20260320T114855Z
UID:35578-1781222400-1781481599@www.greekboston.com
SUMMARY:Watertown MA Greek Festival at Taxiarchae Archangels Greek Church
DESCRIPTION:
URL:https://www.greekboston.com/event/festival-watertown-ma/
LOCATION:Taxiarchae Greek Orthodox Church Watertown MA\, 25 Bigelow Ave\, Watertown\, MA\, 02472\, United States
CATEGORIES:Greek Events in Boston and the New England Area,Greek Festivals of New England
ATTACH;FMTTYPE=image/jpeg:https://e498h76z5mp.exactdn.com/wp-content/uploads/2014/02/grecian-fastival-2026.jpg
END:VEVENT
BEGIN:VEVENT
DTSTART;VALUE=DATE:20260710
DTEND;VALUE=DATE:20260713
DTSTAMP:20260425T122054
CREATED:20140322T011953Z
LAST-MODIFIED:20260313T114152Z
UID:37366-1783641600-1783900799@www.greekboston.com
SUMMARY:Saco Maine Greek Festival at St. Demetrios Greek Church
DESCRIPTION:
URL:https://www.greekboston.com/event/saco-maine-festival/
LOCATION:Greek Orthodox St. Demetrios Church in Saco\, ME\, 186 Bradley Street\, Saco\, ME\, 04072\, United States
CATEGORIES:Greek Events in Boston and the New England Area,Greek Festivals of New England
ATTACH;FMTTYPE=image/jpeg:https://e498h76z5mp.exactdn.com/wp-content/uploads/2014/03/image_2026-03-13_074055770.jpg
END:VEVENT
BEGIN:VEVENT
DTSTART;VALUE=DATE:20260801
DTEND;VALUE=DATE:20260802
DTSTAMP:20260425T122054
CREATED:20141024T121143Z
LAST-MODIFIED:20260407T141348Z
UID:43834-1785542400-1785628799@www.greekboston.com
SUMMARY:Greek Festival in Mansfield MA at St. Gregory the Theologian Church
DESCRIPTION:
URL:https://www.greekboston.com/event/festival-mansfield-ma/
LOCATION:St. Gregory the Theologian Greek Orthodox Church – Mansfield\, MA\, 1007 West St\, Mansfield\, MA\, 02048\, United States
CATEGORIES:Greek Events in Boston and the New England Area,Greek Festivals of New England
ATTACH;FMTTYPE=image/jpeg:https://e498h76z5mp.exactdn.com/wp-content/uploads/2026/04/image_2026-04-07_073431191.jpg
END:VEVENT
BEGIN:VEVENT
DTSTART;VALUE=DATE:20260807
DTEND;VALUE=DATE:20260808
DTSTAMP:20260425T122054
CREATED:20220615T192636Z
LAST-MODIFIED:20260212T163820Z
UID:88924-1786060800-1786147199@www.greekboston.com
SUMMARY:Alpha Omega Council Golf Classic
DESCRIPTION:
URL:https://www.greekboston.com/event/alpha-omega-golf-classic/
LOCATION:Crosswinds Golf Club Plymouth MA\, 424 Long Pond Road\, Plymouth\, MA\, 02360\, United States
CATEGORIES:Greek Events in Boston and the New England Area
ATTACH;FMTTYPE=image/jpeg:https://e498h76z5mp.exactdn.com/wp-content/uploads/2022/06/image_2026-02-12_113808178.jpg
END:VEVENT
BEGIN:VEVENT
DTSTART;VALUE=DATE:20260926
DTEND;VALUE=DATE:20260927
DTSTAMP:20260425T122054
CREATED:20240812T215346Z
LAST-MODIFIED:20260327T114709Z
UID:92061-1790380800-1790467199@www.greekboston.com
SUMMARY:Classic Car Show in Woburn MA
DESCRIPTION:
URL:https://www.greekboston.com/event/car-show-woburn-ma/
LOCATION:Annunciation of The Virgin Mary Greek Orthodox Church  – Woburn\, MA\, 70 Montvale Avenue \, Woburn\, MA\, 01801 \, United States
CATEGORIES:Greek Events in Boston and the New England Area
ATTACH;FMTTYPE=application/pdf:https://e498h76z5mp.exactdn.com/wp-content/uploads/2024/08/3rd-Annual-Car-Show.pdf
END:VEVENT
BEGIN:VEVENT
DTSTART;VALUE=DATE:20261017
DTEND;VALUE=DATE:20261018
DTSTAMP:20260425T122054
CREATED:20161025T145149Z
LAST-MODIFIED:20260424T114152Z
UID:58561-1792195200-1792281599@www.greekboston.com
SUMMARY:Logganiko Society Annual Glendi
DESCRIPTION:
URL:https://www.greekboston.com/event/logganiko-society-annual-glendi/
LOCATION:Ithaki Modern Mediterranean\, 1A Newbury Street\, Peabody\, 01960\, United States
CATEGORIES:Greek Events in Boston and the New England Area
ATTACH;FMTTYPE=image/jpeg:https://e498h76z5mp.exactdn.com/wp-content/uploads/2016/10/1-3.jpg
END:VEVENT
END:VCALENDAR