BEGIN:VCALENDAR
VERSION:2.0
PRODID:-// - ECPv6.15.20//NONSGML v1.0//EN
CALSCALE:GREGORIAN
METHOD:PUBLISH
X-ORIGINAL-URL:https://www.greekboston.com
X-WR-CALDESC:Events for 
REFRESH-INTERVAL;VALUE=DURATION:PT1H
X-Robots-Tag:noindex
X-PUBLISHED-TTL:PT1H
BEGIN:VTIMEZONE
TZID:America/New_York
BEGIN:DAYLIGHT
TZOFFSETFROM:-0500
TZOFFSETTO:-0400
TZNAME:EDT
DTSTART:20190310T070000
END:DAYLIGHT
BEGIN:STANDARD
TZOFFSETFROM:-0400
TZOFFSETTO:-0500
TZNAME:EST
DTSTART:20191103T060000
END:STANDARD
BEGIN:DAYLIGHT
TZOFFSETFROM:-0500
TZOFFSETTO:-0400
TZNAME:EDT
DTSTART:20200308T070000
END:DAYLIGHT
BEGIN:STANDARD
TZOFFSETFROM:-0400
TZOFFSETTO:-0500
TZNAME:EST
DTSTART:20201101T060000
END:STANDARD
BEGIN:DAYLIGHT
TZOFFSETFROM:-0500
TZOFFSETTO:-0400
TZNAME:EDT
DTSTART:20210314T070000
END:DAYLIGHT
BEGIN:STANDARD
TZOFFSETFROM:-0400
TZOFFSETTO:-0500
TZNAME:EST
DTSTART:20211107T060000
END:STANDARD
END:VTIMEZONE
BEGIN:VEVENT
DTSTART;VALUE=DATE:20200710
DTEND;VALUE=DATE:20200721
DTSTAMP:20260423T005034
CREATED:20200709T205805Z
LAST-MODIFIED:20200709T205805Z
UID:84578-1594339200-1595289599@www.greekboston.com
SUMMARY:Online Hellenic Film Festival
DESCRIPTION:
URL:https://www.greekboston.com/event/online-hellenic-film-festival/
LOCATION:MA
CATEGORIES:Greek Events in Boston and the New England Area
ATTACH;FMTTYPE=image/jpeg:https://e498h76z5mp.exactdn.com/wp-content/uploads/2020/07/GFE_onDemand_Flyer_8.5x11_V2-FINAL-2-_2_-1.jpg
END:VEVENT
BEGIN:VEVENT
DTSTART;TZID=America/New_York:20200530T190000
DTEND;TZID=America/New_York:20200530T210000
DTSTAMP:20260423T005034
CREATED:20151215T193416Z
LAST-MODIFIED:20200601T152311Z
UID:52141-1590865200-1590872400@www.greekboston.com
SUMMARY:Virtual Greek Music Night at Cafe Nostimo Portsmouth NH
DESCRIPTION:Saturday\, 30 May 2020 at 7pm EST:  A one-hour special show – a virtual Greek Night – with Chuck Koustas on Bouzouki & Vocals\, and Ross Richardson on Guitar & Vocals.    Pick up your favorite food & beverage from Cafe Nostimo in advance\, and join us!  http://www.cafenostimo.com/\nCafe Nostimo\, 72 Mirona Road\, Portsmouth NH   603.436.3100\nLIVE STREAMING URL:  https://youtu.be/sABwxcE2mWs
URL:https://www.greekboston.com/event/music-dancing-portsmouth-nh/
LOCATION:Cafe Nostimo Deliciously Greek in Portsmouth NH\, 72 Mirona Road\, Portsmouth\, NH\, 03801\, United States
CATEGORIES:Greek Events in Boston and the New England Area
ATTACH;FMTTYPE=image/jpeg:https://e498h76z5mp.exactdn.com/wp-content/uploads/2015/12/A-Virtual-Greek-Night-Flier.jpg
END:VEVENT
BEGIN:VEVENT
DTSTART;VALUE=DATE:20200311
DTEND;VALUE=DATE:20200312
DTSTAMP:20260423T005034
CREATED:20160506T190116Z
LAST-MODIFIED:20200317T152811Z
UID:55903-1583884800-1583971199@www.greekboston.com
SUMMARY:Greek Kafeneion at the Transfiguration Outreach Center in Lowell MA
DESCRIPTION:
URL:https://www.greekboston.com/event/kafeneion-lowell-ma/
LOCATION:Transfiguration Greek Orthodox Church – Lowell\, MA\, 25 Fr. John Sarantos Way\, Lowell\, 01854\, United States
CATEGORIES:Greek Events in Boston and the New England Area
ATTACH;FMTTYPE=image/png:https://e498h76z5mp.exactdn.com/wp-content/uploads/2016/05/Lowell-Trans-Kafeneion.png
END:VEVENT
BEGIN:VEVENT
DTSTART;TZID=America/New_York:20200306T190000
DTEND;TZID=America/New_York:20200306T200000
DTSTAMP:20260423T005034
CREATED:20200204T194857Z
LAST-MODIFIED:20200204T194857Z
UID:81820-1583521200-1583524800@www.greekboston.com
SUMMARY:Our Lenten Journey - Talk and Meal at the Annunciation Cathedral in Boston MA
DESCRIPTION:
URL:https://www.greekboston.com/event/lenten-talk-boston-ma/
LOCATION:Annunciation Cathedral of New England\, 514 Parker Street\, Boston\, MA\, 02120\, United States
CATEGORIES:Greek Events in Boston and the New England Area
ATTACH;FMTTYPE=image/png:https://e498h76z5mp.exactdn.com/wp-content/uploads/2020/02/Our-Lenten-Journey.png
END:VEVENT
BEGIN:VEVENT
DTSTART;TZID=America/New_York:20200306T173000
DTEND;TZID=America/New_York:20200306T190000
DTSTAMP:20260423T005034
CREATED:20200305T214532Z
LAST-MODIFIED:20200305T214532Z
UID:82534-1583515800-1583521200@www.greekboston.com
SUMMARY:Kids JOY Event focusing on Forgiveness at Dormition of the Virgin Mary Greek Church Somerville MA
DESCRIPTION:
URL:https://www.greekboston.com/event/kids-joy-forgiveness-somerville-ma/
LOCATION:Dormition of the Virgin Mary Greek Orthodox Church\, 29 Central Street\, Somerville\, MA\, 02143\, United States
CATEGORIES:Greek Events in Boston and the New England Area
ATTACH;FMTTYPE=image/jpeg:https://e498h76z5mp.exactdn.com/wp-content/uploads/2020/03/89179478_4077236375635408_5918339280324788224_n.jpg
END:VEVENT
BEGIN:VEVENT
DTSTART;TZID=America/New_York:20200304T160000
DTEND;TZID=America/New_York:20200304T180000
DTSTAMP:20260423T005034
CREATED:20170424T153526Z
LAST-MODIFIED:20200225T180507Z
UID:63114-1583337600-1583344800@www.greekboston.com
SUMMARY:Family Table at the Dormition of the Virgin Mary Greek Church in Somerville\, MA
DESCRIPTION:
URL:https://www.greekboston.com/event/family-table-somerville-ma/
LOCATION:Dormition of the Virgin Mary Greek Orthodox Church\, 29 Central Street\, Somerville\, MA\, 02143\, United States
CATEGORIES:Greek Events in Boston and the New England Area
ATTACH;FMTTYPE=image/jpeg:https://e498h76z5mp.exactdn.com/wp-content/uploads/2017/04/Improved-Soup-kitchen-flyer.jpg
END:VEVENT
BEGIN:VEVENT
DTSTART;TZID=America/New_York:20200301T120000
DTEND;TZID=America/New_York:20200301T140000
DTSTAMP:20260423T005034
CREATED:20150302T114446Z
LAST-MODIFIED:20200316T214239Z
UID:46410-1583064000-1583071200@www.greekboston.com
SUMMARY:Annual Bakaliaro Dinner at the Dormition of the Virgin Mary Greek Church in Somerville MA
DESCRIPTION:THIS EVENT HAS BEEN CANCELLED
URL:https://www.greekboston.com/event/bakaliaro-dinner-somerville-ma/
LOCATION:Dormition of the Virgin Mary Greek Orthodox Church\, 29 Central Street\, Somerville\, MA\, 02143\, United States
CATEGORIES:Greek Events in Boston and the New England Area
ATTACH;FMTTYPE=image/jpeg:https://e498h76z5mp.exactdn.com/wp-content/uploads/2020/01/greek-flag14-scaled.jpg
END:VEVENT
BEGIN:VEVENT
DTSTART;TZID=America/New_York:20200301T110000
DTEND;TZID=America/New_York:20200301T150000
DTSTAMP:20260423T005034
CREATED:20150109T125233Z
LAST-MODIFIED:20200212T233903Z
UID:45658-1583060400-1583074800@www.greekboston.com
SUMMARY:Godparents Sunday Brunch for Assumption of the Virgin Mary Greek Church in Dracut MA
DESCRIPTION:
URL:https://www.greekboston.com/event/godparents-sunday-dracut-ma/
LOCATION:Owen & Ollie’s Restaurant & Pub\, 91 Mill Street\, Dracut\, MA\, 01826\, United States
CATEGORIES:Greek Events in Boston and the New England Area
ATTACH;FMTTYPE=image/jpeg:https://e498h76z5mp.exactdn.com/wp-content/uploads/2015/01/84525715_2701899213196766_3993101738713284608_o.jpg
END:VEVENT
BEGIN:VEVENT
DTSTART;TZID=America/New_York:20200229T193000
DTEND;TZID=America/New_York:20200301T010000
DTSTAMP:20260423T005034
CREATED:20190204T221111Z
LAST-MODIFIED:20200208T175716Z
UID:75632-1583004600-1583024400@www.greekboston.com
SUMMARY:Rathamanthus Ide Cretan Chapter of Boston Apokriatiko Glendi
DESCRIPTION:
URL:https://www.greekboston.com/event/rathamanthus-ide-cretan-apokriatiko-glendi/
LOCATION:St. Nectarios Greek Orthodox Church – Roslindale\, MA\, 39 Belgrade Ave\, Roslindale\, MA\,  02131\, United States
CATEGORIES:Greek Events in Boston and the New England Area
ATTACH;FMTTYPE=image/jpeg:https://e498h76z5mp.exactdn.com/wp-content/uploads/2019/02/CretanApokries2020_v4-scaled.jpg
END:VEVENT
BEGIN:VEVENT
DTSTART;TZID=America/New_York:20200229T190000
DTEND;TZID=America/New_York:20200229T230000
DTSTAMP:20260423T005034
CREATED:20200205T222251Z
LAST-MODIFIED:20200205T222400Z
UID:81880-1583002800-1583017200@www.greekboston.com
SUMMARY:Apokries Glendi Dance by Holy Trinity Greek Church Fitchburg MA
DESCRIPTION:Come celebrate Carnival\, Greek style\, with food\, music and dance! Admission is $10\, children under 5 free.\nThere will be a pot luck smorgasbord of Greek goodies for both dinner and dessert. Music provided by DJ Thrilla – Pro Sound and Event Lighting!\nDon’t forget your costumes! We’ll be giving out prizes for the best masqueraders. See you there!
URL:https://www.greekboston.com/event/apokries-glendi-dance-fitchburg-ma/
LOCATION:Knights of Columbus\, 484 Lancaster Street\, Leominster\, MA\, 01453\, United States
CATEGORIES:Greek Events in Boston and the New England Area
ATTACH;FMTTYPE=image/jpeg:https://e498h76z5mp.exactdn.com/wp-content/uploads/2020/01/greek-flag11-scaled.jpg
END:VEVENT
BEGIN:VEVENT
DTSTART;TZID=America/New_York:20200229T190000
DTEND;TZID=America/New_York:20200229T230000
DTSTAMP:20260423T005034
CREATED:20200120T204700Z
LAST-MODIFIED:20200120T204700Z
UID:81488-1583002800-1583017200@www.greekboston.com
SUMMARY:Dance Party at Holy Trinity Greek Church Waterbury CT
DESCRIPTION:
URL:https://www.greekboston.com/event/dance-party-waterbury-ct/
LOCATION:Holy Trinity Greek Orthodox Church Waterbury CT\, 937 Chase Pkwy\, Waterbury\, CT\, 06708\, United States
CATEGORIES:Greek Events in Boston and the New England Area
ATTACH;FMTTYPE=image/jpeg:https://e498h76z5mp.exactdn.com/wp-content/uploads/2020/01/82237791_190124298844661_5674513922506358784_n.jpg
END:VEVENT
BEGIN:VEVENT
DTSTART;TZID=America/New_York:20200229T190000
DTEND;TZID=America/New_York:20200229T230000
DTSTAMP:20260423T005034
CREATED:20190208T224823Z
LAST-MODIFIED:20200114T201511Z
UID:75704-1583002800-1583017200@www.greekboston.com
SUMMARY:Mardi Gras Party at St Demetrios Greek Church Weston MA
DESCRIPTION:
URL:https://www.greekboston.com/event/mardi-gras-party-weston-ma/
LOCATION:Greek Orthodox St. Demetrios Church in Weston MA\, 57 Brown Street\, Weston\, MA\, 02493\, United States
CATEGORIES:Greek Events in Boston and the New England Area
ATTACH;FMTTYPE=image/jpeg:https://e498h76z5mp.exactdn.com/wp-content/uploads/2019/02/2020-GOYA-Mardi-Gras2-DJ-edits-with-colors1.jpg
END:VEVENT
BEGIN:VEVENT
DTSTART;TZID=America/New_York:20200229T160000
DTEND;TZID=America/New_York:20200229T180000
DTSTAMP:20260423T005034
CREATED:20200122T210524Z
LAST-MODIFIED:20200122T210524Z
UID:81538-1582992000-1582999200@www.greekboston.com
SUMMARY:Philoptochos Sewing Event at Annunciation Greek Church of Woburn MA
DESCRIPTION:
URL:https://www.greekboston.com/event/sewing-woburn-ma/
LOCATION:Annunciation of The Virgin Mary Greek Orthodox Church  – Woburn\, MA\, 70 Montvale Avenue \, Woburn\, MA\, 01801 \, United States
CATEGORIES:Greek Events in Boston and the New England Area
ATTACH;FMTTYPE=image/jpeg:https://e498h76z5mp.exactdn.com/wp-content/uploads/2020/01/82983133_10159456510338782_5871062698397007872_o.jpg
END:VEVENT
BEGIN:VEVENT
DTSTART;TZID=America/New_York:20200229T113000
DTEND;TZID=America/New_York:20200229T140000
DTSTAMP:20260423T005034
CREATED:20200226T213115Z
LAST-MODIFIED:20200226T213115Z
UID:82324-1582975800-1582984800@www.greekboston.com
SUMMARY:GOYA Mural Painting Event at Taxiarchae Greek Church Watertown MA
DESCRIPTION:
URL:https://www.greekboston.com/event/goya-mural-painting-watertown-ma/
LOCATION:Taxiarchae Greek Orthodox Church Watertown MA\, 25 Bigelow Ave\, Watertown\, MA\, 02472\, United States
CATEGORIES:Greek Events in Boston and the New England Area
ATTACH;FMTTYPE=image/jpeg:https://e498h76z5mp.exactdn.com/wp-content/uploads/2020/02/87438669_2995893050441010_5735861770778574848_o.jpg
END:VEVENT
BEGIN:VEVENT
DTSTART;TZID=America/New_York:20200229T093000
DTEND;TZID=America/New_York:20200229T170000
DTSTAMP:20260423T005034
CREATED:20200114T202246Z
LAST-MODIFIED:20200114T202246Z
UID:81328-1582968600-1582995600@www.greekboston.com
SUMMARY:BEETREAT Event at Greek Church of the Annunciation in Cranston RI
DESCRIPTION:
URL:https://www.greekboston.com/event/beetreat-cranston-ri/
LOCATION:Annunciation Greek Orthodox Church – Cranston\, RI\, 175 Oaklawn Avenue\, Cranston\, RI\, 02920\, United States
CATEGORIES:Greek Events in Boston and the New England Area
ATTACH;FMTTYPE=image/jpeg:https://e498h76z5mp.exactdn.com/wp-content/uploads/2020/01/be-the-bee-february.jpg
END:VEVENT
BEGIN:VEVENT
DTSTART;TZID=America/New_York:20200228T190000
DTEND;TZID=America/New_York:20200228T233000
DTSTAMP:20260423T005034
CREATED:20200129T223501Z
LAST-MODIFIED:20200129T223501Z
UID:81697-1582916400-1582932600@www.greekboston.com
SUMMARY:Apokreatiko Glendi at Taxiarchae Greek Church Watertown MA
DESCRIPTION:
URL:https://www.greekboston.com/event/apokreatiko-glendi-watertown-ma/
LOCATION:MA
CATEGORIES:Greek Events in Boston and the New England Area
ATTACH;FMTTYPE=image/jpeg:https://e498h76z5mp.exactdn.com/wp-content/uploads/2020/01/83382440_2935517639811885_4218350276349788160_o.jpg
END:VEVENT
BEGIN:VEVENT
DTSTART;TZID=America/New_York:20200223T180000
DTEND;TZID=America/New_York:20200223T200000
DTSTAMP:20260423T005034
CREATED:20200212T233637Z
LAST-MODIFIED:20200212T233637Z
UID:82023-1582480800-1582488000@www.greekboston.com
SUMMARY:Young Adult Apokriatiko Gyro Night at St. Nectarios Greek Church Roslindale MA
DESCRIPTION:
URL:https://www.greekboston.com/event/apokriatiko-gyro-night-roslindale-ma/
LOCATION:St. Nectarios Greek Orthodox Church – Roslindale\, MA\, 39 Belgrade Ave\, Roslindale\, MA\,  02131\, United States
CATEGORIES:Greek Events in Boston and the New England Area
ATTACH;FMTTYPE=image/jpeg:https://e498h76z5mp.exactdn.com/wp-content/uploads/2020/02/86251546_503958943596397_75290579130384384_o.jpg
END:VEVENT
BEGIN:VEVENT
DTSTART;TZID=America/New_York:20200223T160000
DTEND;TZID=America/New_York:20200223T171500
DTSTAMP:20260423T005034
CREATED:20200204T231253Z
LAST-MODIFIED:20200204T231253Z
UID:81846-1582473600-1582478100@www.greekboston.com
SUMMARY:Intro in Ancient Greek Class at Greek 4 Kids School Newton MA
DESCRIPTION:
URL:https://www.greekboston.com/event/ancient-class-newton-ma/
LOCATION:Greek 4 Kids Newton MA\, 1345 Centre Street\, Newton \, MA\, 02459\, United States
CATEGORIES:Greek Events in Boston and the New England Area
ATTACH;FMTTYPE=image/jpeg:https://e498h76z5mp.exactdn.com/wp-content/uploads/2020/02/83397790_10157112140047781_5023522954902765568_o.jpg
END:VEVENT
BEGIN:VEVENT
DTSTART;TZID=America/New_York:20200223T120000
DTEND;TZID=America/New_York:20200223T150000
DTSTAMP:20260423T005034
CREATED:20150126T205755Z
LAST-MODIFIED:20200120T203430Z
UID:46000-1582459200-1582470000@www.greekboston.com
SUMMARY:Apokreatiko Luncheon at Annunciation Greek Orthodox Cathedral in Boston MA
DESCRIPTION:
URL:https://www.greekboston.com/event/apokreatiko-luncheon-cathedral/
LOCATION:Annunciation Cathedral of New England\, 514 Parker Street\, Boston\, MA\, 02120\, United States
CATEGORIES:Greek Events in Boston and the New England Area
ATTACH;FMTTYPE=image/jpeg:https://e498h76z5mp.exactdn.com/wp-content/uploads/2015/01/011920-24.jpeg
END:VEVENT
BEGIN:VEVENT
DTSTART;TZID=America/New_York:20200223T120000
DTEND;TZID=America/New_York:20200223T140000
DTSTAMP:20260423T005034
CREATED:20200220T205722Z
LAST-MODIFIED:20200220T205722Z
UID:82217-1582459200-1582466400@www.greekboston.com
SUMMARY:Pastichio Lunch at Assumption of the Virgin Mary Greek Church Dracut MA
DESCRIPTION:
URL:https://www.greekboston.com/event/pastichio-lunch-dracut-ma/
LOCATION:Assumption of the Virgin Mary Church – Dracut\, MA\, 1168 Mammoth Road\, Dracut\, MA\, 01826\, United States
ATTACH;FMTTYPE=image/jpeg:https://e498h76z5mp.exactdn.com/wp-content/uploads/2020/02/86776535_2724660140920673_4484606057921904640_n.jpg
END:VEVENT
BEGIN:VEVENT
DTSTART;TZID=America/New_York:20200223T113000
DTEND;TZID=America/New_York:20200223T140000
DTSTAMP:20260423T005034
CREATED:20150128T200925Z
LAST-MODIFIED:20200203T215913Z
UID:46031-1582457400-1582466400@www.greekboston.com
SUMMARY:Apokriatiko Glendi Dance at St. Demetrios Greek Church in Weston MA
DESCRIPTION:
URL:https://www.greekboston.com/event/apokriatiko-dance-weston-ma/
LOCATION:Greek Orthodox St. Demetrios Church in Weston MA\, 57 Brown Street\, Weston\, MA\, 02493\, United States
CATEGORIES:Greek Events in Boston and the New England Area
ATTACH;FMTTYPE=image/jpeg:https://e498h76z5mp.exactdn.com/wp-content/uploads/2015/01/83738357_10159253772468572_3781041997670776832_o.jpg
END:VEVENT
BEGIN:VEVENT
DTSTART;TZID=America/New_York:20200223T110000
DTEND;TZID=America/New_York:20200223T140000
DTSTAMP:20260423T005034
CREATED:20200205T222719Z
LAST-MODIFIED:20200205T222719Z
UID:81884-1582455600-1582466400@www.greekboston.com
SUMMARY:Spaghetti Dinner at St. George Greek Church Lowell MA
DESCRIPTION:
URL:https://www.greekboston.com/event/spaghetti-dinner-lowell-ma/
LOCATION:Saint George Greek Orthodox Church – Lynn\, MA\, 54 S Common Street\, Lynn\, MA\, United States
CATEGORIES:Greek Events in Boston and the New England Area
ATTACH;FMTTYPE=image/jpeg:https://e498h76z5mp.exactdn.com/wp-content/uploads/2020/02/Scan_0001.jpg
END:VEVENT
BEGIN:VEVENT
DTSTART;TZID=America/New_York:20200223T110000
DTEND;TZID=America/New_York:20200223T140000
DTSTAMP:20260423T005034
CREATED:20200204T230617Z
LAST-MODIFIED:20200204T230617Z
UID:81843-1582455600-1582466400@www.greekboston.com
SUMMARY:Apokriatiko Brunch Fundraiser at St Spyridon Greek Cathedral Worcester MA
DESCRIPTION:
URL:https://www.greekboston.com/event/apokriatiko-brunch-fundraiser-worcester-ma/
LOCATION:St. Spyridon Greek Orthodox Cathedral – Worcester\, 102 Russell Street\, Worcester\, MA\, 01609\, United States
CATEGORIES:Greek Events in Boston and the New England Area
ATTACH;FMTTYPE=image/jpeg:https://e498h76z5mp.exactdn.com/wp-content/uploads/2020/02/84004387_10158063256042359_4256943636995899392_n.jpg
END:VEVENT
BEGIN:VEVENT
DTSTART;TZID=America/New_York:20200222T120000
DTEND;TZID=America/New_York:20200222T140000
DTSTAMP:20260423T005034
CREATED:20200217T193854Z
LAST-MODIFIED:20200217T193854Z
UID:82139-1582372800-1582380000@www.greekboston.com
SUMMARY:Young Adult Brunch for St. Spyridon Greek Cathedral Worcester MA
DESCRIPTION:
URL:https://www.greekboston.com/event/young-adult-brunch-worcester-ma/
LOCATION:Flying Rhino Cafe & Watering Hole\, 278 Shrewsbury Street\, Worcester\, MA\, 01604\, United States
CATEGORIES:Greek Events in Boston and the New England Area
ATTACH;FMTTYPE=image/jpeg:https://e498h76z5mp.exactdn.com/wp-content/uploads/2020/02/86406943_10158101184042359_4546787293058301952_o.jpg
END:VEVENT
BEGIN:VEVENT
DTSTART;TZID=America/New_York:20200220T190000
DTEND;TZID=America/New_York:20200220T230000
DTSTAMP:20260423T005034
CREATED:20200212T232513Z
LAST-MODIFIED:20200212T232513Z
UID:82019-1582225200-1582239600@www.greekboston.com
SUMMARY:Pre-Lenten Dinner Event at St. Nectarios Greek Church of Roslindale MA
DESCRIPTION:
URL:https://www.greekboston.com/event/pre-lenten-dinner-roslindale-ma/
LOCATION:St. Nectarios Greek Orthodox Church – Roslindale\, MA\, 39 Belgrade Ave\, Roslindale\, MA\,  02131\, United States
CATEGORIES:Greek Events in Boston and the New England Area
ATTACH;FMTTYPE=image/jpeg:https://e498h76z5mp.exactdn.com/wp-content/uploads/2020/02/82328861_2807555302623772_2741278003546816512_n.jpg
END:VEVENT
BEGIN:VEVENT
DTSTART;TZID=America/New_York:20200216T130000
DTEND;TZID=America/New_York:20200216T140000
DTSTAMP:20260423T005034
CREATED:20150209T221509Z
LAST-MODIFIED:20200120T213211Z
UID:46176-1581858000-1581861600@www.greekboston.com
SUMMARY:Souper Sunday Cook-Off at Annunciation Greek Orthodox Church in Newburyport\, MA
DESCRIPTION:
URL:https://www.greekboston.com/event/souper-sunday-newburyport-ma/
LOCATION:Annunciation Greek Orthodox Church – Newburyport\, MA\, 7 Harris St \, Newburyport\, MA\, 01950\, United States
CATEGORIES:Greek Events in Boston and the New England Area
ATTACH;FMTTYPE=image/jpeg:https://e498h76z5mp.exactdn.com/wp-content/uploads/2015/02/2020-Poster-Souper-Sunday.jpg
END:VEVENT
BEGIN:VEVENT
DTSTART;TZID=America/New_York:20200216T120000
DTEND;TZID=America/New_York:20200216T140000
DTSTAMP:20260423T005035
CREATED:20200210T230152Z
LAST-MODIFIED:20200210T230152Z
UID:81989-1581854400-1581861600@www.greekboston.com
SUMMARY:Apokreatiko Philoptochos Pot Luck Luncheon at St. Demetrios Greek Church Fall River MA
DESCRIPTION:
URL:https://www.greekboston.com/event/apokreatiko-pot-luck-luncheon-fall-river-ma/
LOCATION:Greek Orthodox St. Demetrios Church in Fall River MA\, 289 North Main Street\, Fall River\, MA\, 02720\, United States
CATEGORIES:Greek Events in Boston and the New England Area
ATTACH;FMTTYPE=image/jpeg:https://e498h76z5mp.exactdn.com/wp-content/uploads/2020/02/86269234_1561116467372729_6707436862656479232_o.jpg
END:VEVENT
BEGIN:VEVENT
DTSTART;TZID=America/New_York:20200216T120000
DTEND;TZID=America/New_York:20200216T140000
DTSTAMP:20260423T005035
CREATED:20160219T202307Z
LAST-MODIFIED:20200124T232015Z
UID:53683-1581854400-1581861600@www.greekboston.com
SUMMARY:Apokriatiko Luncheon at Dormition of the Virgin Mary Greek Church Somerville MA
DESCRIPTION:
URL:https://www.greekboston.com/event/apokriatiko-luncheon-somerville-ma/
LOCATION:Dormition of the Virgin Mary Greek Orthodox Church\, 29 Central Street\, Somerville\, MA\, 02143\, United States
CATEGORIES:Greek Events in Boston and the New England Area
ATTACH;FMTTYPE=image/jpeg:https://e498h76z5mp.exactdn.com/wp-content/uploads/2016/02/82969043_3935147773177603_2880502658391605248_o.jpg
END:VEVENT
BEGIN:VEVENT
DTSTART;TZID=America/New_York:20200215T100000
DTEND;TZID=America/New_York:20200215T150000
DTSTAMP:20260423T005035
CREATED:20200120T203720Z
LAST-MODIFIED:20200120T203737Z
UID:81482-1581760800-1581778800@www.greekboston.com
SUMMARY:Faith\, Art and Symbolism Event at at Annunciation Greek Cathedral in Boston MA
DESCRIPTION:
URL:https://www.greekboston.com/event/faith-art-symbolism-event/
LOCATION:Annunciation Cathedral of New England\, 514 Parker Street\, Boston\, MA\, 02120\, United States
CATEGORIES:Greek Events in Boston and the New England Area
ATTACH;FMTTYPE=image/jpeg:https://e498h76z5mp.exactdn.com/wp-content/uploads/2020/01/011920-17symbolic.jpeg
END:VEVENT
BEGIN:VEVENT
DTSTART;TZID=America/New_York:20200211T183000
DTEND;TZID=America/New_York:20200211T203000
DTSTAMP:20260423T005035
CREATED:20200131T223316Z
LAST-MODIFIED:20200131T223316Z
UID:81748-1581445800-1581453000@www.greekboston.com
SUMMARY:Valentine Flower Arranging Night at Holy Apostles Greek Church Haverhill MA
DESCRIPTION:
URL:https://www.greekboston.com/event/valentine-flower-arranging-haverhill-ma/
LOCATION:Holy Apostles Saints Peter & Paul Greek Orthodox Church\, 154-156 Winter Street\, Haverhill\, MA\, 01830\, United States
CATEGORIES:Greek Events in Boston and the New England Area
ATTACH;FMTTYPE=image/jpeg:https://e498h76z5mp.exactdn.com/wp-content/uploads/2020/01/84399682_2028061100673680_6890230649299402752_o.jpg
END:VEVENT
END:VCALENDAR