BEGIN:VCALENDAR
VERSION:2.0
PRODID:-// - ECPv6.15.20//NONSGML v1.0//EN
CALSCALE:GREGORIAN
METHOD:PUBLISH
X-ORIGINAL-URL:https://www.greekboston.com
X-WR-CALDESC:Events for 
REFRESH-INTERVAL;VALUE=DURATION:PT1H
X-Robots-Tag:noindex
X-PUBLISHED-TTL:PT1H
BEGIN:VTIMEZONE
TZID:America/New_York
BEGIN:DAYLIGHT
TZOFFSETFROM:-0500
TZOFFSETTO:-0400
TZNAME:EDT
DTSTART:20240310T070000
END:DAYLIGHT
BEGIN:STANDARD
TZOFFSETFROM:-0400
TZOFFSETTO:-0500
TZNAME:EST
DTSTART:20241103T060000
END:STANDARD
BEGIN:DAYLIGHT
TZOFFSETFROM:-0500
TZOFFSETTO:-0400
TZNAME:EDT
DTSTART:20250309T070000
END:DAYLIGHT
BEGIN:STANDARD
TZOFFSETFROM:-0400
TZOFFSETTO:-0500
TZNAME:EST
DTSTART:20251102T060000
END:STANDARD
BEGIN:DAYLIGHT
TZOFFSETFROM:-0500
TZOFFSETTO:-0400
TZNAME:EDT
DTSTART:20260308T070000
END:DAYLIGHT
BEGIN:STANDARD
TZOFFSETFROM:-0400
TZOFFSETTO:-0500
TZNAME:EST
DTSTART:20261101T060000
END:STANDARD
END:VTIMEZONE
BEGIN:VEVENT
DTSTART;VALUE=DATE:20251025
DTEND;VALUE=DATE:20251026
DTSTAMP:20260425T123324
CREATED:20240812T214537Z
LAST-MODIFIED:20250903T225205Z
UID:92057-1761350400-1761436799@www.greekboston.com
SUMMARY:Fashion Show by the North Shore Hellenic Women’s Guild
DESCRIPTION:
URL:https://www.greekboston.com/event/fashion-show-north-shore-hellenic-womens-guild/
LOCATION:Wenham Tea House\, 4 Monument Street\, Wenham\, MA\, 01984\, United States
CATEGORIES:Greek Events in Boston and the New England Area
ATTACH;FMTTYPE=image/jpeg:https://e498h76z5mp.exactdn.com/wp-content/uploads/2024/08/Screenshot-2025-09-03-at-6.51.36-PM.jpg
END:VEVENT
BEGIN:VEVENT
DTSTART;VALUE=DATE:20251025
DTEND;VALUE=DATE:20251026
DTSTAMP:20260425T123325
CREATED:20251016T140652Z
LAST-MODIFIED:20251016T140652Z
UID:93295-1761350400-1761436799@www.greekboston.com
SUMMARY:The Future of Greek Language & Culture\, Boston University
DESCRIPTION:
URL:https://www.greekboston.com/event/the-future-of-greek-language-culture-boston-university/
LOCATION:665 Commonwealth Ave.\, 665 Commonwealth Ave\, Boston\, MA\, 02215\, United States
CATEGORIES:Greek Events in Boston and the New England Area
ATTACH;FMTTYPE=image/jpeg:https://e498h76z5mp.exactdn.com/wp-content/uploads/2025/10/565163928_1113731337579421_993427402810336002_n.jpg
END:VEVENT
BEGIN:VEVENT
DTSTART;VALUE=DATE:20251026
DTEND;VALUE=DATE:20251027
DTSTAMP:20260425T123325
CREATED:20251014T131154Z
LAST-MODIFIED:20251014T131154Z
UID:93253-1761436800-1761523199@www.greekboston.com
SUMMARY:History of Greek Orthodox Church Music Manchester\, NH
DESCRIPTION:
URL:https://www.greekboston.com/event/greek-church-music-manchester-nh/
LOCATION:St. George Greek Orthodox Cathedral – Manchester\, NH\, 650 Hanover Street\, Manchester\, NH\, 03104\, United States
END:VEVENT
BEGIN:VEVENT
DTSTART;TZID=America/New_York:20251026T080000
DTEND;TZID=America/New_York:20251026T170000
DTSTAMP:20260425T123325
CREATED:20250830T181258Z
LAST-MODIFIED:20250830T181258Z
UID:93129-1761465600-1761498000@www.greekboston.com
SUMMARY:100 Years of Hadjidakis Show in Brookline MA
DESCRIPTION:
URL:https://www.greekboston.com/event/100-years-of-hadjidakis-show-in-brookline-ma/
LOCATION:Maliotis Cultural Center\, 50 Goddard Avenue\, Brookline\, MA\, 02130\, United States
CATEGORIES:Greek Events in Boston and the New England Area
ATTACH;FMTTYPE=image/jpeg:https://e498h76z5mp.exactdn.com/wp-content/uploads/2025/08/hadjidakis.jpg.jpg
END:VEVENT
BEGIN:VEVENT
DTSTART;VALUE=DATE:20251028
DTEND;VALUE=DATE:20251029
DTSTAMP:20260425T123325
CREATED:20250917T213615Z
LAST-MODIFIED:20250917T213615Z
UID:93199-1761609600-1761695999@www.greekboston.com
SUMMARY:Live Greek Cooking Demo with Chef Diane Kochilas
DESCRIPTION:
URL:https://www.greekboston.com/event/diane-kochilas/
LOCATION:Maliotis Cultural Center\, 50 Goddard Avenue\, Brookline\, MA\, 02130\, United States
CATEGORIES:Greek Events in Boston and the New England Area
ATTACH;FMTTYPE=image/jpeg:https://e498h76z5mp.exactdn.com/wp-content/uploads/2025/09/Live-Greek-Cooking-Demo-with-Chef-Diane-Kochilas_FINAL-3-1.jpg
END:VEVENT
BEGIN:VEVENT
DTSTART;VALUE=DATE:20251028
DTEND;VALUE=DATE:20251029
DTSTAMP:20260425T123325
CREATED:20251021T130004Z
LAST-MODIFIED:20251021T130004Z
UID:93376-1761609600-1761695999@www.greekboston.com
SUMMARY:Seminar on Medicare and Medicaid - Hellenic Nursing and Rehab Center
DESCRIPTION:
URL:https://www.greekboston.com/event/seminar-medicare-medicaid-hellenic-nursing/
LOCATION:Hellenic Nursing & Rehabilitation Center\, 601 Sherman Street\, Canton\, 02021\, United States
CATEGORIES:Greek Events in Boston and the New England Area
ATTACH;FMTTYPE=image/jpeg:https://e498h76z5mp.exactdn.com/wp-content/uploads/2025/10/image0.jpeg
END:VEVENT
BEGIN:VEVENT
DTSTART;VALUE=DATE:20251029
DTEND;VALUE=DATE:20251030
DTSTAMP:20260425T123325
CREATED:20140321T234857Z
LAST-MODIFIED:20251016T141615Z
UID:37353-1761696000-1761782399@www.greekboston.com
SUMMARY:Hellenic American Academy Lowell MA Open House
DESCRIPTION:
URL:https://www.greekboston.com/event/hellenic-american-academy-lowell/
LOCATION:The Hellenic American Academy\, 41 Broadway Street\, Lowell\, MA\, 01854 \, United States
CATEGORIES:Greek Events in Boston and the New England Area
ATTACH;FMTTYPE=image/jpeg:https://e498h76z5mp.exactdn.com/wp-content/uploads/2014/03/561262178_1393948312738153_1282595719415255291_n.jpg
END:VEVENT
BEGIN:VEVENT
DTSTART;VALUE=DATE:20251030
DTEND;VALUE=DATE:20251101
DTSTAMP:20260425T123325
CREATED:20251023T120911Z
LAST-MODIFIED:20251023T120911Z
UID:93399-1761782400-1761955199@www.greekboston.com
SUMMARY:AI & Theology Conference at Hellenic College
DESCRIPTION:
URL:https://www.greekboston.com/event/ai-theology-conference-at-hellenic-college/
LOCATION:Hellenic College Holy Cross – Brookline MA\, 50 Goddard Ave\, Brookline\, MA\, 02445\, United States
CATEGORIES:Greek Events in Boston and the New England Area
ATTACH;FMTTYPE=image/jpeg:https://e498h76z5mp.exactdn.com/wp-content/uploads/2025/10/image0-1.jpeg
END:VEVENT
BEGIN:VEVENT
DTSTART;VALUE=DATE:20251101
DTEND;VALUE=DATE:20251102
DTSTAMP:20260425T123325
CREATED:20210716T215025Z
LAST-MODIFIED:20250905T204630Z
UID:86830-1761955200-1762041599@www.greekboston.com
SUMMARY:Greek Comedy Night in Worcester MA
DESCRIPTION:
URL:https://www.greekboston.com/event/comedy-night-worcester-ma/
LOCATION:St. Spyridon Greek Orthodox Cathedral – Worcester\, 102 Russell Street\, Worcester\, MA\, 01609\, United States
CATEGORIES:Greek Events in Boston and the New England Area
ATTACH;FMTTYPE=image/jpeg:https://e498h76z5mp.exactdn.com/wp-content/uploads/2021/07/Comedy-Night-Tickets-on-Sale-Flyer-Handout.jpg
END:VEVENT
BEGIN:VEVENT
DTSTART;VALUE=DATE:20251101
DTEND;VALUE=DATE:20251102
DTSTAMP:20260425T123325
CREATED:20221025T204852Z
LAST-MODIFIED:20251001T203233Z
UID:89446-1761955200-1762041599@www.greekboston.com
SUMMARY:Alpha Omega Council Honors Gala
DESCRIPTION:
URL:https://www.greekboston.com/event/alpha-omega-council-gala/
LOCATION:InterContinental Boston\, 510 Atlantic Ave\, Boston\, MA\, 02210\, United States
CATEGORIES:Greek Events in Boston and the New England Area
ATTACH;FMTTYPE=image/jpeg:https://e498h76z5mp.exactdn.com/wp-content/uploads/2022/10/Alpha-Omega-Council-2025-Honors-Gala-Flyer.jpg
END:VEVENT
BEGIN:VEVENT
DTSTART;VALUE=DATE:20251101
DTEND;VALUE=DATE:20251102
DTSTAMP:20260425T123325
CREATED:20250824T135139Z
LAST-MODIFIED:20250824T135139Z
UID:93086-1761955200-1762041599@www.greekboston.com
SUMMARY:Fall Bus Trip to Brookline MA
DESCRIPTION:Event: Fall Bus Trip to Brookline\, MA\nWhen: Saturday\, November 1\, 2025 from 9:00am to 4:00pm\nOpen to all ages and all Orthodox Churches in Manchester\, NH.\nAdvanced Ticket Sales by Sunday\, 0ctober 26\nTransportation and Lunch provided\nAdmission: Adults $25\, Children under 12 – free.\nSt. George Greek Orthodox Cathedral\n650 Hanover St.\, Manchester\, NH 03104\n603-622-9113\nemail: library@stgeorgenh.org
URL:https://www.greekboston.com/event/fall-bus-trip-brookline-ma/
LOCATION:St. George Greek Orthodox Cathedral – Manchester\, NH\, 650 Hanover Street\, Manchester\, NH\, 03104\, United States
CATEGORIES:Greek Events in Boston and the New England Area
ATTACH;FMTTYPE=image/jpeg:https://e498h76z5mp.exactdn.com/wp-content/uploads/2025/08/Bus-trip-HCHC-November-1-2025-flier-.jpg
END:VEVENT
BEGIN:VEVENT
DTSTART;VALUE=DATE:20251101
DTEND;VALUE=DATE:20251102
DTSTAMP:20260425T123325
CREATED:20200108T171639Z
LAST-MODIFIED:20250905T204445Z
UID:81186-1761955200-1762041599@www.greekboston.com
SUMMARY:Greek Comedy Night with Angelo Tsarouchas Lowell MA
DESCRIPTION:
URL:https://www.greekboston.com/event/comedy-night-angelo-tsarouchas/
LOCATION:Holy Trinity Lowell MA\, 62 Lewis Street\, Lowell\, MA\, 01854 \, United States
CATEGORIES:Greek Events in Boston and the New England Area
ATTACH;FMTTYPE=image/jpeg:https://e498h76z5mp.exactdn.com/wp-content/uploads/2020/01/COmedy-Night-2025-poster.jpg
END:VEVENT
BEGIN:VEVENT
DTSTART;VALUE=DATE:20251102
DTEND;VALUE=DATE:20251103
DTSTAMP:20260425T123325
CREATED:20250830T181111Z
LAST-MODIFIED:20250830T181126Z
UID:93126-1762041600-1762127999@www.greekboston.com
SUMMARY:The Eulogy Show in Brookline MA
DESCRIPTION:
URL:https://www.greekboston.com/event/eulogy-show-brookline-ma/
LOCATION:Maliotis Cultural Center\, 50 Goddard Avenue\, Brookline\, MA\, 02130\, United States
CATEGORIES:Greek Events in Boston and the New England Area
ATTACH;FMTTYPE=image/jpeg:https://e498h76z5mp.exactdn.com/wp-content/uploads/2025/08/Eulogy_Boston_EN.jpeg
END:VEVENT
BEGIN:VEVENT
DTSTART;VALUE=DATE:20251104
DTEND;VALUE=DATE:20251107
DTSTAMP:20260425T123325
CREATED:20250830T181712Z
LAST-MODIFIED:20250830T181712Z
UID:93134-1762214400-1762473599@www.greekboston.com
SUMMARY:Eastern and Oriental Orthodox Churches Event
DESCRIPTION:
URL:https://www.greekboston.com/event/eastern-oriental-orthodox-churches-brookline-ma/
LOCATION:Maliotis Cultural Center\, 50 Goddard Avenue\, Brookline\, MA\, 02130\, United States
CATEGORIES:Greek Events in Boston and the New England Area
ATTACH;FMTTYPE=image/jpeg:https://e498h76z5mp.exactdn.com/wp-content/uploads/2025/08/EASTERNORIENTALNOV25-1.jpeg
END:VEVENT
BEGIN:VEVENT
DTSTART;VALUE=DATE:20251105
DTEND;VALUE=DATE:20251106
DTSTAMP:20260425T123325
CREATED:20251031T132204Z
LAST-MODIFIED:20251031T132244Z
UID:93445-1762300800-1762387199@www.greekboston.com
SUMMARY:Online Harvard Event - Hebrew Texts and Their Greek Reflections
DESCRIPTION:
URL:https://www.greekboston.com/event/harvard-hebrew-texts-greek-reflections/
LOCATION:MA
CATEGORIES:Greek Events in Boston and the New England Area
ATTACH;FMTTYPE=image/jpeg:https://e498h76z5mp.exactdn.com/wp-content/uploads/2025/10/Screenshot-2025-10-31-092142.jpg
END:VEVENT
BEGIN:VEVENT
DTSTART;VALUE=DATE:20251105
DTEND;VALUE=DATE:20251108
DTSTAMP:20260425T123325
CREATED:20140530T170244Z
LAST-MODIFIED:20251031T132005Z
UID:39642-1762300800-1762559999@www.greekboston.com
SUMMARY:New London CT Greek Festival at Saint Sophia Church
DESCRIPTION:
URL:https://www.greekboston.com/event/new-london-ct-festival/
LOCATION:Greek Orthodox Saint Sophia Church in New London\, CT\, 200 Hempstead Street\, New London\, CT\, 06320\, United States
CATEGORIES:Greek Events in Boston and the New England Area,Greek Festivals of New England
ATTACH;FMTTYPE=image/jpeg:https://e498h76z5mp.exactdn.com/wp-content/uploads/2014/05/Screenshot-2025-10-31-091939.jpg
END:VEVENT
BEGIN:VEVENT
DTSTART;VALUE=DATE:20251106
DTEND;VALUE=DATE:20251107
DTSTAMP:20260425T123325
CREATED:20250914T130041Z
LAST-MODIFIED:20250914T130041Z
UID:93191-1762387200-1762473599@www.greekboston.com
SUMMARY:Learn the Ikarian Way: How to Embrace the Blue Zones Longevity Lifestyle
DESCRIPTION:
URL:https://www.greekboston.com/event/ikarian-way-embrace-blue-zones/
LOCATION:Maliotis Cultural Center\, 50 Goddard Avenue\, Brookline\, MA\, 02130\, United States
CATEGORIES:Greek Events in Boston and the New England Area
ATTACH;FMTTYPE=image/jpeg:https://e498h76z5mp.exactdn.com/wp-content/uploads/2025/09/Learn-the-Ikarian-Way-How-to-Embrace-the-Blue-Zones-Longevity-Lifestyle-.jpg
END:VEVENT
BEGIN:VEVENT
DTSTART;VALUE=DATE:20251107
DTEND;VALUE=DATE:20251108
DTSTAMP:20260425T123325
CREATED:20240202T204606Z
LAST-MODIFIED:20251010T164652Z
UID:91553-1762473600-1762559999@www.greekboston.com
SUMMARY:GOYA Dance at St Demetrios Greek Church Weston MA
DESCRIPTION:
URL:https://www.greekboston.com/event/goya-dance-weston-ma/
LOCATION:St. Demetrios Greek Orthodox Church Weston MA\, 57 Brown Street\, Weston\, MA\, 02493\, United States
CATEGORIES:Greek Events in Boston and the New England Area
ATTACH;FMTTYPE=image/jpeg:https://e498h76z5mp.exactdn.com/wp-content/uploads/2024/02/GOYA-Dance-2025-Flyer-Weston-Church.jpg
END:VEVENT
BEGIN:VEVENT
DTSTART;VALUE=DATE:20251107
DTEND;VALUE=DATE:20251108
DTSTAMP:20260425T123325
CREATED:20240830T173646Z
LAST-MODIFIED:20250903T121649Z
UID:92129-1762473600-1762559999@www.greekboston.com
SUMMARY:Dimitris Mpasis Greek Concert in Brookline MA
DESCRIPTION:
URL:https://www.greekboston.com/event/dimitris-mpasis/
LOCATION:Maliotis Cultural Center\, 50 Goddard Avenue\, Brookline\, MA\, 02130\, United States
CATEGORIES:Greek Events in Boston and the New England Area
ATTACH;FMTTYPE=image/jpeg:https://e498h76z5mp.exactdn.com/wp-content/uploads/2024/08/Untitled-design-1.jpg
END:VEVENT
BEGIN:VEVENT
DTSTART;VALUE=DATE:20251107
DTEND;VALUE=DATE:20251109
DTSTAMP:20260425T123325
CREATED:20140915T161825Z
LAST-MODIFIED:20251020T125517Z
UID:42629-1762473600-1762646399@www.greekboston.com
SUMMARY:Haverhill MA Greek Festival at Holy Apostles Church
DESCRIPTION:
URL:https://www.greekboston.com/event/festival-haverhill-ma/
LOCATION:Holy Apostles Saints Peter & Paul Greek Orthodox Church\, 154-156 Winter Street\, Haverhill\, MA\, 01830\, United States
CATEGORIES:Greek Events in Boston and the New England Area,Greek Festivals of New England
ATTACH;FMTTYPE=application/pdf:https://e498h76z5mp.exactdn.com/wp-content/uploads/2014/09/Greek-Festival-2025.pdf
END:VEVENT
BEGIN:VEVENT
DTSTART;VALUE=DATE:20251108
DTEND;VALUE=DATE:20251109
DTSTAMP:20260425T123325
CREATED:20250903T121049Z
LAST-MODIFIED:20251017T131843Z
UID:93150-1762560000-1762646399@www.greekboston.com
SUMMARY:Parea Pick-Up Basketball Game Lynn MA
DESCRIPTION:
URL:https://www.greekboston.com/event/parea-pick-up-basketball-lynn-ma/
LOCATION:Greek Orthodox St. George Church in Lynn MA\, 54 South Common Street\, Lynn\, 01902\, United States
CATEGORIES:Greek Events in Boston and the New England Area
ATTACH;FMTTYPE=image/jpeg:https://e498h76z5mp.exactdn.com/wp-content/uploads/2025/09/Parea-Pick-Up-10.jpg
END:VEVENT
BEGIN:VEVENT
DTSTART;VALUE=DATE:20251108
DTEND;VALUE=DATE:20251109
DTSTAMP:20260425T123325
CREATED:20170925T205508Z
LAST-MODIFIED:20250904T210427Z
UID:66469-1762560000-1762646399@www.greekboston.com
SUMMARY:GyroFest at Annunciation Greek Church Woburn MA
DESCRIPTION:
URL:https://www.greekboston.com/event/gyrofest-woburn-ma/
LOCATION:Annunciation of The Virgin Mary Greek Orthodox Church  – Woburn\, MA\, 70 Montvale Avenue \, Woburn\, MA\, 01801 \, United States
CATEGORIES:Greek Events in Boston and the New England Area,Greek Festivals of New England
ATTACH;FMTTYPE=image/jpeg:https://e498h76z5mp.exactdn.com/wp-content/uploads/2017/09/IMG_1532.jpg
END:VEVENT
BEGIN:VEVENT
DTSTART;VALUE=DATE:20251108
DTEND;VALUE=DATE:20251109
DTSTAMP:20260425T123325
CREATED:20170528T105952Z
LAST-MODIFIED:20251031T131659Z
UID:64124-1762560000-1762646399@www.greekboston.com
SUMMARY:Gyro Festival at Sts Constantine and Helen Greek Church Webster MA
DESCRIPTION:
URL:https://www.greekboston.com/event/gyro-fest-webster-ma/
LOCATION:Saints Constantine and Helen Greek Orthodox Church – Webster\, MA\, 37 Lake Parkway\, Webster\, MA\, 01570\, United States
CATEGORIES:Greek Events in Boston and the New England Area,Greek Festivals of New England
ATTACH;FMTTYPE=image/jpeg:https://e498h76z5mp.exactdn.com/wp-content/uploads/2017/05/image2.jpeg
END:VEVENT
BEGIN:VEVENT
DTSTART;VALUE=DATE:20251109
DTEND;VALUE=DATE:20251112
DTSTAMP:20260425T123325
CREATED:20141024T122845Z
LAST-MODIFIED:20251105T132722Z
UID:43838-1762646400-1762905599@www.greekboston.com
SUMMARY:Hellenic Nursing Home Annual Radio Fundraiser
DESCRIPTION:
URL:https://www.greekboston.com/event/hellenic-nursing-radio-fundraiser/
LOCATION:Hellenic Nursing & Rehabilitation Center\, 601 Sherman Street\, Canton\, 02021\, United States
CATEGORIES:Greek Events in Boston and the New England Area
ATTACH;FMTTYPE=image/jpeg:https://e498h76z5mp.exactdn.com/wp-content/uploads/2014/10/IMG_1855.jpg
END:VEVENT
BEGIN:VEVENT
DTSTART;VALUE=DATE:20251110
DTEND;VALUE=DATE:20251111
DTSTAMP:20260425T123325
CREATED:20250830T182134Z
LAST-MODIFIED:20250830T182134Z
UID:93140-1762732800-1762819199@www.greekboston.com
SUMMARY:WW1 Lemnos Story:  "A Worn Out Pair of Shoes"
DESCRIPTION:
URL:https://www.greekboston.com/event/ww1-lemnos-story-worn-out-pair-shoes/
LOCATION:Maliotis Cultural Center\, 50 Goddard Avenue\, Brookline\, MA\, 02130\, United States
CATEGORIES:Greek Events in Boston and the New England Area
ATTACH;FMTTYPE=image/jpeg:https://e498h76z5mp.exactdn.com/wp-content/uploads/2025/08/WW1-lemnos-story_Anna-Conomos.jpg
END:VEVENT
BEGIN:VEVENT
DTSTART;VALUE=DATE:20251113
DTEND;VALUE=DATE:20251114
DTSTAMP:20260425T123325
CREATED:20200226T210734Z
LAST-MODIFIED:20251110T132453Z
UID:82319-1762992000-1763078399@www.greekboston.com
SUMMARY:The Berklee Greek Ensemble Concert
DESCRIPTION:
URL:https://www.greekboston.com/event/berklee-ensemble-concert/
LOCATION:David Friend Recital Hall\, 921 Boylston Street\, Boston\, MA\, 02115\, United States
CATEGORIES:Greek Events in Boston and the New England Area
ATTACH;FMTTYPE=application/pdf:https://e498h76z5mp.exactdn.com/wp-content/uploads/2020/02/Adobe-Scan-Nov-10-2025-1.pdf
END:VEVENT
BEGIN:VEVENT
DTSTART;VALUE=DATE:20251114
DTEND;VALUE=DATE:20251115
DTSTAMP:20260425T123325
CREATED:20221114T225147Z
LAST-MODIFIED:20251110T133341Z
UID:89799-1763078400-1763164799@www.greekboston.com
SUMMARY:Thanksgiving Potluck at Taxiarchae Greek Church Watertown MA
DESCRIPTION:
URL:https://www.greekboston.com/event/thankful-family-potluck-watertown-ma/
LOCATION:Taxiarchae Greek Orthodox Church Watertown MA\, 25 Bigelow Ave\, Watertown\, MA\, 02472\, United States
CATEGORIES:Greek Events in Boston and the New England Area
ATTACH;FMTTYPE=image/jpeg:https://e498h76z5mp.exactdn.com/wp-content/uploads/2022/11/image2.jpeg
END:VEVENT
BEGIN:VEVENT
DTSTART;VALUE=DATE:20251114
DTEND;VALUE=DATE:20251116
DTSTAMP:20260425T123325
CREATED:20231018T193045Z
LAST-MODIFIED:20251016T125215Z
UID:91130-1763078400-1763251199@www.greekboston.com
SUMMARY:Taste of Greece Dartmouth\, MA
DESCRIPTION:
URL:https://www.greekboston.com/event/taste-greece-dartmouth-ma/
LOCATION:St. George Greek Orthodox Church – N. Dartmouth\, MA\, 186 Cross Road \, North Dartmouth\, MA\, 02747\, United States
CATEGORIES:Greek Events in Boston and the New England Area,Greek Festivals of New England
ATTACH;FMTTYPE=image/jpeg:https://e498h76z5mp.exactdn.com/wp-content/uploads/2023/10/561920531_1216104963880847_1789899178122689166_n.jpg
END:VEVENT
BEGIN:VEVENT
DTSTART;VALUE=DATE:20251114
DTEND;VALUE=DATE:20251117
DTSTAMP:20260425T123325
CREATED:20251002T220015Z
LAST-MODIFIED:20251002T220045Z
UID:93227-1763078400-1763337599@www.greekboston.com
SUMMARY:Greek Cuisine Fall Fest in Arlington MA
DESCRIPTION:
URL:https://www.greekboston.com/event/cuisine-fall-fest-arlington-ma/
LOCATION:St. Athanasius the Great Greek Orthodox Church – Arlington\, MA\, 4 Appleton St\, Arlington\, MA\, 02476\, United States
CATEGORIES:Greek Events in Boston and the New England Area,Greek Festivals of New England
ATTACH;FMTTYPE=image/jpeg:https://e498h76z5mp.exactdn.com/wp-content/uploads/2025/10/Screenshot-2025-10-02-at-5.59.20-PM.jpg
END:VEVENT
BEGIN:VEVENT
DTSTART;VALUE=DATE:20251114
DTEND;VALUE=DATE:20251115
DTSTAMP:20260425T123325
CREATED:20251110T134037Z
LAST-MODIFIED:20251110T134037Z
UID:93464-1763078400-1763164799@www.greekboston.com
SUMMARY:Greek Taverna at St. Nicholas Manchester\, NH
DESCRIPTION:
URL:https://www.greekboston.com/event/greek-taverna-at-st-nicholas-manchester-nh/
LOCATION:St. Nicholas Greek Orthodox Church Manchester NH\, 1160 Bridge Street\, Manchester\, NH\, 03104\, United States
CATEGORIES:Greek Events in Boston and the New England Area
ATTACH;FMTTYPE=image/jpeg:https://e498h76z5mp.exactdn.com/wp-content/uploads/2025/11/image5.jpeg
END:VEVENT
END:VCALENDAR