BEGIN:VCALENDAR
VERSION:2.0
PRODID:-// - ECPv6.15.20//NONSGML v1.0//EN
CALSCALE:GREGORIAN
METHOD:PUBLISH
X-ORIGINAL-URL:https://www.greekboston.com
X-WR-CALDESC:Events for 
REFRESH-INTERVAL;VALUE=DURATION:PT1H
X-Robots-Tag:noindex
X-PUBLISHED-TTL:PT1H
BEGIN:VTIMEZONE
TZID:America/New_York
BEGIN:DAYLIGHT
TZOFFSETFROM:-0500
TZOFFSETTO:-0400
TZNAME:EDT
DTSTART:20240310T070000
END:DAYLIGHT
BEGIN:STANDARD
TZOFFSETFROM:-0400
TZOFFSETTO:-0500
TZNAME:EST
DTSTART:20241103T060000
END:STANDARD
BEGIN:DAYLIGHT
TZOFFSETFROM:-0500
TZOFFSETTO:-0400
TZNAME:EDT
DTSTART:20250309T070000
END:DAYLIGHT
BEGIN:STANDARD
TZOFFSETFROM:-0400
TZOFFSETTO:-0500
TZNAME:EST
DTSTART:20251102T060000
END:STANDARD
BEGIN:DAYLIGHT
TZOFFSETFROM:-0500
TZOFFSETTO:-0400
TZNAME:EDT
DTSTART:20260308T070000
END:DAYLIGHT
BEGIN:STANDARD
TZOFFSETFROM:-0400
TZOFFSETTO:-0500
TZNAME:EST
DTSTART:20261101T060000
END:STANDARD
END:VTIMEZONE
BEGIN:VEVENT
DTSTART;VALUE=DATE:20251206
DTEND;VALUE=DATE:20251207
DTSTAMP:20260425T062743
CREATED:20251126T131402Z
LAST-MODIFIED:20251126T131402Z
UID:93668-1764979200-1765065599@www.greekboston.com
SUMMARY:Christmas Bazaar at St. George Church in Keene\, NH
DESCRIPTION:
URL:https://www.greekboston.com/event/christmas-bazaar-at-st-george-church-in-keene-nh/
LOCATION:St. George Greek Orthodox Church – Keene\, NH\, 70 West Street \, Keene\, NH\, 03431\, United States
CATEGORIES:Greek Events in Boston and the New England Area
END:VEVENT
BEGIN:VEVENT
DTSTART;VALUE=DATE:20251206
DTEND;VALUE=DATE:20251207
DTSTAMP:20260425T062743
CREATED:20151124T201131Z
LAST-MODIFIED:20251110T132936Z
UID:51914-1764979200-1765065599@www.greekboston.com
SUMMARY:St. Nicholas Fair at Annunciation Greek Church of Woburn MA
DESCRIPTION:
URL:https://www.greekboston.com/event/st-nicholas-fair-woburn-ma/
LOCATION:Annunciation of The Virgin Mary Greek Orthodox Church  – Woburn\, MA\, 70 Montvale Avenue \, Woburn\, MA\, 01801 \, United States
CATEGORIES:Greek Events in Boston and the New England Area
ATTACH;FMTTYPE=image/jpeg:https://e498h76z5mp.exactdn.com/wp-content/uploads/2015/11/image0.jpeg
END:VEVENT
BEGIN:VEVENT
DTSTART;VALUE=DATE:20251207
DTEND;VALUE=DATE:20251208
DTSTAMP:20260425T062743
CREATED:20251124T134955Z
LAST-MODIFIED:20251124T135615Z
UID:93534-1765065600-1765151999@www.greekboston.com
SUMMARY:Christmas Luncheon at Saint Vasilios
DESCRIPTION:
URL:https://www.greekboston.com/event/christmas-concert-saint-vasilios/
LOCATION:The Bell Tavern\, 2 Washington St\, Peabody\, MA\, 01961
CATEGORIES:Greek Events in Boston and the New England Area
ATTACH;FMTTYPE=image/jpeg:https://e498h76z5mp.exactdn.com/wp-content/uploads/2025/11/image0-3.jpeg
END:VEVENT
BEGIN:VEVENT
DTSTART;VALUE=DATE:20251207
DTEND;VALUE=DATE:20251208
DTSTAMP:20260425T062743
CREATED:20151109T162638Z
LAST-MODIFIED:20251203T123547Z
UID:51770-1765065600-1765151999@www.greekboston.com
SUMMARY:St. Nicholas Christmas Luncheon at Annunciation Greek Cathedral of New England
DESCRIPTION:
URL:https://www.greekboston.com/event/christmas-cathedral-new-england/
LOCATION:Annunciation Cathedral of New England\, 514 Parker Street\, Boston\, MA\, 02120\, United States
CATEGORIES:Greek Events in Boston and the New England Area
ATTACH;FMTTYPE=image/jpeg:https://e498h76z5mp.exactdn.com/wp-content/uploads/2015/11/2025-St.-Nicholas-Luncheon-Flyer.jpg
END:VEVENT
BEGIN:VEVENT
DTSTART;VALUE=DATE:20251211
DTEND;VALUE=DATE:20251212
DTSTAMP:20260425T062743
CREATED:20240202T001739Z
LAST-MODIFIED:20260203T133919Z
UID:91544-1765411200-1765497599@www.greekboston.com
SUMMARY:Greek and Serbian Dance Party Watertown MA
DESCRIPTION:
URL:https://www.greekboston.com/event/dance-party-watertown-ma/
LOCATION:Taxiarchae Greek Orthodox Church Watertown MA\, 25 Bigelow Ave\, Watertown\, MA\, 02472\, United States
CATEGORIES:Greek Events in Boston and the New England Area
END:VEVENT
BEGIN:VEVENT
DTSTART;VALUE=DATE:20251212
DTEND;VALUE=DATE:20251213
DTSTAMP:20260425T062743
CREATED:20241202T221601Z
LAST-MODIFIED:20251113T132930Z
UID:92469-1765497600-1765583999@www.greekboston.com
SUMMARY:Gingerbread House Decorating Event in Watertown MA
DESCRIPTION:
URL:https://www.greekboston.com/event/gingerbread-house-decorating-watertown-ma/
LOCATION:Taxiarchae Greek Orthodox Church Watertown MA\, 25 Bigelow Ave\, Watertown\, MA\, 02472\, United States
CATEGORIES:Greek Events in Boston and the New England Area
ATTACH;FMTTYPE=image/jpeg:https://e498h76z5mp.exactdn.com/wp-content/uploads/2024/12/image2-1.jpeg
END:VEVENT
BEGIN:VEVENT
DTSTART;VALUE=DATE:20251212
DTEND;VALUE=DATE:20251214
DTSTAMP:20260425T062743
CREATED:20250824T144743Z
LAST-MODIFIED:20250824T144743Z
UID:93101-1765497600-1765670399@www.greekboston.com
SUMMARY:Stavros Halkias Comedy Shows in Boston MA
DESCRIPTION:
URL:https://www.greekboston.com/event/stavros-halkias/
LOCATION:The Wilbur Theatre Boston MA\, 246 Tremont Street\, Boston\, MA\, 02116\, United States
CATEGORIES:Greek Events in Boston and the New England Area
ATTACH;FMTTYPE=image/jpeg:https://e498h76z5mp.exactdn.com/wp-content/uploads/2025/08/1756046460605.jpg
END:VEVENT
BEGIN:VEVENT
DTSTART;VALUE=DATE:20251212
DTEND;VALUE=DATE:20251213
DTSTAMP:20260425T062743
CREATED:20251201T132119Z
LAST-MODIFIED:20251201T132119Z
UID:93684-1765497600-1765583999@www.greekboston.com
SUMMARY:Holiday Pita Fundraiser
DESCRIPTION:
URL:https://www.greekboston.com/event/holiday-pita-fundraiser/
LOCATION:MA
CATEGORIES:Greek Events in Boston and the New England Area
ATTACH;FMTTYPE=image/jpeg:https://e498h76z5mp.exactdn.com/wp-content/uploads/2025/12/image1.jpeg
END:VEVENT
BEGIN:VEVENT
DTSTART;VALUE=DATE:20251212
DTEND;VALUE=DATE:20251213
DTSTAMP:20260425T062743
CREATED:20251211T122856Z
LAST-MODIFIED:20251211T123017Z
UID:93742-1765497600-1765583999@www.greekboston.com
SUMMARY:Where Are You Adam? Screening in Brookline\, MA
DESCRIPTION:
URL:https://www.greekboston.com/event/where-are-you-adam-screening-brookline-ma/
LOCATION:Maliotis Cultural Center\, 50 Goddard Avenue\, Brookline\, MA\, 02130\, United States
CATEGORIES:Greek Events in Boston and the New England Area
ATTACH;FMTTYPE=image/jpeg:https://e498h76z5mp.exactdn.com/wp-content/uploads/2025/12/Brookline_insta.jpg
END:VEVENT
BEGIN:VEVENT
DTSTART;VALUE=DATE:20251213
DTEND;VALUE=DATE:20251214
DTSTAMP:20260425T062743
CREATED:20251010T170603Z
LAST-MODIFIED:20251010T170628Z
UID:93250-1765584000-1765670399@www.greekboston.com
SUMMARY:Parish Night at St. Vasilios Greek Church Peabody MA
DESCRIPTION:
URL:https://www.greekboston.com/event/parish-night-vasilios/
LOCATION:Saint Vasilios Greek Orthodox Church\, 5 Paleologos Street\, Peabody\, MA\, 01960\, United States
CATEGORIES:Greek Events in Boston and the New England Area
ATTACH;FMTTYPE=image/jpeg:https://e498h76z5mp.exactdn.com/wp-content/uploads/2025/10/559077043_1206305604868822_9173734902619324574_n.jpg
END:VEVENT
BEGIN:VEVENT
DTSTART;VALUE=DATE:20251213
DTEND;VALUE=DATE:20251214
DTSTAMP:20260425T062743
CREATED:20251111T174941Z
LAST-MODIFIED:20251111T175005Z
UID:93471-1765584000-1765670399@www.greekboston.com
SUMMARY:Live Greek Music Night in Pelham\, NH
DESCRIPTION:
URL:https://www.greekboston.com/event/live-greek-music-night-pelham-nh/
LOCATION:125 Bridge St. Pelham\, NH\, 125 Bridge Street\, Pelham\, NH\, 03076\, United States
CATEGORIES:Greek Events in Boston and the New England Area
ATTACH;FMTTYPE=image/jpeg:https://e498h76z5mp.exactdn.com/wp-content/uploads/2025/11/Blue-and-Black-Modern-Live-Music-Festival-Flyer.jpg
END:VEVENT
BEGIN:VEVENT
DTSTART;VALUE=DATE:20251213
DTEND;VALUE=DATE:20251214
DTSTAMP:20260425T062743
CREATED:20251117T135513Z
LAST-MODIFIED:20251117T135643Z
UID:93494-1765584000-1765670399@www.greekboston.com
SUMMARY:Traditional Christmas Carols Concert in Peabody\, MA
DESCRIPTION:
URL:https://www.greekboston.com/event/traditional-christmas-carols-concert-in-peabody-ma/
LOCATION:St. Vasilios Greek Orthodox Church\, 5 Paleologos Street\, Peabody\, MA\, 01960\, United States
CATEGORIES:Greek Events in Boston and the New England Area
ATTACH;FMTTYPE=image/jpeg:https://e498h76z5mp.exactdn.com/wp-content/uploads/2025/11/Christmas-Concert-1213t.jpg
END:VEVENT
BEGIN:VEVENT
DTSTART;VALUE=DATE:20251213
DTEND;VALUE=DATE:20251214
DTSTAMP:20260425T062743
CREATED:20251124T135806Z
LAST-MODIFIED:20251124T135806Z
UID:93542-1765584000-1765670399@www.greekboston.com
SUMMARY:Christmas Concert at Saint Vasilios
DESCRIPTION:
URL:https://www.greekboston.com/event/christmas-concert-saint-vasilios-2/
LOCATION:Saint Vasilios Greek Orthodox Church\, 5 Paleologos Street\, Peabody\, MA\, 01960\, United States
CATEGORIES:Greek Events in Boston and the New England Area
ATTACH;FMTTYPE=image/jpeg:https://e498h76z5mp.exactdn.com/wp-content/uploads/2025/11/image4.jpeg
END:VEVENT
BEGIN:VEVENT
DTSTART;VALUE=DATE:20251213
DTEND;VALUE=DATE:20251214
DTSTAMP:20260425T062743
CREATED:20251124T140214Z
LAST-MODIFIED:20251124T140234Z
UID:93545-1765584000-1765670399@www.greekboston.com
SUMMARY:A Christmas Concert at Annunciation Church in Brockton
DESCRIPTION:
URL:https://www.greekboston.com/event/christmas-concert-annunciation-church-brockton/
LOCATION:Annunciation Greek Orthodox Church – Brockton\, MA\, 457 Oak Street\, Brockton\, MA\, 02401\, United States
CATEGORIES:Greek Events in Boston and the New England Area
ATTACH;FMTTYPE=image/jpeg:https://e498h76z5mp.exactdn.com/wp-content/uploads/2025/11/image5-1.jpeg
END:VEVENT
BEGIN:VEVENT
DTSTART;VALUE=DATE:20251213
DTEND;VALUE=DATE:20251214
DTSTAMP:20260425T062743
CREATED:20251201T133020Z
LAST-MODIFIED:20251201T133153Z
UID:93691-1765584000-1765670399@www.greekboston.com
SUMMARY:Christmas Family Fair at St. Athanasius in Arlington\, MA
DESCRIPTION:
URL:https://www.greekboston.com/event/christmas-family-fair-arlington-ma/
LOCATION:Saint Athanasius Greek Orthodox Church – Arlington\, MA\, 4 Appleton St\, Arlington\, MA\, 02474\, United States
ATTACH;FMTTYPE=image/jpeg:https://e498h76z5mp.exactdn.com/wp-content/uploads/2025/12/image7-1.jpeg
END:VEVENT
BEGIN:VEVENT
DTSTART;VALUE=DATE:20251213
DTEND;VALUE=DATE:20251214
DTSTAMP:20260425T062743
CREATED:20251203T124137Z
LAST-MODIFIED:20251203T124137Z
UID:93711-1765584000-1765670399@www.greekboston.com
SUMMARY:St. Nectarios Greek School Christmas Caroling
DESCRIPTION:
URL:https://www.greekboston.com/event/st-nectarios-greek-school-christmas-caroling/
LOCATION:St. Nectarios Greek Orthodox Church – Roslindale\, MA\, 39 Belgrade Ave\, Roslindale\, MA\,  02131\, United States
CATEGORIES:Greek Events in Boston and the New England Area
ATTACH;FMTTYPE=image/jpeg:https://e498h76z5mp.exactdn.com/wp-content/uploads/2025/12/IMG_2041.jpg
END:VEVENT
BEGIN:VEVENT
DTSTART;VALUE=DATE:20251213
DTEND;VALUE=DATE:20251214
DTSTAMP:20260425T062743
CREATED:20251204T124005Z
LAST-MODIFIED:20251204T124005Z
UID:93715-1765584000-1765670399@www.greekboston.com
SUMMARY:Christmas Cookie Crawl Event in East Longmeadow\, MA
DESCRIPTION:
URL:https://www.greekboston.com/event/christmas-cookie-crawl-event-east-longmeadow-ma/
LOCATION:Saint Luke Greek Orthodox Church – Longmeadow\, MA\, 400 Prospect Street\, Longmeadow\, MA\, United States
CATEGORIES:Greek Events in Boston and the New England Area
ATTACH;FMTTYPE=image/jpeg:https://e498h76z5mp.exactdn.com/wp-content/uploads/2025/12/IMG_2047.jpg
END:VEVENT
BEGIN:VEVENT
DTSTART;VALUE=DATE:20251213
DTEND;VALUE=DATE:20251214
DTSTAMP:20260425T062743
CREATED:20251205T131756Z
LAST-MODIFIED:20251205T131756Z
UID:93719-1765584000-1765670399@www.greekboston.com
SUMMARY:Children's Christmas Party by the Springfield Cretans Association
DESCRIPTION:
URL:https://www.greekboston.com/event/childrens-christmas-springfield-cretans-association/
LOCATION:Cretan Club Springfield MA\, 35 Carew Street\, Springfield\, MA\, 01104\, United States
CATEGORIES:Greek Events in Boston and the New England Area
ATTACH;FMTTYPE=image/jpeg:https://e498h76z5mp.exactdn.com/wp-content/uploads/2025/12/Screenshot-2025-12-05-081447.jpg
END:VEVENT
BEGIN:VEVENT
DTSTART;VALUE=DATE:20251214
DTEND;VALUE=DATE:20251215
DTSTAMP:20260425T062743
CREATED:20251121T162623Z
LAST-MODIFIED:20251121T173541Z
UID:93530-1765670400-1765756799@www.greekboston.com
SUMMARY:Christmas Concert at Transfiguration Greek Orthodox Church in Lowell\, MA
DESCRIPTION:
URL:https://www.greekboston.com/event/lowell-ma-christmas-concert/
LOCATION:Transfiguration Greek Orthodox Church – Lowell\, MA\, 25 Fr. John Sarantos Way\, Lowell\, 01854\, United States
CATEGORIES:Greek Events in Boston and the New England Area
ATTACH;FMTTYPE=image/jpeg:https://e498h76z5mp.exactdn.com/wp-content/uploads/2025/11/Screenshot-2025-11-21-112337.jpg
END:VEVENT
BEGIN:VEVENT
DTSTART;VALUE=DATE:20251214
DTEND;VALUE=DATE:20251215
DTSTAMP:20260425T062743
CREATED:20181128T143839Z
LAST-MODIFIED:20251117T134929Z
UID:74616-1765670400-1765756799@www.greekboston.com
SUMMARY:Christmas Concert at Taxiarchae Greek Church Watertown MA
DESCRIPTION:
URL:https://www.greekboston.com/event/christmas-concert-watertown-ma/
LOCATION:Taxiarchae Greek Orthodox Church Watertown MA\, 25 Bigelow Ave\, Watertown\, MA\, 02472\, United States
CATEGORIES:Greek Events in Boston and the New England Area
ATTACH;FMTTYPE=application/pdf:https://e498h76z5mp.exactdn.com/wp-content/uploads/2018/11/2025-Concert-Flier-for-both.pdf
END:VEVENT
BEGIN:VEVENT
DTSTART;VALUE=DATE:20251214
DTEND;VALUE=DATE:20251215
DTSTAMP:20260425T062743
CREATED:20191119T215631Z
LAST-MODIFIED:20251201T133104Z
UID:80282-1765670400-1765756799@www.greekboston.com
SUMMARY:Christmas Party by the Cretan Ladies Society Springfield MA
DESCRIPTION:
URL:https://www.greekboston.com/event/christmas-party-springfield-ma/
LOCATION:Cretan Club Springfield MA\, 35 Carew Street\, Springfield\, MA\, 01104\, United States
CATEGORIES:Greek Events in Boston and the New England Area
ATTACH;FMTTYPE=image/jpeg:https://e498h76z5mp.exactdn.com/wp-content/uploads/2019/11/image6.jpeg
END:VEVENT
BEGIN:VEVENT
DTSTART;VALUE=DATE:20251215
DTEND;VALUE=DATE:20251216
DTSTAMP:20260425T062743
CREATED:20251203T122944Z
LAST-MODIFIED:20251203T123015Z
UID:93706-1765756800-1765843199@www.greekboston.com
SUMMARY:Where Are You Adam? - Movie Screening in Clinton\, MA
DESCRIPTION:
URL:https://www.greekboston.com/event/where-are-you-adam-movie-clinton-ma/
LOCATION:The Icon Museum and Study Center\, 203 Union Street\, Clinton\, MA\, 01510\, United States
CATEGORIES:Greek Events in Boston and the New England Area
ATTACH;FMTTYPE=image/jpeg:https://e498h76z5mp.exactdn.com/wp-content/uploads/2025/12/where_are_you_adam_poster_new.jpg
END:VEVENT
BEGIN:VEVENT
DTSTART;VALUE=DATE:20251220
DTEND;VALUE=DATE:20251221
DTSTAMP:20260425T062743
CREATED:20251219T130026Z
LAST-MODIFIED:20251219T130026Z
UID:93762-1766188800-1766275199@www.greekboston.com
SUMMARY:JOY Christmas Retreat in Peabody\, MA
DESCRIPTION:
URL:https://www.greekboston.com/event/joy-christmas-retreat-in-peabody-ma/
LOCATION:Saint Vasilios Greek Orthodox Church\, 5 Paleologos Street\, Peabody\, MA\, 01960\, United States
CATEGORIES:Greek Events in Boston and the New England Area
ATTACH;FMTTYPE=image/jpeg:https://e498h76z5mp.exactdn.com/wp-content/uploads/2025/12/image0.jpeg
END:VEVENT
BEGIN:VEVENT
DTSTART;VALUE=DATE:20251220
DTEND;VALUE=DATE:20251221
DTSTAMP:20260425T062743
CREATED:20251219T130322Z
LAST-MODIFIED:20251219T130322Z
UID:93765-1766188800-1766275199@www.greekboston.com
SUMMARY:Christmas Tree Lighting at St. George Church in Dartmouth\, MA
DESCRIPTION:
URL:https://www.greekboston.com/event/christmas-tree-lighting-st-george-dartmouth-ma/
LOCATION:St. George Greek Orthodox Church – N. Dartmouth\, MA\, 186 Cross Road \, North Dartmouth\, MA\, 02747\, United States
CATEGORIES:Greek Events in Boston and the New England Area
ATTACH;FMTTYPE=image/jpeg:https://e498h76z5mp.exactdn.com/wp-content/uploads/2025/12/image1-1-1.jpeg
END:VEVENT
BEGIN:VEVENT
DTSTART;VALUE=DATE:20251221
DTEND;VALUE=DATE:20251222
DTSTAMP:20260425T062743
CREATED:20251208T122843Z
LAST-MODIFIED:20251208T122843Z
UID:93723-1766275200-1766361599@www.greekboston.com
SUMMARY:Nea Parea Christmas Brunch
DESCRIPTION:
URL:https://www.greekboston.com/event/nea-parea-christmas-brunch/
LOCATION:Trade\, 540 Atlantic Ave\, Boston\, MA\, 02210\, United States
CATEGORIES:Greek Events in Boston and the New England Area
ATTACH;FMTTYPE=image/jpeg:https://e498h76z5mp.exactdn.com/wp-content/uploads/2025/12/flyer.jpg
END:VEVENT
BEGIN:VEVENT
DTSTART;VALUE=DATE:20251221
DTEND;VALUE=DATE:20251222
DTSTAMP:20260425T062743
CREATED:20251216T143721Z
LAST-MODIFIED:20251216T143721Z
UID:93755-1766275200-1766361599@www.greekboston.com
SUMMARY:Gingerbread Cookie Decorating in Andover\, MA
DESCRIPTION:
URL:https://www.greekboston.com/event/gingerbread-cookie-decorating-andover-ma/
LOCATION:Sts Constantine and Helen Greek Orthodox Church – Andover\, MA\, 71 Chandler Road\, Andover\, MA\, 01810\, United States
CATEGORIES:Greek Events in Boston and the New England Area
ATTACH;FMTTYPE=image/jpeg:https://e498h76z5mp.exactdn.com/wp-content/uploads/2025/12/IMG_2148.jpg
END:VEVENT
BEGIN:VEVENT
DTSTART;VALUE=DATE:20251221
DTEND;VALUE=DATE:20251222
DTSTAMP:20260425T062743
CREATED:20141208T221922Z
LAST-MODIFIED:20251209T124346Z
UID:45170-1766275200-1766361599@www.greekboston.com
SUMMARY:Community Singer's 2025 Christmas Concert Spectacular in Manchester\, NH
DESCRIPTION:
URL:https://www.greekboston.com/event/christmas-concert-manchester-nh/
LOCATION:St. George Greek Orthodox Cathedral – Manchester\, NH\, 650 Hanover Street\, Manchester\, NH\, 03104\, United States
CATEGORIES:Greek Events in Boston and the New England Area
ATTACH;FMTTYPE=image/jpeg:https://e498h76z5mp.exactdn.com/wp-content/uploads/2014/12/image5-1.jpeg
END:VEVENT
BEGIN:VEVENT
DTSTART;VALUE=DATE:20251221
DTEND;VALUE=DATE:20251222
DTSTAMP:20260425T062743
CREATED:20171209T124543Z
LAST-MODIFIED:20251216T144053Z
UID:68152-1766275200-1766361599@www.greekboston.com
SUMMARY:Christmas Bake Sale at The Annunciation Greek Cathedral of New England
DESCRIPTION:
URL:https://www.greekboston.com/event/christmas-bake-sale-cathedral/
LOCATION:Annunciation Cathedral of New England\, 514 Parker Street\, Boston\, MA\, 02120\, United States
CATEGORIES:Greek Events in Boston and the New England Area
ATTACH;FMTTYPE=image/jpeg:https://e498h76z5mp.exactdn.com/wp-content/uploads/2017/12/IMG_2148.jpg
END:VEVENT
BEGIN:VEVENT
DTSTART;VALUE=DATE:20251221
DTEND;VALUE=DATE:20251222
DTSTAMP:20260425T062743
CREATED:20151120T164113Z
LAST-MODIFIED:20251203T124609Z
UID:51894-1766275200-1766361599@www.greekboston.com
SUMMARY:Christmas Pageant For The Annunciation Of The Virgin Mary Greek Church Woburn MA
DESCRIPTION:
URL:https://www.greekboston.com/event/christmas-pageant-woburn-ma/
LOCATION:Annunciation of The Virgin Mary Greek Orthodox Church  – Woburn\, MA\, 70 Montvale Avenue \, Woburn\, MA\, 01801 \, United States
CATEGORIES:Greek Events in Boston and the New England Area
ATTACH;FMTTYPE=image/jpeg:https://e498h76z5mp.exactdn.com/wp-content/uploads/2015/11/IMG_2042.jpg
END:VEVENT
BEGIN:VEVENT
DTSTART;VALUE=DATE:20251227
DTEND;VALUE=DATE:20251228
DTSTAMP:20260425T062743
CREATED:20251223T115002Z
LAST-MODIFIED:20251223T115109Z
UID:93768-1766793600-1766879999@www.greekboston.com
SUMMARY:GOYA Christmas Caroling at St. Vasilios in Peabody
DESCRIPTION:
URL:https://www.greekboston.com/event/goya-christmas-caroling-st-vasilios/
LOCATION:St. Vasilios Greek Orthodox Church\, 5 Paleologos Street\, Peabody\, MA\, 01960\, United States
CATEGORIES:Greek Events in Boston and the New England Area
ATTACH;FMTTYPE=image/jpeg:https://e498h76z5mp.exactdn.com/wp-content/uploads/2025/12/unnamed.jpg
END:VEVENT
END:VCALENDAR