BEGIN:VCALENDAR
VERSION:2.0
PRODID:-// - ECPv6.15.20//NONSGML v1.0//EN
CALSCALE:GREGORIAN
METHOD:PUBLISH
X-ORIGINAL-URL:https://www.greekboston.com
X-WR-CALDESC:Events for 
REFRESH-INTERVAL;VALUE=DURATION:PT1H
X-Robots-Tag:noindex
X-PUBLISHED-TTL:PT1H
BEGIN:VTIMEZONE
TZID:America/New_York
BEGIN:DAYLIGHT
TZOFFSETFROM:-0500
TZOFFSETTO:-0400
TZNAME:EDT
DTSTART:20240310T070000
END:DAYLIGHT
BEGIN:STANDARD
TZOFFSETFROM:-0400
TZOFFSETTO:-0500
TZNAME:EST
DTSTART:20241103T060000
END:STANDARD
BEGIN:DAYLIGHT
TZOFFSETFROM:-0500
TZOFFSETTO:-0400
TZNAME:EDT
DTSTART:20250309T070000
END:DAYLIGHT
BEGIN:STANDARD
TZOFFSETFROM:-0400
TZOFFSETTO:-0500
TZNAME:EST
DTSTART:20251102T060000
END:STANDARD
BEGIN:DAYLIGHT
TZOFFSETFROM:-0500
TZOFFSETTO:-0400
TZNAME:EDT
DTSTART:20260308T070000
END:DAYLIGHT
BEGIN:STANDARD
TZOFFSETFROM:-0400
TZOFFSETTO:-0500
TZNAME:EST
DTSTART:20261101T060000
END:STANDARD
BEGIN:DAYLIGHT
TZOFFSETFROM:-0500
TZOFFSETTO:-0400
TZNAME:EDT
DTSTART:20270314T070000
END:DAYLIGHT
BEGIN:STANDARD
TZOFFSETFROM:-0400
TZOFFSETTO:-0500
TZNAME:EST
DTSTART:20271107T060000
END:STANDARD
END:VTIMEZONE
BEGIN:VEVENT
DTSTART;VALUE=DATE:20251221
DTEND;VALUE=DATE:20251222
DTSTAMP:20260425T083615
CREATED:20251216T143721Z
LAST-MODIFIED:20251216T143721Z
UID:93755-1766275200-1766361599@www.greekboston.com
SUMMARY:Gingerbread Cookie Decorating in Andover\, MA
DESCRIPTION:
URL:https://www.greekboston.com/event/gingerbread-cookie-decorating-andover-ma/
LOCATION:Sts Constantine and Helen Greek Orthodox Church – Andover\, MA\, 71 Chandler Road\, Andover\, MA\, 01810\, United States
CATEGORIES:Greek Events in Boston and the New England Area
ATTACH;FMTTYPE=image/jpeg:https://e498h76z5mp.exactdn.com/wp-content/uploads/2025/12/IMG_2148.jpg
END:VEVENT
BEGIN:VEVENT
DTSTART;VALUE=DATE:20251221
DTEND;VALUE=DATE:20251222
DTSTAMP:20260425T083615
CREATED:20141208T221922Z
LAST-MODIFIED:20251209T124346Z
UID:45170-1766275200-1766361599@www.greekboston.com
SUMMARY:Community Singer's 2025 Christmas Concert Spectacular in Manchester\, NH
DESCRIPTION:
URL:https://www.greekboston.com/event/christmas-concert-manchester-nh/
LOCATION:St. George Greek Orthodox Cathedral – Manchester\, NH\, 650 Hanover Street\, Manchester\, NH\, 03104\, United States
CATEGORIES:Greek Events in Boston and the New England Area
ATTACH;FMTTYPE=image/jpeg:https://e498h76z5mp.exactdn.com/wp-content/uploads/2014/12/image5-1.jpeg
END:VEVENT
BEGIN:VEVENT
DTSTART;VALUE=DATE:20251221
DTEND;VALUE=DATE:20251222
DTSTAMP:20260425T083615
CREATED:20171209T124543Z
LAST-MODIFIED:20251216T144053Z
UID:68152-1766275200-1766361599@www.greekboston.com
SUMMARY:Christmas Bake Sale at The Annunciation Greek Cathedral of New England
DESCRIPTION:
URL:https://www.greekboston.com/event/christmas-bake-sale-cathedral/
LOCATION:Annunciation Cathedral of New England\, 514 Parker Street\, Boston\, MA\, 02120\, United States
CATEGORIES:Greek Events in Boston and the New England Area
ATTACH;FMTTYPE=image/jpeg:https://e498h76z5mp.exactdn.com/wp-content/uploads/2017/12/IMG_2148.jpg
END:VEVENT
BEGIN:VEVENT
DTSTART;VALUE=DATE:20251221
DTEND;VALUE=DATE:20251222
DTSTAMP:20260425T083615
CREATED:20151120T164113Z
LAST-MODIFIED:20251203T124609Z
UID:51894-1766275200-1766361599@www.greekboston.com
SUMMARY:Christmas Pageant For The Annunciation Of The Virgin Mary Greek Church Woburn MA
DESCRIPTION:
URL:https://www.greekboston.com/event/christmas-pageant-woburn-ma/
LOCATION:Annunciation of The Virgin Mary Greek Orthodox Church  – Woburn\, MA\, 70 Montvale Avenue \, Woburn\, MA\, 01801 \, United States
CATEGORIES:Greek Events in Boston and the New England Area
ATTACH;FMTTYPE=image/jpeg:https://e498h76z5mp.exactdn.com/wp-content/uploads/2015/11/IMG_2042.jpg
END:VEVENT
BEGIN:VEVENT
DTSTART;VALUE=DATE:20251227
DTEND;VALUE=DATE:20251228
DTSTAMP:20260425T083615
CREATED:20251223T115002Z
LAST-MODIFIED:20251223T115109Z
UID:93768-1766793600-1766879999@www.greekboston.com
SUMMARY:GOYA Christmas Caroling at St. Vasilios in Peabody
DESCRIPTION:
URL:https://www.greekboston.com/event/goya-christmas-caroling-st-vasilios/
LOCATION:St. Vasilios Greek Orthodox Church\, 5 Paleologos Street\, Peabody\, MA\, 01960\, United States
CATEGORIES:Greek Events in Boston and the New England Area
ATTACH;FMTTYPE=image/jpeg:https://e498h76z5mp.exactdn.com/wp-content/uploads/2025/12/unnamed.jpg
END:VEVENT
BEGIN:VEVENT
DTSTART;VALUE=DATE:20251229
DTEND;VALUE=DATE:20251230
DTSTAMP:20260425T083615
CREATED:20251110T134454Z
LAST-MODIFIED:20251212T123342Z
UID:93468-1766966400-1767052799@www.greekboston.com
SUMMARY:Orthodoxy on Tap Event
DESCRIPTION:
URL:https://www.greekboston.com/event/orthodoxy-on-tap-event/
LOCATION:28 Main\, 28 Main Street\, Hudson\, MA
CATEGORIES:Greek Events in Boston and the New England Area
ATTACH;FMTTYPE=image/jpeg:https://e498h76z5mp.exactdn.com/wp-content/uploads/2025/11/IMG_2118.jpg
END:VEVENT
BEGIN:VEVENT
DTSTART;VALUE=DATE:20251231
DTEND;VALUE=DATE:20260101
DTSTAMP:20260425T083615
CREATED:20241210T004657Z
LAST-MODIFIED:20251208T122403Z
UID:92486-1767139200-1767225599@www.greekboston.com
SUMMARY:New Years Eve Party in Braintree MA
DESCRIPTION:
URL:https://www.greekboston.com/event/new-years-eve-party-braintree-ma/
LOCATION:St. Catherine Greek Orthodox Church\, 119 Common Street\, Braintree\, MA\, 02184\, United States
CATEGORIES:Greek Events in Boston and the New England Area
ATTACH;FMTTYPE=image/jpeg:https://e498h76z5mp.exactdn.com/wp-content/uploads/2024/12/New-Year-Party-Save-the-Date-Flyer-1.jpg
END:VEVENT
BEGIN:VEVENT
DTSTART;VALUE=DATE:20251231
DTEND;VALUE=DATE:20260101
DTSTAMP:20260425T083615
CREATED:20251117T141013Z
LAST-MODIFIED:20251126T130937Z
UID:93498-1767139200-1767225599@www.greekboston.com
SUMMARY:New Years Eve Celebration in Somerville\, MA
DESCRIPTION:
URL:https://www.greekboston.com/event/new-years-eve-celebration-somerville-ma/
LOCATION:Dormition of the Virgin Mary Greek Orthodox Church\, 29 Central Street\, Somerville\, MA\, 02143\, United States
CATEGORIES:Greek Events in Boston and the New England Area
ATTACH;FMTTYPE=image/jpeg:https://e498h76z5mp.exactdn.com/wp-content/uploads/2025/11/NYE-Celebration-2025.jpg
END:VEVENT
BEGIN:VEVENT
DTSTART;VALUE=DATE:20251231
DTEND;VALUE=DATE:20260101
DTSTAMP:20260425T083615
CREATED:20251126T132256Z
LAST-MODIFIED:20251202T123408Z
UID:93677-1767139200-1767225599@www.greekboston.com
SUMMARY:New Years Eve Gala at St. Nektarios in Roslindale\, MA
DESCRIPTION:Tickets are $130 per person
URL:https://www.greekboston.com/event/new-years-eve-gala-at-st-nektarios-in-roslindale-ma/
LOCATION:St. Nectarios Greek Orthodox Church – Roslindale\, MA\, 39 Belgrade Ave\, Roslindale\, MA\,  02131\, United States
CATEGORIES:Greek Events in Boston and the New England Area
ATTACH;FMTTYPE=image/jpeg:https://e498h76z5mp.exactdn.com/wp-content/uploads/2025/11/image3-1.jpeg
END:VEVENT
BEGIN:VEVENT
DTSTART;VALUE=DATE:20260109
DTEND;VALUE=DATE:20260110
DTSTAMP:20260425T083615
CREATED:20231201T140931Z
LAST-MODIFIED:20251215T123732Z
UID:91357-1767916800-1768003199@www.greekboston.com
SUMMARY:JOY Event at Taxiarchae Greek Church Watertown MA
DESCRIPTION:
URL:https://www.greekboston.com/event/joy-event-watertown-ma/
LOCATION:Taxiarchae Greek Orthodox Church Watertown MA\, 25 Bigelow Ave\, Watertown\, MA\, 02472\, United States
CATEGORIES:Greek Events in Boston and the New England Area
ATTACH;FMTTYPE=image/jpeg:https://e498h76z5mp.exactdn.com/wp-content/uploads/2023/12/Screenshot-2025-12-15-073455.jpg
END:VEVENT
BEGIN:VEVENT
DTSTART;VALUE=DATE:20260111
DTEND;VALUE=DATE:20260112
DTSTAMP:20260425T083615
CREATED:20160109T194651Z
LAST-MODIFIED:20260102T160616Z
UID:52368-1768089600-1768175999@www.greekboston.com
SUMMARY:Vasilopita Luncheon at St. Spyridon Greek Cathedral Worcester MA
DESCRIPTION:
URL:https://www.greekboston.com/event/vasilopita-luncheon-worcester-ma/
LOCATION:St. Spyridon Greek Orthodox Cathedral – Worcester\, 102 Russell Street\, Worcester\, MA\, 01609\, United States
CATEGORIES:Greek Events in Boston and the New England Area
ATTACH;FMTTYPE=image/jpeg:https://e498h76z5mp.exactdn.com/wp-content/uploads/2016/01/Screenshot-2026-01-02-110339.jpg
END:VEVENT
BEGIN:VEVENT
DTSTART;VALUE=DATE:20260117
DTEND;VALUE=DATE:20260118
DTSTAMP:20260425T083615
CREATED:20170915T202039Z
LAST-MODIFIED:20260112T172634Z
UID:66312-1768608000-1768694399@www.greekboston.com
SUMMARY:Trivia Night at Saint Nicholas Greek Church in Lexington\, MA
DESCRIPTION:
URL:https://www.greekboston.com/event/trivia-night-lexington-ma/
LOCATION:Saint Nicholas Greek Orthodox Church\, 17 Meriam Street\, Lexington\, MA\, United States
CATEGORIES:Greek Events in Boston and the New England Area
ATTACH;FMTTYPE=image/jpeg:https://e498h76z5mp.exactdn.com/wp-content/uploads/2017/09/image_2026-01-12_122614996.jpg
END:VEVENT
BEGIN:VEVENT
DTSTART;VALUE=DATE:20260117
DTEND;VALUE=DATE:20260118
DTSTAMP:20260425T083615
CREATED:20171208T122055Z
LAST-MODIFIED:20251203T123755Z
UID:68117-1768608000-1768694399@www.greekboston.com
SUMMARY:Vasilopita Dance at Annunciation Greek Church of Woburn MA
DESCRIPTION:
URL:https://www.greekboston.com/event/vasilopita-dance-woburn-ma/
LOCATION:Annunciation of The Virgin Mary Greek Orthodox Church  – Woburn\, MA\, 70 Montvale Avenue \, Woburn\, MA\, 01801 \, United States
CATEGORIES:Greek Events in Boston and the New England Area
ATTACH;FMTTYPE=image/jpeg:https://e498h76z5mp.exactdn.com/wp-content/uploads/2017/12/IMG_2039.jpg
END:VEVENT
BEGIN:VEVENT
DTSTART;VALUE=DATE:20260118
DTEND;VALUE=DATE:20260119
DTSTAMP:20260425T083615
CREATED:20230111T223549Z
LAST-MODIFIED:20260105T142504Z
UID:90063-1768694400-1768780799@www.greekboston.com
SUMMARY:Vasilopita Potluck Dinner for the Cretans Association of Springfield MA
DESCRIPTION:
URL:https://www.greekboston.com/event/vasilopita-potluck-dinner-springfield-ma/
LOCATION:Cretans Association of Springfield MA\, 35 Carew Street\, Springfield\, MA\, 01104\, United States
CATEGORIES:Greek Events in Boston and the New England Area
ATTACH;FMTTYPE=image/jpeg:https://e498h76z5mp.exactdn.com/wp-content/uploads/2023/01/image1-2.jpeg
END:VEVENT
BEGIN:VEVENT
DTSTART;VALUE=DATE:20260124
DTEND;VALUE=DATE:20260125
DTSTAMP:20260425T083615
CREATED:20260116T124503Z
LAST-MODIFIED:20260116T124503Z
UID:93802-1769212800-1769299199@www.greekboston.com
SUMMARY:Artoklasia Bread Making at St Vasilios Peabody\, MA
DESCRIPTION:
URL:https://www.greekboston.com/event/artoklasia-bread-st-vasilios/
LOCATION:Saint Vasilios Greek Orthodox Church\, 5 Paleologos Street\, Peabody\, MA\, 01960\, United States
ATTACH;FMTTYPE=image/jpeg:https://e498h76z5mp.exactdn.com/wp-content/uploads/2026/01/image_2026-01-16_074450788.jpg
END:VEVENT
BEGIN:VEVENT
DTSTART;VALUE=DATE:20260124
DTEND;VALUE=DATE:20260125
DTSTAMP:20260425T083615
CREATED:20150102T191807Z
LAST-MODIFIED:20260105T142245Z
UID:45485-1769212800-1769299199@www.greekboston.com
SUMMARY:GOYA Black Light Dance at St. Athanasius Greek Church in Arlington MA
DESCRIPTION:
URL:https://www.greekboston.com/event/goya-black-light-dance-arlington/
LOCATION:St. Athanasius the Great Greek Orthodox Church – Arlington\, MA\, 4 Appleton St\, Arlington\, MA\, 02476\, United States
CATEGORIES:Greek Events in Boston and the New England Area
ATTACH;FMTTYPE=image/jpeg:https://e498h76z5mp.exactdn.com/wp-content/uploads/2015/01/image0-1.jpeg
END:VEVENT
BEGIN:VEVENT
DTSTART;VALUE=DATE:20260131
DTEND;VALUE=DATE:20260201
DTSTAMP:20260425T083615
CREATED:20221228T204147Z
LAST-MODIFIED:20260112T132129Z
UID:89999-1769817600-1769903999@www.greekboston.com
SUMMARY:Newport Winter Glendi Greek Dance
DESCRIPTION:
URL:https://www.greekboston.com/event/newport-winter-glendi-dance/
CATEGORIES:Greek Events in Boston and the New England Area
ATTACH;FMTTYPE=image/jpeg:https://e498h76z5mp.exactdn.com/wp-content/uploads/2022/12/image0.jpeg
END:VEVENT
BEGIN:VEVENT
DTSTART;VALUE=DATE:20260131
DTEND;VALUE=DATE:20260201
DTSTAMP:20260425T083615
CREATED:20240102T231631Z
LAST-MODIFIED:20260116T124003Z
UID:91441-1769817600-1769903999@www.greekboston.com
SUMMARY:Industry Night at St. Nectarios Greek Church Roslindale MA
DESCRIPTION:Metropolis of Boston Dance Group Presents Industry Night!\nThat’s right- it’s Back!\n-DJ Kosta B\n-Musicians from Crete! Γιάννης Κακλής & Ανδρέας Λιλικάκης\n-Cash Bar\n-Appetizers for Purchase\n-Pre-Sale Tickets just $20! Table Sales available!\nSaint Nectarios Church Hall\n39 Belgrade Avenue\nRoslindale
URL:https://www.greekboston.com/event/industry-night-roslindale/
LOCATION:St. Nectarios Greek Orthodox Church – Roslindale\, MA\, 39 Belgrade Ave\, Roslindale\, MA\,  02131\, United States
CATEGORIES:Greek Events in Boston and the New England Area
ATTACH;FMTTYPE=image/jpeg:https://e498h76z5mp.exactdn.com/wp-content/uploads/2024/01/image_2026-01-16_073946594.jpg
END:VEVENT
BEGIN:VEVENT
DTSTART;VALUE=DATE:20260131
DTEND;VALUE=DATE:20260201
DTSTAMP:20260425T083615
CREATED:20251210T124015Z
LAST-MODIFIED:20251210T124015Z
UID:93735-1769817600-1769903999@www.greekboston.com
SUMMARY:Winter Dance by St. Val's Men's Club
DESCRIPTION:
URL:https://www.greekboston.com/event/winter-dance-st-vals-mens-club/
LOCATION:St. Vasilios Greek Orthodox Church\, 5 Paleologos Street\, Peabody\, MA\, 01960\, United States
CATEGORIES:Greek Events in Boston and the New England Area
ATTACH;FMTTYPE=image/jpeg:https://e498h76z5mp.exactdn.com/wp-content/uploads/2025/12/IMG_2117.jpg
END:VEVENT
BEGIN:VEVENT
DTSTART;VALUE=DATE:20260131
DTEND;VALUE=DATE:20260201
DTSTAMP:20260425T083615
CREATED:20160502T125714Z
LAST-MODIFIED:20251113T131537Z
UID:55807-1769817600-1769903999@www.greekboston.com
SUMMARY:REVMA Live Greek Music in Somerville MA
DESCRIPTION:
URL:https://www.greekboston.com/event/revma-somerville-ma/
LOCATION:The Burren Somerville MA\, 247 Elm Street\, Somerville\, MA\, 02144\, United States
CATEGORIES:Greek Events in Boston and the New England Area
ATTACH;FMTTYPE=application/pdf:https://e498h76z5mp.exactdn.com/wp-content/uploads/2016/05/REVMA-_-Gogofski-_-The-Burren-_-Jan-31-2026-1.pdf
END:VEVENT
BEGIN:VEVENT
DTSTART;VALUE=DATE:20260202
DTEND;VALUE=DATE:20260203
DTSTAMP:20260425T083615
CREATED:20260128T133429Z
LAST-MODIFIED:20260128T133429Z
UID:93886-1769990400-1770076799@www.greekboston.com
SUMMARY:Vasilopita Cutting - Maliotis Cultural Center\, Brookline MA
DESCRIPTION:
URL:https://www.greekboston.com/event/vasilopita-cutting-maliotis-cultural-center/
LOCATION:Maliotis Cultural Center\, 50 Goddard Avenue\, Brookline\, MA\, 02130\, United States
CATEGORIES:Greek Events in Boston and the New England Area
ATTACH;FMTTYPE=image/jpeg:https://e498h76z5mp.exactdn.com/wp-content/uploads/2026/01/Screenshot-2026-01-28-083119.jpg
END:VEVENT
BEGIN:VEVENT
DTSTART;VALUE=DATE:20260206
DTEND;VALUE=DATE:20260207
DTSTAMP:20260425T083615
CREATED:20251217T133729Z
LAST-MODIFIED:20251217T133729Z
UID:93759-1770336000-1770422399@www.greekboston.com
SUMMARY:Xenia Vera Live Greek Concert in Roslindale\, MA
DESCRIPTION:
URL:https://www.greekboston.com/event/xenia-vera-greek-concert-roslindale-ma/
LOCATION:Hellenic Soccer Club in Roslindale MA\, 47 Poplar Street\, Roslindale\, MA\, 02131\, United States
CATEGORIES:Greek Events in Boston and the New England Area
ATTACH;FMTTYPE=image/jpeg:https://e498h76z5mp.exactdn.com/wp-content/uploads/2025/12/image2-1.jpeg
END:VEVENT
BEGIN:VEVENT
DTSTART;VALUE=DATE:20260207
DTEND;VALUE=DATE:20260208
DTSTAMP:20260425T083615
CREATED:20190109T152759Z
LAST-MODIFIED:20260202T122545Z
UID:75278-1770422400-1770508799@www.greekboston.com
SUMMARY:Mardi Gras Dinner Dance at Annunciation Greek Church of Woburn MA
DESCRIPTION:
URL:https://www.greekboston.com/event/mardi-gras-dance-woburn-ma/
LOCATION:Annunciation of The Virgin Mary Greek Orthodox Church  – Woburn\, MA\, 70 Montvale Avenue \, Woburn\, MA\, 01801 \, United States
CATEGORIES:Greek Events in Boston and the New England Area
ATTACH;FMTTYPE=image/jpeg:https://e498h76z5mp.exactdn.com/wp-content/uploads/2019/01/IMG_5803.jpg
END:VEVENT
BEGIN:VEVENT
DTSTART;VALUE=DATE:20260208
DTEND;VALUE=DATE:20260209
DTSTAMP:20260425T083615
CREATED:20200120T215423Z
LAST-MODIFIED:20260128T133808Z
UID:81502-1770508800-1770595199@www.greekboston.com
SUMMARY:Super Bowl Party for the Cretans Association of Springfield MA‎
DESCRIPTION:
URL:https://www.greekboston.com/event/super-bowl-springfield-ma/
LOCATION:Cretans Association of Springfield MA\, 35 Carew Street\, Springfield\, MA\, 01104\, United States
CATEGORIES:Greek Events in Boston and the New England Area
ATTACH;FMTTYPE=image/jpeg:https://e498h76z5mp.exactdn.com/wp-content/uploads/2020/01/Screenshot-2026-01-28-083445.jpg
END:VEVENT
BEGIN:VEVENT
DTSTART;VALUE=DATE:20260209
DTEND;VALUE=DATE:20260210
DTSTAMP:20260425T083615
CREATED:20260128T135432Z
LAST-MODIFIED:20260128T135432Z
UID:93890-1770595200-1770681599@www.greekboston.com
SUMMARY:Education and the Church Fathers in Brookline\, MA
DESCRIPTION:
URL:https://www.greekboston.com/event/education-and-the-church-fathers-brookline-ma/
LOCATION:Maliotis Cultural Center\, 50 Goddard Avenue\, Brookline\, MA\, 02130\, United States
CATEGORIES:Greek Events in Boston and the New England Area
ATTACH;FMTTYPE=image/jpeg:https://e498h76z5mp.exactdn.com/wp-content/uploads/2026/01/Screenshot-2026-01-28-083840.jpg
END:VEVENT
BEGIN:VEVENT
DTSTART;VALUE=DATE:20260210
DTEND;VALUE=DATE:20260211
DTSTAMP:20260425T083615
CREATED:20260206T133955Z
LAST-MODIFIED:20260206T134012Z
UID:94066-1770681600-1770767999@www.greekboston.com
SUMMARY:Knitting Group at St. Vasilios in Peabody\, MA
DESCRIPTION:
URL:https://www.greekboston.com/event/knitting-group-st-vasilios-peabody-ma/
LOCATION:St. Vasilios Greek Orthodox Church\, 5 Paleologos Street\, Peabody\, MA\, 01960\, United States
CATEGORIES:Greek Events in Boston and the New England Area
ATTACH;FMTTYPE=image/jpeg:https://e498h76z5mp.exactdn.com/wp-content/uploads/2026/02/Screenshot-2026-02-06-083158.jpg
END:VEVENT
BEGIN:VEVENT
DTSTART;VALUE=DATE:20260211
DTEND;VALUE=DATE:20260212
DTSTAMP:20260425T083615
CREATED:20211105T220144Z
LAST-MODIFIED:20260202T134440Z
UID:87703-1770768000-1770854399@www.greekboston.com
SUMMARY:Hellenic Bar Association of New England Event at the Maliotis Cultural Center Brookline MA
DESCRIPTION:
URL:https://www.greekboston.com/event/hellenic-bar-association-new-england/
LOCATION:Maliotis Cultural Center\, 50 Goddard Avenue\, Brookline\, MA\, 02130\, United States
CATEGORIES:Greek Events in Boston and the New England Area
ATTACH;FMTTYPE=image/jpeg:https://e498h76z5mp.exactdn.com/wp-content/uploads/2021/11/image_2026-02-02_084414836.jpg
END:VEVENT
BEGIN:VEVENT
DTSTART;VALUE=DATE:20260212
DTEND;VALUE=DATE:20260213
DTSTAMP:20260425T083615
CREATED:20260121T125004Z
LAST-MODIFIED:20260121T130528Z
UID:93835-1770854400-1770940799@www.greekboston.com
SUMMARY:Tsikopempti Cocktail Fundraiser in Stoughton\, MA
DESCRIPTION:
URL:https://www.greekboston.com/event/tsikopempti-cocktail-fundraiser-stoughton-ma/
LOCATION:Amelia’s Stoughton\, 217 Washington Street\, Stoughton\, MA\, 02072
CATEGORIES:Greek Events in Boston and the New England Area
ATTACH;FMTTYPE=image/jpeg:https://e498h76z5mp.exactdn.com/wp-content/uploads/2026/01/image_2026-01-21_074850305.jpg
END:VEVENT
BEGIN:VEVENT
DTSTART;VALUE=DATE:20260213
DTEND;VALUE=DATE:20260214
DTSTAMP:20260425T083615
CREATED:20260219T131547Z
LAST-MODIFIED:20260305T132810Z
UID:94346-1770940800-1771027199@www.greekboston.com
SUMMARY:How to Pray with Icons in Manchester\, NH
DESCRIPTION:
URL:https://www.greekboston.com/event/pray-with-icons-manchester-nh/
LOCATION:St. George Greek Orthodox Cathedral – Manchester\, NH\, 650 Hanover Street\, Manchester\, NH\, 03104\, United States
CATEGORIES:Greek Events in Boston and the New England Area
ATTACH;FMTTYPE=image/jpeg:https://e498h76z5mp.exactdn.com/wp-content/uploads/2026/02/Gosey-March-8-flier.jpg
END:VEVENT
BEGIN:VEVENT
DTSTART;VALUE=DATE:20260214
DTEND;VALUE=DATE:20260215
DTSTAMP:20260425T083615
CREATED:20260119T171639Z
LAST-MODIFIED:20260119T171639Z
UID:93832-1771027200-1771113599@www.greekboston.com
SUMMARY:Queen of Hearts Dance\, Brockton MA
DESCRIPTION:
URL:https://www.greekboston.com/event/dance-brockton-ma/
LOCATION:Annunciation Greek Orthodox Church – Brockton\, MA\, 457 Oak Street\, Brockton\, MA\, 02401\, United States
CATEGORIES:Greek Events in Boston and the New England Area
ATTACH;FMTTYPE=image/jpeg:https://e498h76z5mp.exactdn.com/wp-content/uploads/2026/01/IMG_0979.jpeg
END:VEVENT
END:VCALENDAR