BEGIN:VCALENDAR
VERSION:2.0
PRODID:-// - ECPv6.15.20//NONSGML v1.0//EN
CALSCALE:GREGORIAN
METHOD:PUBLISH
X-ORIGINAL-URL:https://www.greekboston.com
X-WR-CALDESC:Events for 
REFRESH-INTERVAL;VALUE=DURATION:PT1H
X-Robots-Tag:noindex
X-PUBLISHED-TTL:PT1H
BEGIN:VTIMEZONE
TZID:America/New_York
BEGIN:DAYLIGHT
TZOFFSETFROM:-0500
TZOFFSETTO:-0400
TZNAME:EDT
DTSTART:20130310T070000
END:DAYLIGHT
BEGIN:STANDARD
TZOFFSETFROM:-0400
TZOFFSETTO:-0500
TZNAME:EST
DTSTART:20131103T060000
END:STANDARD
BEGIN:DAYLIGHT
TZOFFSETFROM:-0500
TZOFFSETTO:-0400
TZNAME:EDT
DTSTART:20140309T070000
END:DAYLIGHT
BEGIN:STANDARD
TZOFFSETFROM:-0400
TZOFFSETTO:-0500
TZNAME:EST
DTSTART:20141102T060000
END:STANDARD
BEGIN:DAYLIGHT
TZOFFSETFROM:-0500
TZOFFSETTO:-0400
TZNAME:EDT
DTSTART:20150308T070000
END:DAYLIGHT
BEGIN:STANDARD
TZOFFSETFROM:-0400
TZOFFSETTO:-0500
TZNAME:EST
DTSTART:20151101T060000
END:STANDARD
END:VTIMEZONE
BEGIN:VEVENT
DTSTART;TZID=America/New_York:20141109T130000
DTEND;TZID=America/New_York:20141109T150000
DTSTAMP:20260423T031519
CREATED:20141106T172622Z
LAST-MODIFIED:20141106T172622Z
UID:44481-1415538000-1415545200@www.greekboston.com
SUMMARY:Bake Sale by the St. Spyridon Greek Orthodox Church Philoptochos
DESCRIPTION:
URL:https://www.greekboston.com/event/bake-sale-spyridon-philoptochos/
LOCATION:St. Spyridon Greek Orthodox Cathedral – Worcester\, 102 Russell Street\, Worcester\, MA\, 01609\, United States
CATEGORIES:Greek Events in Boston and the New England Area
ATTACH;FMTTYPE=image/jpeg:https://e498h76z5mp.exactdn.com/wp-content/uploads/2014/11/1404430_325174654335287_5469434494110247346_o.jpg
END:VEVENT
BEGIN:VEVENT
DTSTART;TZID=America/New_York:20141109T130000
DTEND;TZID=America/New_York:20141109T170000
DTSTAMP:20260423T031519
CREATED:20141104T114729Z
LAST-MODIFIED:20141104T114729Z
UID:44141-1415538000-1415552400@www.greekboston.com
SUMMARY:Goya Skyzone Event for Woburn Greek Church
DESCRIPTION:
URL:https://www.greekboston.com/event/goya-skyzone/
LOCATION:Annunciation of The Virgin Mary Greek Orthodox Church  – Woburn\, MA\, 70 Montvale Avenue \, Woburn\, MA\, 01801 \, United States
CATEGORIES:Greek Events in Boston and the New England Area
ATTACH;FMTTYPE=image/jpeg:https://e498h76z5mp.exactdn.com/wp-content/uploads/2014/11/facebook_1415101023104.jpg
END:VEVENT
BEGIN:VEVENT
DTSTART;TZID=America/New_York:20141110T193000
DTEND;TZID=America/New_York:20141110T203000
DTSTAMP:20260423T031519
CREATED:20140908T200028Z
LAST-MODIFIED:20141104T191718Z
UID:42495-1415647800-1415651400@www.greekboston.com
SUMMARY:HarvardX for Allston: HereosX Allston Dialogue Sessions
DESCRIPTION:HarvardX for Allston: HereosX Allston Dialogue Sessions\nWebsite: http://edportal.harvard.edu/harvardx-allston-heroesx\nContact: Harvard Allston Education Portal\, 175 North Harvard St.\, Allston\, MA 02134 Phone: 617-496-5022 Email: allston_edportal@harvard.edu\n• Monday\, Nov. 10 from 7:30-8:30 p.m.- Hours 16-21 Tragedy ** With Professor Gregory Nagy\n• Thursday\, Dec. 4 from 7:15-8:15 p.m.- Hours 22-24 Plato and Beyond\nThe Harvard Allston Education Portal will host in-person “Dialogue Sessions\,” or discussion groups\, led by a Harvard teaching assistant for The Ancient Greek Hero in 24 Hours\, or HeroesX\, a free online educational project directed by Harvard Professor Gregory Nagy that introduces participants to the literature and heroes of ancient Greece.\nSimilar to a book club\, the Allston dialogue sessions will be an opportunity for interested community members to come and participate with fellow local learners\, discuss the content\, and engage in community and conversation. Explore the unique meaning of “hero” in ancient Greece and how it enriches our understanding of what it means to be human today\, from the larger-than-life contributions of solitary figures to artistic memorials and public rituals\, including poetry\, visual art\, and dramatic reenactments.\nThe dialogue sessions are intended for all audiences\, from the casually interested\, to literary enthusiasts\, to Greek history buffs. No previous knowledge of Greek history\, literature\, or language is expected. Access materials online HERE. Enrollment is free and all reading materials are available for free online. New participants are welcome throughout the duration of the project.\nFor more information please visit:\nhttp://edportal.harvard.edu/harvardx-allston-heroesx
URL:https://www.greekboston.com/event/harvardx-allston-hereosx/
LOCATION:Harvard Allston Education Portal\, 175 North Harvard Street\, Allston\, MA\, 02134 \, United States
CATEGORIES:Greek Events in Boston and the New England Area
ATTACH;FMTTYPE=image/png:https://e498h76z5mp.exactdn.com/wp-content/uploads/2014/09/harvard-allston-logo.png
END:VEVENT
BEGIN:VEVENT
DTSTART;TZID=America/New_York:20141112T180000
DTEND;TZID=America/New_York:20141112T210000
DTSTAMP:20260423T031519
CREATED:20141026T113636Z
LAST-MODIFIED:20141026T113636Z
UID:43919-1415815200-1415826000@www.greekboston.com
SUMMARY:Greek Night by the Boston University Philhellenes
DESCRIPTION:
URL:https://www.greekboston.com/event/night-university-philhellenes/
LOCATION:George Sherman Union\, 775 Commonwealth Ave\, Boston\, MA\, 02215\, United States
CATEGORIES:Greek Events in Boston and the New England Area
ATTACH;FMTTYPE=image/jpeg:https://e498h76z5mp.exactdn.com/wp-content/uploads/2014/10/facebook_1414315347083.jpg
END:VEVENT
BEGIN:VEVENT
DTSTART;TZID=America/New_York:20141114T200000
DTEND;TZID=America/New_York:20141122T200000
DTSTAMP:20260423T031519
CREATED:20140827T183025Z
LAST-MODIFIED:20140827T183039Z
UID:42185-1415995200-1416686400@www.greekboston.com
SUMMARY:The Trojan Women Performance in Somerville MA
DESCRIPTION:Written by Euripides Translated by Edith Hamilton Presented by special arrangement with W. W. Norton & Company In 415 B.C.E.\, Athens had just begun the Sicilian Expedition\, which would become one of its greatest military disasters. Sickened by the senseless destruction\, Euripides was moved to write what remains one of the most powerful indictments of war the world has ever known: The Trojan Women. Set only two days after the Greeks infiltrated Troy with their wooden horse\, the play explores the true reason why men go to war and who their actions affect the most. Among the once noble women who now wait to be taken to Greece as slaves are Hecuba the aging queen\, Cassandra the mad prophetess\, Andromache who was once the wife of a hero\, and the dangerously beautiful Helen of Troy herself. Location: Unity Somerville\, 6 William Street\, Somerville. Please note that parking is by permit only on William St. General parking is available on College Ave. Please read signs carefully to avoid ticketing. Performance Schedule: Friday November 14\, 2014 8 pm Saturday November 15\, 2014 8 pm Sunday November 16\, 2014 8 pm Thursday November 20\, 2014 8 pm Friday November 21\, 2014 8 pm Saturday November 22\, 2014 4 pm (matinee)
URL:https://www.greekboston.com/event/trojan-women-somerville/
LOCATION:Unity Somerville\, 6 William Street\, Somerville\, MA\, 02148\, United States
CATEGORIES:Greek Events in Boston and the New England Area
ATTACH;FMTTYPE=image/jpeg:https://e498h76z5mp.exactdn.com/wp-content/uploads/2014/08/trojan_women_logo.jpg
END:VEVENT
BEGIN:VEVENT
DTSTART;TZID=America/New_York:20141115T110000
DTEND;TZID=America/New_York:20141115T110000
DTSTAMP:20260423T031519
CREATED:20140818T212205Z
LAST-MODIFIED:20140818T212309Z
UID:42002-1416049200-1416049200@www.greekboston.com
SUMMARY:Metropolis of Boston - Lights\, Fashion\, Philanthropy
DESCRIPTION:
URL:https://www.greekboston.com/event/lights-fashion-philanthropy/
LOCATION:Lombardo’s Randolph MA\, 6 Billings St\, Randolph\, MA\, 02368\, United States
CATEGORIES:Greek Events in Boston and the New England Area
ATTACH;FMTTYPE=image/png:https://e498h76z5mp.exactdn.com/wp-content/uploads/2014/08/Flyer_Lights_Fashion_Philan.png
END:VEVENT
BEGIN:VEVENT
DTSTART;TZID=America/New_York:20141115T180000
DTEND;TZID=America/New_York:20141115T230000
DTSTAMP:20260423T031519
CREATED:20140920T141259Z
LAST-MODIFIED:20140920T141259Z
UID:42775-1416074400-1416092400@www.greekboston.com
SUMMARY:A Tribute to Orestes Demetriades Event
DESCRIPTION:
URL:https://www.greekboston.com/event/orestes-demetriades/
LOCATION:Dormition of the Virgin Mary Greek Orthodox Church\, 29 Central Street\, Somerville\, MA\, 02143\, United States
CATEGORIES:Greek Events in Boston and the New England Area
ATTACH;FMTTYPE=image/jpeg:https://e498h76z5mp.exactdn.com/wp-content/uploads/2014/09/Orestis-D-Event.jpg
END:VEVENT
BEGIN:VEVENT
DTSTART;TZID=America/New_York:20141115T190000
DTEND;TZID=America/New_York:20141115T220000
DTSTAMP:20260423T031519
CREATED:20141016T182137Z
LAST-MODIFIED:20141016T182206Z
UID:43740-1416078000-1416088800@www.greekboston.com
SUMMARY:Sip and Shop Ladies Night Out at St. Catherine's Greek Church in Braintree MA
DESCRIPTION:Start shopping before the holiday rush!! Join the ladies from St. Catherine’s Greek Orthodox Church in Braintree MA for a Sip & Shop Night!!
URL:https://www.greekboston.com/event/ladies-night-catherines-braintree/
LOCATION:St. Catherine Greek Orthodox Church\, 119 Common Street\, Braintree\, MA\, 02184\, United States
CATEGORIES:Greek Events in Boston and the New England Area
ATTACH;FMTTYPE=image/jpeg:https://e498h76z5mp.exactdn.com/wp-content/uploads/2014/10/10636444_617035678406298_8098920232565757910_o.jpg
END:VEVENT
BEGIN:VEVENT
DTSTART;VALUE=DATE:20141116
DTEND;VALUE=DATE:20141117
DTSTAMP:20260423T031519
CREATED:20141013T190855Z
LAST-MODIFIED:20141103T222933Z
UID:43649-1416096000-1416182399@www.greekboston.com
SUMMARY:2nd Annual Philocenia House Benefit Coffee Hour
DESCRIPTION:
URL:https://www.greekboston.com/event/philocenia-house-coffee/
LOCATION:St. John the Baptist Hellenic Orthodox Church – Boston\, MA\, 15 Union Park Street\, Boston\, MA\, 02118\, United States
CATEGORIES:Greek Events in Boston and the New England Area
ATTACH;FMTTYPE=image/jpeg:https://e498h76z5mp.exactdn.com/wp-content/uploads/2014/10/stacks_image_117.jpg
END:VEVENT
BEGIN:VEVENT
DTSTART;TZID=America/New_York:20141121T180000
DTEND;TZID=America/New_York:20141121T200000
DTSTAMP:20260423T031519
CREATED:20141110T223243Z
LAST-MODIFIED:20141111T123923Z
UID:44568-1416592800-1416600000@www.greekboston.com
SUMMARY:Potluck Dinner at Saint Athanasius the Great Greek Orthodox Church in Arlington MA
DESCRIPTION:
URL:https://www.greekboston.com/event/potluck-arlington-ma/
LOCATION:St. Athanasius the Great Greek Orthodox Church – Arlington\, MA\, 4 Appleton St\, Arlington\, MA\, 02476\, United States
CATEGORIES:Greek Events in Boston and the New England Area
ATTACH;FMTTYPE=image/jpeg:https://e498h76z5mp.exactdn.com/wp-content/uploads/2014/11/joy_thankful_flyer.jpg
END:VEVENT
BEGIN:VEVENT
DTSTART;TZID=America/New_York:20141121T183000
DTEND;TZID=America/New_York:20141121T203000
DTSTAMP:20260423T031519
CREATED:20141103T221612Z
LAST-MODIFIED:20141103T221612Z
UID:44132-1416594600-1416601800@www.greekboston.com
SUMMARY:Transfiguration Greek Orthodox Church Family Night in Lowell\, MA
DESCRIPTION:Come help personalize blankets for the Lowell Transitional Living Center’s Bad Weather Bed program! \nBring a twin sheet set as your goodwill offering to help further! \nAs always\, dinner is provided.
URL:https://www.greekboston.com/event/transfiguration-family-night/
LOCATION:Transfiguration Greek Orthodox Church – Lowell\, MA\, 25 Fr. John Sarantos Way\, Lowell\, 01854\, United States
CATEGORIES:Greek Events in Boston and the New England Area
ATTACH;FMTTYPE=image/jpeg:https://e498h76z5mp.exactdn.com/wp-content/uploads/2014/11/Transfiguration-Greek-Orthodox-Church-Family-Night-in-Lowell-MA.jpg
END:VEVENT
BEGIN:VEVENT
DTSTART;TZID=America/New_York:20141122T190000
DTEND;TZID=America/New_York:20141122T210000
DTSTAMP:20260423T031519
CREATED:20141024T125847Z
LAST-MODIFIED:20200827T024508Z
UID:43845-1416682800-1416690000@www.greekboston.com
SUMMARY:New England Hellenic Medical and Dental Society's Evening of Mingling
DESCRIPTION:An evening for young medical and dental professionals to mingle and network.
URL:https://www.greekboston.com/event/dental-medical-evening-mingling/
LOCATION:Liberty Bar\, 215 Charles Street\, Boston\, MA\, 02114\, United States
CATEGORIES:Greek Events in Boston and the New England Area
END:VEVENT
BEGIN:VEVENT
DTSTART;TZID=America/New_York:20141122T200000
DTEND;TZID=America/New_York:20141122T200000
DTSTAMP:20260423T031519
CREATED:20141105T185528Z
LAST-MODIFIED:20141106T111914Z
UID:44472-1416686400-1416686400@www.greekboston.com
SUMMARY:Annual Winter Dance at St. Nectarios Greek Church in Roslindale MA
DESCRIPTION:
URL:https://www.greekboston.com/event/winter-dance-nectarios/
LOCATION:St. Nectarios Greek Orthodox Church – Roslindale\, MA\, 39 Belgrade Ave\, Roslindale\, MA\,  02131\, United States
CATEGORIES:Greek Events in Boston and the New England Area
ATTACH;FMTTYPE=image/jpeg:https://e498h76z5mp.exactdn.com/wp-content/uploads/2014/11/facebook_1415206909864.jpg
END:VEVENT
BEGIN:VEVENT
DTSTART;TZID=America/New_York:20141124T190000
DTEND;TZID=America/New_York:20141124T230000
DTSTAMP:20260423T031519
CREATED:20141118T193321Z
LAST-MODIFIED:20141118T193321Z
UID:44727-1416855600-1416870000@www.greekboston.com
SUMMARY:Vigil for St. Catherine - Dormition of the Virgin Mary Greek Orthodox Church
DESCRIPTION:Please join us at the Vigil for Saint Catherine which will take place on Monday\, November 24\, 2014 from 7:00pm to 11:00pm. The Vigil will be followed by a light meal. \nThe Vigil consists of three parts: Vespers\, Matins and the Divine Liturgy.
URL:https://www.greekboston.com/event/vigil-st-catherine/
LOCATION:Dormition of the Virgin Mary Greek Orthodox Church\, 29 Central Street\, Somerville\, MA\, 02143\, United States
CATEGORIES:Greek Events in Boston and the New England Area
ATTACH;FMTTYPE=image/jpeg:https://e498h76z5mp.exactdn.com/wp-content/uploads/2014/11/Vigil-for-St.-Catherine.jpg
END:VEVENT
BEGIN:VEVENT
DTSTART;TZID=America/New_York:20141128T130000
DTEND;TZID=America/New_York:20141130T180000
DTSTAMP:20260423T031519
CREATED:20141124T214013Z
LAST-MODIFIED:20141124T214013Z
UID:44858-1417179600-1417370400@www.greekboston.com
SUMMARY:The Greek Institute - Winter Arts & Crafts Sale in Cambridge\, MA
DESCRIPTION:
URL:https://www.greekboston.com/event/winter-arts-crafts/
LOCATION:The Greek Institute\, 1038 Massachusetts Avenue\, Cambridge\, MA\, 02138\, United States
CATEGORIES:Greek Events in Boston and the New England Area
ATTACH;FMTTYPE=image/jpeg:https://e498h76z5mp.exactdn.com/wp-content/uploads/2014/11/winterartscrafts-copy.jpg
END:VEVENT
BEGIN:VEVENT
DTSTART;TZID=America/New_York:20141129T180000
DTEND;TZID=America/New_York:20141129T180000
DTSTAMP:20260423T031519
CREATED:20141118T192816Z
LAST-MODIFIED:20141118T195416Z
UID:44722-1417284000-1417284000@www.greekboston.com
SUMMARY:75th Anniversary Dinner Dance of Saint Sophia Greek Church in New London CT
DESCRIPTION:Join us for an evening of dinner and dancing at the Diamond Jubilee Gala \nIn joyful celebration of the 75th Anniversary of Saint Sophia Hellenic Orthodox Church\nMusic By:\nThe Grecian Keys\nAnd\nRun for Cover\nTicket Donations\nAdults: $75.00\nChildren 12 and under: $35.00\nChoice of Prime Rib – Baked Stuffed Shrimp – Chicken\nRESERVATIONS AND PAYMENT MUST BE MADE BY SATURDAY\, NOVEMBER 22\nPlease call 860-608-5807 (Mary Peteros)
URL:https://www.greekboston.com/event/anniversary-dance-new-london/
LOCATION:Port ‘N Starboard\, 1225 Ocean Ave\,\, New London\, CT\, 06320\, United States
CATEGORIES:Greek Events in Boston and the New England Area
ATTACH;FMTTYPE=image/jpeg:https://e498h76z5mp.exactdn.com/wp-content/uploads/2014/11/Saint-Sophia-75th-Anniversary-Dinner-Dance.jpg
END:VEVENT
BEGIN:VEVENT
DTSTART;TZID=America/New_York:20141129T223000
DTEND;TZID=America/New_York:20141130T020000
DTSTAMP:20260423T031519
CREATED:20141125T161821Z
LAST-MODIFIED:20141125T161821Z
UID:44864-1417300200-1417312800@www.greekboston.com
SUMMARY:Greek EDM and House DJ\,  DJ GoGos at Candibar Boston
DESCRIPTION:Catch Greek Electronic Dance Music (EDM) DJ\, DJ GoGos at the New Candibar in Boston on November 29\, 2014!
URL:https://www.greekboston.com/event/edm-house-dj-gogos/
LOCATION:Candibar Nightclub Boston\, 279 Tremont Street\, Boston\, MA\, 02116\, United States
CATEGORIES:Greek Events in Boston and the New England Area
ATTACH;FMTTYPE=image/jpeg:https://e498h76z5mp.exactdn.com/wp-content/uploads/2014/11/facebook_1416925953910.jpg
END:VEVENT
BEGIN:VEVENT
DTSTART;TZID=America/New_York:20141129T230000
DTEND;TZID=America/New_York:20141129T230000
DTSTAMP:20260423T031519
CREATED:20141126T162016Z
LAST-MODIFIED:20141126T162016Z
UID:44878-1417302000-1417302000@www.greekboston.com
SUMMARY:Hellenic Express Live Greek Music at Abby Lane
DESCRIPTION:
URL:https://www.greekboston.com/event/hellenic-express/
LOCATION:Abby Lane Restaurant Boston MA\, 253 Tremont Street\, Boston\, MA\, 02116\, United States
CATEGORIES:Greek Events in Boston and the New England Area
ATTACH;FMTTYPE=image/jpeg:https://e498h76z5mp.exactdn.com/wp-content/uploads/2014/11/452752687-720x4791.jpg
END:VEVENT
BEGIN:VEVENT
DTSTART;TZID=America/New_York:20141129T230000
DTEND;TZID=America/New_York:20141130T020000
DTSTAMP:20260423T031519
CREATED:20141124T192525Z
LAST-MODIFIED:20141125T131439Z
UID:44847-1417302000-1417312800@www.greekboston.com
SUMMARY:George Dalaras Rembetiko Unplugged After Party at Cure Lounge in Boston MA
DESCRIPTION:GET $5 DISCOUNT TO THE DALARAS AFTER PARTY GREEK NIGHT!\nSIMPLY EMAIL YOUR NAME AND EMAIL ADDRESS TO GREEKBOSTON.COM TO: GREEKBOSTON@WORLDWIDEGREEKS.COM…YOU WILL THEN BE ON THE $5 OFF GREEKBOSTON.COM LIST AT THE DOOR!
URL:https://www.greekboston.com/event/dalaras-after-party-boston/
LOCATION:Cure Lounge\, 246 Tremont Street\, Boston\, MA\, 02115\, United States
CATEGORIES:Greek Events in Boston and the New England Area
ATTACH;FMTTYPE=image/jpeg:https://e498h76z5mp.exactdn.com/wp-content/uploads/2014/11/George-Dalaras-Rembetiko-Unplugged-After-Party.jpg
END:VEVENT
BEGIN:VEVENT
DTSTART;TZID=America/New_York:20141203T193000
DTEND;TZID=America/New_York:20141203T220000
DTSTAMP:20260423T031519
CREATED:20141106T111750Z
LAST-MODIFIED:20141106T111750Z
UID:44479-1417635000-1417644000@www.greekboston.com
SUMMARY:HCHC Annual Family Feud Night
DESCRIPTION:Hellenic College Class of 2016 hosting 1st Annual Family Feud Night!!! Faculty\, staff\, and students are encouraged to participate!!! Event will be on December 3rd at the Maliotis Center at 7:30 pm.
URL:https://www.greekboston.com/event/hchc-family-feud/
LOCATION:Maliotis Cultural Center\, 50 Goddard Avenue\, Brookline\, MA\, 02130\, United States
CATEGORIES:Greek Events in Boston and the New England Area
ATTACH;FMTTYPE=image/jpeg:https://e498h76z5mp.exactdn.com/wp-content/uploads/2014/11/1551657_10153469857025200_4936938744513743781_n.jpg
END:VEVENT
BEGIN:VEVENT
DTSTART;TZID=America/New_York:20141205T160000
DTEND;TZID=America/New_York:20141205T160000
DTSTAMP:20260423T031519
CREATED:20141124T194152Z
LAST-MODIFIED:20141124T194152Z
UID:44850-1417795200-1417795200@www.greekboston.com
SUMMARY:Movie Showing of "Frozen" at Annunciation Greek Orthodox Church in Woburn\, MA
DESCRIPTION:
URL:https://www.greekboston.com/event/movie-frozen-woburn/
LOCATION:Annunciation of The Virgin Mary Greek Orthodox Church  – Woburn\, MA\, 70 Montvale Avenue \, Woburn\, MA\, 01801 \, United States
CATEGORIES:Greek Events in Boston and the New England Area
ATTACH;FMTTYPE=image/jpeg:https://e498h76z5mp.exactdn.com/wp-content/uploads/2014/11/Movie-Screening-Frozen.jpg
END:VEVENT
BEGIN:VEVENT
DTSTART;TZID=America/New_York:20141205T190000
DTEND;TZID=America/New_York:20141206T090000
DTSTAMP:20260423T031519
CREATED:20141118T193604Z
LAST-MODIFIED:20141118T193644Z
UID:44729-1417806000-1417856400@www.greekboston.com
SUMMARY:G.O.Y.A. Lock In - Annunciation Greek Orthodox Church of Woburn\, MA
DESCRIPTION:
URL:https://www.greekboston.com/event/goya-lock-in-woburn/
LOCATION:Annunciation of The Virgin Mary Greek Orthodox Church  – Woburn\, MA\, 70 Montvale Avenue \, Woburn\, MA\, 01801 \, United States
CATEGORIES:Greek Events in Boston and the New England Area
ATTACH;FMTTYPE=image/jpeg:https://e498h76z5mp.exactdn.com/wp-content/uploads/2014/11/facebook_1416327606763.jpg
END:VEVENT
BEGIN:VEVENT
DTSTART;TZID=America/New_York:20141206T083000
DTEND;TZID=America/New_York:20141206T083000
DTSTAMP:20260423T031519
CREATED:20141203T174120Z
LAST-MODIFIED:20141203T174120Z
UID:45035-1417854600-1417854600@www.greekboston.com
SUMMARY:Winter Retreat at St. Demetrios Greek Orthodox Church in Saco Maine
DESCRIPTION:
URL:https://www.greekboston.com/event/winter-retreat-maine/
LOCATION:Greek Orthodox St. Demetrios Church in Saco\, ME\, 186 Bradley Street\, Saco\, ME\, 04072\, United States
CATEGORIES:Greek Events in Boston and the New England Area
ATTACH;FMTTYPE=image/jpeg:https://e498h76z5mp.exactdn.com/wp-content/uploads/2014/12/facebook_1417613920084.jpg
END:VEVENT
BEGIN:VEVENT
DTSTART;TZID=America/New_York:20141206T090000
DTEND;TZID=America/New_York:20141206T150000
DTSTAMP:20260423T031519
CREATED:20141125T193707Z
LAST-MODIFIED:20141125T193749Z
UID:44867-1417856400-1417878000@www.greekboston.com
SUMMARY:Metropolis of Boston Jr. Joy Clinic League New Players Welcome
DESCRIPTION:Jr. Joy will be changed this year into a clinic-style skills training league. Each player will have the opportunity to enter into the league as an individual\, without having a team. The cost will be $50 per player. Each player is required to submit a registration form before the beginning of the season\, on December 6th. The Jr. Joy player will gather every Saturday (according to the schedule) and will have 40 minutes designated for skills-building\, including: practice drills\, warm-ups\, dribbling practice\, and lessons from the MYBL staff and referees. The last 40 minutes of the session\, the players will be divided into different teams and they will play scrimmage games. The players will receive a reversible jersey they are required to wear every game. This is a great opportunity for Jr. Joy aged kids (boys and girls) to come together and learn basketball skills\, create friendships between parishes\, and play basketball in a friendly Christian environment. This clinic is offered for all children from any Greek Orthodox Parish in the Metropolis of Boston.\nFor More Information Please Contact:\nEleni Kalioras\nDirector of Youth and Young Adult Ministers for the Metropolis of Boston\nEmail: ekalioras@boston.goarch.org Office: 617-277-4742\nRegistration Forms: www.boston.goarch.org
URL:https://www.greekboston.com/event/metropolis-jr-joy-clinic/
LOCATION:Greek Orthodox Metropolis of Boston\, 162 Goddard Avenue\, Brookline\, MA\, 02445\, United States
CATEGORIES:Greek Events in Boston and the New England Area
ATTACH;FMTTYPE=image/jpeg:https://e498h76z5mp.exactdn.com/wp-content/uploads/2014/11/1496209_209015389286925_1204484587_o.jpg
END:VEVENT
BEGIN:VEVENT
DTSTART;TZID=America/New_York:20141206T090000
DTEND;TZID=America/New_York:20141206T160000
DTSTAMP:20260423T031519
CREATED:20141027T213451Z
LAST-MODIFIED:20141027T213451Z
UID:43936-1417856400-1417881600@www.greekboston.com
SUMMARY:Holy Trinity Greek Orthodox Church in Holyoke\, MA - Holiday Bazaar
DESCRIPTION:
URL:https://www.greekboston.com/event/holy-trinity-holiday-bazaar/
LOCATION:Holy Trinity Greek Orthodox Church – Holyoke\, MA\, 410 Main St\, Holyoke\, MA\, 01040\, United States
CATEGORIES:Greek Events in Boston and the New England Area
ATTACH;FMTTYPE=image/jpeg:https://e498h76z5mp.exactdn.com/wp-content/uploads/2014/10/Holiday-Bazaar-copy.jpg
END:VEVENT
BEGIN:VEVENT
DTSTART;TZID=America/New_York:20141207T180000
DTEND;TZID=America/New_York:20141207T230000
DTSTAMP:20260423T031519
CREATED:20141130T124443Z
LAST-MODIFIED:20141130T124457Z
UID:44895-1417975200-1417993200@www.greekboston.com
SUMMARY:Greek Rebetiko Trio Farewell Concert
DESCRIPTION:JOIN DIMITRIS\, PANOS\, GIORGOS AND A NUMBER OF GUEST ARTISTS FOR OUR OFFICIAL LAST CONCERT!\n1ST SET: TRIBUTE TO MANOLIS XIOTIS\n2ND SET: GLENTI WITH GREEK REBETIKO TRIO PLUS GUESTS\nENTERTAINMENT FEE: $20 ADULTS\, $10 STUDENTS\n(PRICE INCLUDES A COPY OF OUR BRAND NEW CD!!!)\nSUNDAY\, DECEMBER 7 AT ATHAN’S (407 WASHINGTON ST. BRIGHTON)\nFOR RESERVATIONS CALL ARIS AT: 617-840-6373\n\nDELICIOUS GREEK DISHES! (FULL MENU ALSO AVAILABLE)\nWe’ve had a great ride. We are grateful for all the amazing times we had and we want to celebrate with all of you!!
URL:https://www.greekboston.com/event/rebetiko-trio-farewell-concert/
LOCATION:Athan’s Bakery\, 407 Washington Street\, Boston\, MA\, 02135\, United States
CATEGORIES:Greek Events in Boston and the New England Area
ATTACH;FMTTYPE=image/jpeg:https://e498h76z5mp.exactdn.com/wp-content/uploads/2014/11/10806487_1002577073092465_4709158688226437455_n.jpg
END:VEVENT
BEGIN:VEVENT
DTSTART;TZID=America/New_York:20141207T200000
DTEND;TZID=America/New_York:20141208T000000
DTSTAMP:20260423T031519
CREATED:20141022T153101Z
LAST-MODIFIED:20141022T153101Z
UID:43825-1417982400-1417996800@www.greekboston.com
SUMMARY:Songs for Smiles Greek Charity Event at St. Nectarios Greek Church in Roslindale MA
DESCRIPTION:
URL:https://www.greekboston.com/event/songs-smiles-charity-roslindale/
LOCATION:St. Nectarios Greek Orthodox Church – Roslindale\, MA\, 39 Belgrade Ave\, Roslindale\, MA\,  02131\, United States
CATEGORIES:Greek Events in Boston and the New England Area
ATTACH;FMTTYPE=image/jpeg:https://e498h76z5mp.exactdn.com/wp-content/uploads/2014/10/10726423_10204583300280573_1317926861_n.jpg
END:VEVENT
BEGIN:VEVENT
DTSTART;TZID=America/New_York:20141209T190000
DTEND;TZID=America/New_York:20141209T190000
DTSTAMP:20260423T031519
CREATED:20141103T220857Z
LAST-MODIFIED:20141103T220857Z
UID:44130-1418151600-1418151600@www.greekboston.com
SUMMARY:Advent Party at Saints Anargyroi Greek Orthodox Church Marlborough\, MA
DESCRIPTION:
URL:https://www.greekboston.com/event/advent-party-marlborough/
LOCATION:Saints Anargyroi Greek Orthodox Church – Marlborough\, MA\, 9 Central Street\, Marlborough\, MA\, 01752\, United States
CATEGORIES:Greek Events in Boston and the New England Area
ATTACH;FMTTYPE=image/jpeg:https://e498h76z5mp.exactdn.com/wp-content/uploads/2014/11/Advent-Party.jpg
END:VEVENT
BEGIN:VEVENT
DTSTART;TZID=America/New_York:20141211T180000
DTEND;TZID=America/New_York:20141211T190000
DTSTAMP:20260423T031519
CREATED:20141202T191745Z
LAST-MODIFIED:20141202T191745Z
UID:45017-1418320800-1418324400@www.greekboston.com
SUMMARY:MITEF Greece Startup Competition 2014 - Boston Info Session
DESCRIPTION:MIT Enterprise Forum (MITEF) and HSAMIT are excited to co-organize an information session about the MITEF Greece Startup Competition 2014.\nJoin us to learn more about the competition from Joyce Chen\, MITEF Director of Communication.\nIf you have an exciting new product or service\, participating in MITEF Greece Startup Competition will give you access to the practical knowledge\, mentorship\, and resources to take your venture to the next level.\nNominations are open from November 17\, 2014 until December 31\, 2014\, 11:59 p.m. Athens time.\nMore information about eligibility criteria\, rules and terms of participation and FAQs can be found at\nhttp://mitefcompetition.org/track/2014/greece/startup\nLight Refreshments will be provided.
URL:https://www.greekboston.com/event/mitef-greece-startup-competition/
LOCATION:Massachusetts Institute of Technology (MIT)\, 77 Massachusetts Ave\, Cambridge\, Massachusetts 02139\, Cambridge\, MA\, 02139\, United States
CATEGORIES:Greek Events in Boston and the New England Area
ATTACH;FMTTYPE=image/jpeg:https://e498h76z5mp.exactdn.com/wp-content/uploads/2014/12/10494892_10154857029900537_1513695175193967240_o.jpg
END:VEVENT
BEGIN:VEVENT
DTSTART;VALUE=DATE:20141212
DTEND;VALUE=DATE:20141213
DTSTAMP:20260423T031519
CREATED:20141205T182217Z
LAST-MODIFIED:20141205T182217Z
UID:45084-1418342400-1418428799@www.greekboston.com
SUMMARY:Greek and International DJ Music Night
DESCRIPTION:
URL:https://www.greekboston.com/event/international-music-dj-2014-12-12/
CATEGORIES:Greek Events in Boston and the New England Area
ATTACH;FMTTYPE=image/jpeg:https://e498h76z5mp.exactdn.com/wp-content/uploads/2014/12/facebook_1417796125432.jpg
END:VEVENT
END:VCALENDAR