BEGIN:VCALENDAR
VERSION:2.0
PRODID:-// - ECPv6.15.20//NONSGML v1.0//EN
CALSCALE:GREGORIAN
METHOD:PUBLISH
X-ORIGINAL-URL:https://www.greekboston.com
X-WR-CALDESC:Events for 
REFRESH-INTERVAL;VALUE=DURATION:PT1H
X-Robots-Tag:noindex
X-PUBLISHED-TTL:PT1H
BEGIN:VTIMEZONE
TZID:America/New_York
BEGIN:DAYLIGHT
TZOFFSETFROM:-0500
TZOFFSETTO:-0400
TZNAME:EDT
DTSTART:20250309T070000
END:DAYLIGHT
BEGIN:STANDARD
TZOFFSETFROM:-0400
TZOFFSETTO:-0500
TZNAME:EST
DTSTART:20251102T060000
END:STANDARD
BEGIN:DAYLIGHT
TZOFFSETFROM:-0500
TZOFFSETTO:-0400
TZNAME:EDT
DTSTART:20260308T070000
END:DAYLIGHT
BEGIN:STANDARD
TZOFFSETFROM:-0400
TZOFFSETTO:-0500
TZNAME:EST
DTSTART:20261101T060000
END:STANDARD
BEGIN:DAYLIGHT
TZOFFSETFROM:-0500
TZOFFSETTO:-0400
TZNAME:EDT
DTSTART:20270314T070000
END:DAYLIGHT
BEGIN:STANDARD
TZOFFSETFROM:-0400
TZOFFSETTO:-0500
TZNAME:EST
DTSTART:20271107T060000
END:STANDARD
END:VTIMEZONE
BEGIN:VEVENT
DTSTART;VALUE=DATE:20260304
DTEND;VALUE=DATE:20260305
DTSTAMP:20260425T164841
CREATED:20260304T132325Z
LAST-MODIFIED:20260304T132325Z
UID:94588-1772582400-1772668799@www.greekboston.com
SUMMARY:MEZO Grand Opening in Dedham\, MA
DESCRIPTION:
URL:https://www.greekboston.com/event/mezo-grand-opening-in-dedham-ma/
LOCATION:Mezo Greek Restaurant\, 551 High Street\, Dedham\, MA\, 02026\, United States
CATEGORIES:Greek Events in Boston and the New England Area
ATTACH;FMTTYPE=image/jpeg:https://e498h76z5mp.exactdn.com/wp-content/uploads/2026/03/image_2026-03-04_082136633.jpg
END:VEVENT
BEGIN:VEVENT
DTSTART;VALUE=DATE:20260307
DTEND;VALUE=DATE:20260308
DTSTAMP:20260425T164842
CREATED:20260202T132923Z
LAST-MODIFIED:20260202T132941Z
UID:94009-1772841600-1772927999@www.greekboston.com
SUMMARY:Messinian Greek Dinner Dance in Dracut\, MA
DESCRIPTION:
URL:https://www.greekboston.com/event/messinian-greek-dance-dracut-ma/
LOCATION:Four Oaks Country Club Dracut MA\, 1 Clubhouse Lane\, Dracut\, MA\, 01826\, United States
CATEGORIES:Greek Events in Boston and the New England Area
ATTACH;FMTTYPE=image/jpeg:https://e498h76z5mp.exactdn.com/wp-content/uploads/2026/02/image_2026-02-02_082833275.jpg
END:VEVENT
BEGIN:VEVENT
DTSTART;VALUE=DATE:20260312
DTEND;VALUE=DATE:20260313
DTSTAMP:20260425T164842
CREATED:20260213T140716Z
LAST-MODIFIED:20260213T141143Z
UID:94272-1773273600-1773359999@www.greekboston.com
SUMMARY:St Nectarios WILS Meet and Greet in Roslindale\, MA
DESCRIPTION:
URL:https://www.greekboston.com/event/st-nectarios-wils-meet-and-greet-roslindale-ma/
LOCATION:St. Nectarios Greek Orthodox Church – Roslindale\, MA\, 39 Belgrade Ave\, Roslindale\, MA\,  02131\, United States
CATEGORIES:Greek Events in Boston and the New England Area
ATTACH;FMTTYPE=image/jpeg:https://e498h76z5mp.exactdn.com/wp-content/uploads/2026/02/image_2026-02-13_090625404.jpg
END:VEVENT
BEGIN:VEVENT
DTSTART;VALUE=DATE:20260313
DTEND;VALUE=DATE:20260314
DTSTAMP:20260425T164842
CREATED:20260105T142800Z
LAST-MODIFIED:20260304T131400Z
UID:93781-1773360000-1773446399@www.greekboston.com
SUMMARY:Greek Music Night by Hellenic Soccer Club in Roslindale\, MA
DESCRIPTION:
URL:https://www.greekboston.com/event/greek-music-hellenic-soccer-club-roslindale-ma/
LOCATION:Hellenic Soccer Club in Roslindale MA\, 47 Poplar Street\, Roslindale\, MA\, 02131\, United States
CATEGORIES:Greek Events in Boston and the New England Area
ATTACH;FMTTYPE=image/jpeg:https://e498h76z5mp.exactdn.com/wp-content/uploads/2026/01/image_2026-03-04_081042254.jpg
END:VEVENT
BEGIN:VEVENT
DTSTART;VALUE=DATE:20260319
DTEND;VALUE=DATE:20260320
DTSTAMP:20260425T164842
CREATED:20260304T131551Z
LAST-MODIFIED:20260304T131551Z
UID:94585-1773878400-1773964799@www.greekboston.com
SUMMARY:Evzone Practice in Brookline\, MA
DESCRIPTION:
URL:https://www.greekboston.com/event/evzone-practice-in-brookline-ma/
LOCATION:Maliotis Cultural Center\, 50 Goddard Avenue\, Brookline\, MA\, 02130\, United States
CATEGORIES:Greek Events in Boston and the New England Area
ATTACH;FMTTYPE=image/jpeg:https://e498h76z5mp.exactdn.com/wp-content/uploads/2026/03/image_2026-03-04_081539426.jpg
END:VEVENT
BEGIN:VEVENT
DTSTART;VALUE=DATE:20260320
DTEND;VALUE=DATE:20260323
DTSTAMP:20260425T164842
CREATED:20260205T122834Z
LAST-MODIFIED:20260205T122834Z
UID:94059-1773964800-1774223999@www.greekboston.com
SUMMARY:Metropolis of Boston Family Retreat
DESCRIPTION:
URL:https://www.greekboston.com/event/metropolis-of-boston-family-retreat/
LOCATION:Metropolis of Boston Camp\, 329 Camp Merrimac Rd\, Contoocook\, NH\, 03229\, United States
CATEGORIES:Greek Events in Boston and the New England Area
ATTACH;FMTTYPE=image/jpeg:https://e498h76z5mp.exactdn.com/wp-content/uploads/2026/02/unnamed-1.jpg
END:VEVENT
BEGIN:VEVENT
DTSTART;VALUE=DATE:20260321
DTEND;VALUE=DATE:20260322
DTSTAMP:20260425T164842
CREATED:20260209T124126Z
LAST-MODIFIED:20260209T125632Z
UID:94121-1774051200-1774137599@www.greekboston.com
SUMMARY:Live Greek Music With Makis Christodoulopoulos
DESCRIPTION:
URL:https://www.greekboston.com/event/live-greek-music-makis-christodoulopoulos/
LOCATION:MA
CATEGORIES:Greek Events in Boston and the New England Area
ATTACH;FMTTYPE=image/jpeg:https://e498h76z5mp.exactdn.com/wp-content/uploads/2026/02/image_2026-02-09_074116284.jpg
END:VEVENT
BEGIN:VEVENT
DTSTART;VALUE=DATE:20260321
DTEND;VALUE=DATE:20260322
DTSTAMP:20260425T164842
CREATED:20260312T120328Z
LAST-MODIFIED:20260312T120328Z
UID:94713-1774051200-1774137599@www.greekboston.com
SUMMARY:The Body: Glory and Sickness in Healing\, Brookline MA
DESCRIPTION:
URL:https://www.greekboston.com/event/body-and-sickness-in-healing/
LOCATION:Maliotis Cultural Center\, 50 Goddard Avenue\, Brookline\, MA\, 02130\, United States
CATEGORIES:Greek Events in Boston and the New England Area
END:VEVENT
BEGIN:VEVENT
DTSTART;VALUE=DATE:20260321
DTEND;VALUE=DATE:20260322
DTSTAMP:20260425T164842
CREATED:20160522T110835Z
LAST-MODIFIED:20260203T133441Z
UID:56431-1774051200-1774137599@www.greekboston.com
SUMMARY:Live Greek Music in Lowell MA
DESCRIPTION:
URL:https://www.greekboston.com/event/live-music-lowell-ma/
LOCATION:Hellenic Cultural Center – Lowell\, 41 Broadway Street\, Lowell\, MA\, 01854\, United States
CATEGORIES:Greek Events in Boston and the New England Area
ATTACH;FMTTYPE=image/jpeg:https://e498h76z5mp.exactdn.com/wp-content/uploads/2016/05/image_2026-02-03_083427782.jpg
END:VEVENT
BEGIN:VEVENT
DTSTART;VALUE=DATE:20260323
DTEND;VALUE=DATE:20260324
DTSTAMP:20260425T164842
CREATED:20260223T134946Z
LAST-MODIFIED:20260311T112136Z
UID:94486-1774224000-1774310399@www.greekboston.com
SUMMARY:Sacred Songs and Rituals with REVMA in Cambridge\, MA
DESCRIPTION:
URL:https://www.greekboston.com/event/sacred-songs-cambridge-ma/
LOCATION:Cambridge Public Library\, 499 Broadway\, Cambridge\, MA\, 02138\, United States
CATEGORIES:Greek Events in Boston and the New England Area
ATTACH;FMTTYPE=application/pdf:https://e498h76z5mp.exactdn.com/wp-content/uploads/2026/02/Copy-of-Sacred-Songs-and-Rituals-_-Greek-Heritage-Month-w_-REVMA-BLE-2026.pdf
END:VEVENT
BEGIN:VEVENT
DTSTART;VALUE=DATE:20260327
DTEND;VALUE=DATE:20260329
DTSTAMP:20260425T164842
CREATED:20260202T133652Z
LAST-MODIFIED:20260202T133652Z
UID:94013-1774569600-1774742399@www.greekboston.com
SUMMARY:Metropolis of Boston Philoptochos Lenten Retreat
DESCRIPTION:
URL:https://www.greekboston.com/event/metropolis-of-boston-philoptochos-lenten-retreat/
LOCATION:MA
CATEGORIES:Greek Events in Boston and the New England Area
ATTACH;FMTTYPE=image/jpeg:https://e498h76z5mp.exactdn.com/wp-content/uploads/2026/02/Screenshot-2026-02-02-083014.jpg
END:VEVENT
BEGIN:VEVENT
DTSTART;TZID=America/New_York:20260327T080000
DTEND;TZID=America/New_York:20260327T170000
DTSTAMP:20260425T164842
CREATED:20260327T115934Z
LAST-MODIFIED:20260327T115934Z
UID:94753-1774598400-1774630800@www.greekboston.com
SUMMARY:Easter Egg Hunt at St George Greek Church in Springfield\, MA
DESCRIPTION:
URL:https://www.greekboston.com/event/easter-egg-hunt-st-george-springfield/
LOCATION:St. George Greek Orthodox Cathedral – Springfield\, MA\, 22 St. George Road\, Springfield\, MA\, 02720\, United States
CATEGORIES:Greek Events in Boston and the New England Area
ATTACH;FMTTYPE=image/jpeg:https://e498h76z5mp.exactdn.com/wp-content/uploads/2026/03/image_2026-03-27_075856013.jpg
END:VEVENT
BEGIN:VEVENT
DTSTART;VALUE=DATE:20260328
DTEND;VALUE=DATE:20260329
DTSTAMP:20260425T164842
CREATED:20260210T124858Z
LAST-MODIFIED:20260210T124858Z
UID:94124-1774656000-1774742399@www.greekboston.com
SUMMARY:Honoring Elaine Kevgas in Peabody\, MA
DESCRIPTION:
URL:https://www.greekboston.com/event/honoring-elaine-kevgas-in-peabody-ma/
LOCATION:Ithaki Modern Mediterranean\, 1A Newbury Street\, Peabody\, 01960\, United States
CATEGORIES:Greek Events in Boston and the New England Area
ATTACH;FMTTYPE=image/jpeg:https://e498h76z5mp.exactdn.com/wp-content/uploads/2026/02/image_2026-02-10_074841041.jpg
END:VEVENT
BEGIN:VEVENT
DTSTART;VALUE=DATE:20260328
DTEND;VALUE=DATE:20260329
DTSTAMP:20260425T164842
CREATED:20260219T130133Z
LAST-MODIFIED:20260219T130336Z
UID:94339-1774656000-1774742399@www.greekboston.com
SUMMARY:Greek Independence and USS Constitution Event in Charlestown\, MA
DESCRIPTION:
URL:https://www.greekboston.com/event/greek-independence-uss-constitution-charlestown-ma/
LOCATION:USS Constitution Museum\, Building 22\, Charlestown Navy Yard\, Charlestown\, MA\, 02129\, United States
CATEGORIES:Greek Events in Boston and the New England Area
ATTACH;FMTTYPE=image/jpeg:https://e498h76z5mp.exactdn.com/wp-content/uploads/2026/02/image.jpg
END:VEVENT
BEGIN:VEVENT
DTSTART;VALUE=DATE:20260328
DTEND;VALUE=DATE:20260329
DTSTAMP:20260425T164842
CREATED:20260309T113657Z
LAST-MODIFIED:20260309T113657Z
UID:94708-1774656000-1774742399@www.greekboston.com
SUMMARY:St. Nicholas and National Shrine Bus Excursion
DESCRIPTION:
URL:https://www.greekboston.com/event/st-nicholas-bus-excursion/
LOCATION:MA
CATEGORIES:Greek Events in Boston and the New England Area
ATTACH;FMTTYPE=application/pdf:https://e498h76z5mp.exactdn.com/wp-content/uploads/2026/03/St-Nicholas-flyer-revised-with-QR-code.pdf
END:VEVENT
BEGIN:VEVENT
DTSTART;VALUE=DATE:20260329
DTEND;VALUE=DATE:20260330
DTSTAMP:20260425T164842
CREATED:20260317T105435Z
LAST-MODIFIED:20260317T105435Z
UID:94719-1774742400-1774828799@www.greekboston.com
SUMMARY:Island of Lesvos Association of New England Meeting
DESCRIPTION:
URL:https://www.greekboston.com/event/lesvos-association-of-new-england-meeting/
LOCATION:Taxiarchae Greek Orthodox Church Watertown MA\, 25 Bigelow Ave\, Watertown\, MA\, 02472\, United States
CATEGORIES:Greek Events in Boston and the New England Area
ATTACH;FMTTYPE=image/jpeg:https://e498h76z5mp.exactdn.com/wp-content/uploads/2026/03/Lesvos-Society-Assembly-Meeting-Call-2026-03.jpg
END:VEVENT
BEGIN:VEVENT
DTSTART;VALUE=DATE:20260329
DTEND;VALUE=DATE:20260330
DTSTAMP:20260425T164842
CREATED:20260324T112030Z
LAST-MODIFIED:20260324T112030Z
UID:94736-1774742400-1774828799@www.greekboston.com
SUMMARY:Maliotis Easter Hunt in Brookline\, MA
DESCRIPTION:
URL:https://www.greekboston.com/event/maliotis-easter-hunt-in-brookline-ma/
LOCATION:Maliotis Cultural Center\, 50 Goddard Avenue\, Brookline\, MA\, 02130\, United States
CATEGORIES:Greek Events in Boston and the New England Area
ATTACH;FMTTYPE=image/jpeg:https://e498h76z5mp.exactdn.com/wp-content/uploads/2026/03/image_2026-03-24_072001835.jpg
END:VEVENT
BEGIN:VEVENT
DTSTART;VALUE=DATE:20260402
DTEND;VALUE=DATE:20260403
DTSTAMP:20260425T164842
CREATED:20190517T160719Z
LAST-MODIFIED:20260327T114334Z
UID:77192-1775088000-1775174399@www.greekboston.com
SUMMARY:Greek Dance Lessons at the Holy Trinity Church Lowell MA
DESCRIPTION:
URL:https://www.greekboston.com/event/dance-lessons-lowell-ma/
LOCATION:Holy Trinity Lowell MA\, 62 Lewis Street\, Lowell\, MA\, 01854 \, United States
CATEGORIES:Greek Events in Boston and the New England Area
ATTACH;FMTTYPE=image/png:https://e498h76z5mp.exactdn.com/wp-content/uploads/2019/05/image_2026-03-27_074252598.png
END:VEVENT
BEGIN:VEVENT
DTSTART;VALUE=DATE:20260402
DTEND;VALUE=DATE:20260403
DTSTAMP:20260425T164842
CREATED:20200303T210814Z
LAST-MODIFIED:20260219T131236Z
UID:82476-1775088000-1775174399@www.greekboston.com
SUMMARY:Psaltikon Greek Event in Worcester MA
DESCRIPTION:
URL:https://www.greekboston.com/event/psaltikon-worcester-ma/
LOCATION:St. Spyridon Greek Orthodox Cathedral – Worcester\, 102 Russell Street\, Worcester\, MA\, 01609\, United States
CATEGORIES:Greek Events in Boston and the New England Area
ATTACH;FMTTYPE=image/png:https://e498h76z5mp.exactdn.com/wp-content/uploads/2020/03/image_2026-02-19_081206822.png
END:VEVENT
BEGIN:VEVENT
DTSTART;VALUE=DATE:20260404
DTEND;VALUE=DATE:20260405
DTSTAMP:20260425T164842
CREATED:20240318T183430Z
LAST-MODIFIED:20260305T132122Z
UID:91760-1775260800-1775347199@www.greekboston.com
SUMMARY:KefiFM Radiothon Benefit for the Metropolis of Boston Camp
DESCRIPTION:
URL:https://www.greekboston.com/event/kefifm-radiothon/
LOCATION:MA
CATEGORIES:Greek Events in Boston and the New England Area
ATTACH;FMTTYPE=image/jpeg:https://e498h76z5mp.exactdn.com/wp-content/uploads/2024/03/image_2026-03-05_082117017.jpg
END:VEVENT
BEGIN:VEVENT
DTSTART;VALUE=DATE:20260404
DTEND;VALUE=DATE:20260405
DTSTAMP:20260425T164842
CREATED:20250328T222321Z
LAST-MODIFIED:20260324T111814Z
UID:92855-1775260800-1775347199@www.greekboston.com
SUMMARY:Springtime Brunch & Easter Egg Hunt in Arlington MA
DESCRIPTION:
URL:https://www.greekboston.com/event/brunch-easter-egg-hunt-arlington-ma/
LOCATION:Saint Athanasius Greek Orthodox Church – Arlington\, MA\, 4 Appleton St\, Arlington\, MA\, 02474\, United States
CATEGORIES:Greek Events in Boston and the New England Area
ATTACH;FMTTYPE=image/jpeg:https://e498h76z5mp.exactdn.com/wp-content/uploads/2025/03/image_2026-03-24_071745662.jpg
END:VEVENT
BEGIN:VEVENT
DTSTART;VALUE=DATE:20260404
DTEND;VALUE=DATE:20260405
DTSTAMP:20260425T164842
CREATED:20260401T112824Z
LAST-MODIFIED:20260401T112846Z
UID:94775-1775260800-1775347199@www.greekboston.com
SUMMARY:Spring Cleaning at St. Sophia Church in New London\, CT
DESCRIPTION:
URL:https://www.greekboston.com/event/spring-cleaning-st-sophia-church/
LOCATION:Greek Orthodox Saint Sophia Church in New London\, CT\, 200 Hempstead Street\, New London\, CT\, 06320\, United States
CATEGORIES:Greek Events in Boston and the New England Area
ATTACH;FMTTYPE=image/jpeg:https://e498h76z5mp.exactdn.com/wp-content/uploads/2026/04/image_2026-04-01_072811701.jpg
END:VEVENT
BEGIN:VEVENT
DTSTART;VALUE=DATE:20260405
DTEND;VALUE=DATE:20260406
DTSTAMP:20260425T164842
CREATED:20150328T122858Z
LAST-MODIFIED:20260326T112900Z
UID:47070-1775347200-1775433599@www.greekboston.com
SUMMARY:Palm Sunday Luncheon at the Annunciation Greek Cathedral of New England
DESCRIPTION:
URL:https://www.greekboston.com/event/palm-sunday-luncheon-cathedral/
LOCATION:Annunciation Cathedral of New England\, 514 Parker Street\, Boston\, MA\, 02120\, United States
CATEGORIES:Greek Events in Boston and the New England Area
ATTACH;FMTTYPE=image/jpeg:https://e498h76z5mp.exactdn.com/wp-content/uploads/2015/03/UPDATED-PalmSundayFlyer.-_1_.jpg
END:VEVENT
BEGIN:VEVENT
DTSTART;VALUE=DATE:20260405
DTEND;VALUE=DATE:20260406
DTSTAMP:20260425T164842
CREATED:20150326T103635Z
LAST-MODIFIED:20260401T111835Z
UID:47028-1775347200-1775433599@www.greekboston.com
SUMMARY:Annual Palm Sunday Fish Dinner at the Dormition of the Virgin Mary Greek Church Somerville MA
DESCRIPTION:
URL:https://www.greekboston.com/event/palm-sunday-somerville-ma/
LOCATION:Dormition of the Virgin Mary Greek Orthodox Church\, 29 Central Street\, Somerville\, MA\, 02143\, United States
CATEGORIES:Greek Events in Boston and the New England Area
ATTACH;FMTTYPE=image/jpeg:https://e498h76z5mp.exactdn.com/wp-content/uploads/2015/03/image_2026-03-31_073741545.jpg
END:VEVENT
BEGIN:VEVENT
DTSTART;VALUE=DATE:20260405
DTEND;VALUE=DATE:20260406
DTSTAMP:20260425T164842
CREATED:20190406T131909Z
LAST-MODIFIED:20260327T115448Z
UID:76512-1775347200-1775433599@www.greekboston.com
SUMMARY:Palm Sunday Luncheon at Assumption of the Virgin Mary Greek Church Pawtucket RI
DESCRIPTION:
URL:https://www.greekboston.com/event/palm-sunday-luncheon-pawtucket-ri/
LOCATION:Assumption of the Virgin Mary Church -Pawtucket\, RI\, 97 Walcott Street\, Pawtucket\, RI\, United States
CATEGORIES:Greek Events in Boston and the New England Area
ATTACH;FMTTYPE=image/jpeg:https://e498h76z5mp.exactdn.com/wp-content/uploads/2019/04/image_2026-03-27_075427204.jpg
END:VEVENT
BEGIN:VEVENT
DTSTART;VALUE=DATE:20260414
DTEND;VALUE=DATE:20260415
DTSTAMP:20260425T164842
CREATED:20260401T113256Z
LAST-MODIFIED:20260401T113445Z
UID:94778-1776124800-1776211199@www.greekboston.com
SUMMARY:First Olympics Event in Brookline\, MA
DESCRIPTION:
URL:https://www.greekboston.com/event/first-olympics-event-in-brookline-ma/
LOCATION:Maliotis Cultural Center\, 50 Goddard Avenue\, Brookline\, MA\, 02130\, United States
CATEGORIES:Greek Events in Boston and the New England Area
ATTACH;FMTTYPE=image/jpeg:https://e498h76z5mp.exactdn.com/wp-content/uploads/2026/04/image_2026-04-01_073249496.jpg
END:VEVENT
BEGIN:VEVENT
DTSTART;VALUE=DATE:20260416
DTEND;VALUE=DATE:20260417
DTSTAMP:20260425T164842
CREATED:20260420T131257Z
LAST-MODIFIED:20260420T131257Z
UID:94818-1776297600-1776383999@www.greekboston.com
SUMMARY:Greek Comedy Night in Peabody\, MA
DESCRIPTION:
URL:https://www.greekboston.com/event/greek-comedy-night-in-peabody-ma/
LOCATION:Ithaki Modern Mediterranean\, 1A Newbury Street\, Peabody\, 01960\, United States
CATEGORIES:Greek Events in Boston and the New England Area
ATTACH;FMTTYPE=image/jpeg:https://e498h76z5mp.exactdn.com/wp-content/uploads/2026/04/image_2026-04-20_091153197.jpg
END:VEVENT
BEGIN:VEVENT
DTSTART;VALUE=DATE:20260417
DTEND;VALUE=DATE:20260420
DTSTAMP:20260425T164842
CREATED:20160403T114550Z
LAST-MODIFIED:20260114T121948Z
UID:55270-1776384000-1776643199@www.greekboston.com
SUMMARY:Harry Agganis Basketball Tournament
DESCRIPTION:
URL:https://www.greekboston.com/event/harry-agganis-tournament-lynn-ma/
LOCATION:St. George Greek Orthodox Church – Lynn MA\, 54 South Common Street\, Lynn\, 01902\, United States
CATEGORIES:Greek Events in Boston and the New England Area
ATTACH;FMTTYPE=image/jpeg:https://e498h76z5mp.exactdn.com/wp-content/uploads/2016/04/image0-2.jpeg
END:VEVENT
BEGIN:VEVENT
DTSTART;VALUE=DATE:20260418
DTEND;VALUE=DATE:20260419
DTSTAMP:20260425T164842
CREATED:20250217T212916Z
LAST-MODIFIED:20260407T112834Z
UID:92752-1776470400-1776556799@www.greekboston.com
SUMMARY:Mini Golf Charity Fundraiser in Watertown MA
DESCRIPTION:
URL:https://www.greekboston.com/event/mini-golf-watertown-ma/
LOCATION:Taxiarchae Greek Orthodox Church Watertown MA\, 25 Bigelow Ave\, Watertown\, MA\, 02472\, United States
CATEGORIES:Greek Events in Boston and the New England Area
ATTACH;FMTTYPE=image/jpeg:https://e498h76z5mp.exactdn.com/wp-content/uploads/2025/02/image_2026-04-07_072823539.jpg
END:VEVENT
BEGIN:VEVENT
DTSTART;VALUE=DATE:20260418
DTEND;VALUE=DATE:20260419
DTSTAMP:20260425T164842
CREATED:20251027T124007Z
LAST-MODIFIED:20260305T132449Z
UID:93430-1776470400-1776556799@www.greekboston.com
SUMMARY:Live Greek Music Concert in Roslindale\, MA
DESCRIPTION:
URL:https://www.greekboston.com/event/music-concert-roslindale-ma/
LOCATION:St. Nectarios Greek Orthodox Church – Roslindale\, MA\, 39 Belgrade Ave\, Roslindale\, MA\,  02131\, United States
CATEGORIES:Greek Events in Boston and the New England Area
ATTACH;FMTTYPE=image/jpeg:https://e498h76z5mp.exactdn.com/wp-content/uploads/2025/10/image_2026-03-05_082419912.jpg
END:VEVENT
END:VCALENDAR