BEGIN:VCALENDAR
VERSION:2.0
PRODID:-// - ECPv6.15.20//NONSGML v1.0//EN
CALSCALE:GREGORIAN
METHOD:PUBLISH
X-ORIGINAL-URL:https://www.greekboston.com
X-WR-CALDESC:Events for 
REFRESH-INTERVAL;VALUE=DURATION:PT1H
X-Robots-Tag:noindex
X-PUBLISHED-TTL:PT1H
BEGIN:VTIMEZONE
TZID:America/New_York
BEGIN:DAYLIGHT
TZOFFSETFROM:-0500
TZOFFSETTO:-0400
TZNAME:EDT
DTSTART:20140309T070000
END:DAYLIGHT
BEGIN:STANDARD
TZOFFSETFROM:-0400
TZOFFSETTO:-0500
TZNAME:EST
DTSTART:20141102T060000
END:STANDARD
BEGIN:DAYLIGHT
TZOFFSETFROM:-0500
TZOFFSETTO:-0400
TZNAME:EDT
DTSTART:20150308T070000
END:DAYLIGHT
BEGIN:STANDARD
TZOFFSETFROM:-0400
TZOFFSETTO:-0500
TZNAME:EST
DTSTART:20151101T060000
END:STANDARD
BEGIN:DAYLIGHT
TZOFFSETFROM:-0500
TZOFFSETTO:-0400
TZNAME:EDT
DTSTART:20160313T070000
END:DAYLIGHT
BEGIN:STANDARD
TZOFFSETFROM:-0400
TZOFFSETTO:-0500
TZNAME:EST
DTSTART:20161106T060000
END:STANDARD
END:VTIMEZONE
BEGIN:VEVENT
DTSTART;VALUE=DATE:20150412
DTEND;VALUE=DATE:20150413
DTSTAMP:20260422T190842
CREATED:20150323T193154Z
LAST-MODIFIED:20150323T193154Z
UID:47002-1428796800-1428883199@www.greekboston.com
SUMMARY:Easter Egg Hunt at Annunciation Greek Orthodox Church in Brockton\, MA
DESCRIPTION:
URL:https://www.greekboston.com/event/easter-egg-hunt-brockton/
LOCATION:Annunciation Greek Orthodox Church – Brockton\, MA\, 457 Oak Street\, Brockton\, MA\, 02401\, United States
CATEGORIES:Greek Events in Boston and the New England Area
ATTACH;FMTTYPE=image/jpeg:https://e498h76z5mp.exactdn.com/wp-content/uploads/2015/03/Easter-Egg-Hunt.jpg
END:VEVENT
BEGIN:VEVENT
DTSTART;TZID=America/New_York:20150412T223000
DTEND;TZID=America/New_York:20150413T010000
DTSTAMP:20260422T190842
CREATED:20150404T122655Z
LAST-MODIFIED:20150404T122941Z
UID:47185-1428877800-1428886800@www.greekboston.com
SUMMARY:Greek Glendi Music Easter Night at Icon Nightclub Boston MA
DESCRIPTION:PAREA BOSTON AND ROYAL ENTERTAINMENT PRESENTS:  PASCHAPALOOUSA 2015 AT ICON BOSTON PREMIER NIGHT CLUB!\nAFTER THE EASTER FEAST JOINS US FOR HOLIDAY REUNION WITH OLD FRIENDS\nPASCHA 2015@ ICON\nSUNDAY APRIL 12TH\nDOORS OPEN 1030 PM \nWITH HELLENIC SOUNDS AND DJ MANIS\nCALL FOR:  G-LIST FOR REDUCED ADMISSION TABLE RESERVATION\nPAUL YIOTIS………………..………………. 857-453-0154\nJIMMY K ……………………..………………. 617-599-8280\nPANOS GREGORIADES………………….. 617-697-7097\nGEORGE ADAMAKIS……………………… 617-997-7675\nANGELO ASPROYIANNIS……………….. 978-457-4445
URL:https://www.greekboston.com/event/glendi-easter-icon/
LOCATION:Icon Boston\, 100 Warrenton Street\, Boston\, MA\, 02116\, United States
CATEGORIES:Greek Events in Boston and the New England Area
ATTACH;FMTTYPE=image/jpeg:https://e498h76z5mp.exactdn.com/wp-content/uploads/2015/04/11066024_10153102389536132_9113896941040522236_n.jpg
END:VEVENT
BEGIN:VEVENT
DTSTART;TZID=America/New_York:20150413T070000
DTEND;TZID=America/New_York:20150413T210000
DTSTAMP:20260422T190842
CREATED:20150211T115646Z
LAST-MODIFIED:20150211T115646Z
UID:46201-1428908400-1428958800@www.greekboston.com
SUMMARY:THE GREEKS SPEAK SERIES - Nicholas Askounes Ashford
DESCRIPTION:April 13\, 7pm\, THE GREEKS SPEAK SERIES – Nicholas Askounes Ashford\, Professor of Technology and Policy\, MIT\, will give a talk on “Sustainable Development at a Crossroad – The Need to Transform the Industrial State.”
URL:https://www.greekboston.com/event/speak-series-nicholas-askounes-ashford/
LOCATION:The Greek Institute\, 1038 Massachusetts Avenue\, Cambridge\, MA\, 02138\, United States
CATEGORIES:Greek Events in Boston and the New England Area
ATTACH;FMTTYPE=image/gif:https://e498h76z5mp.exactdn.com/wp-content/uploads/2015/02/logo.gif
END:VEVENT
BEGIN:VEVENT
DTSTART;TZID=America/New_York:20150416T183000
DTEND;TZID=America/New_York:20150416T183000
DTSTAMP:20260422T190842
CREATED:20150323T194041Z
LAST-MODIFIED:20150323T194041Z
UID:47008-1429209000-1429209000@www.greekboston.com
SUMMARY:Post-Easter BBQ Bonanza Night with Taxiarchae/Archangels Greek Orthodox Church in Watertown\, MA
DESCRIPTION:
URL:https://www.greekboston.com/event/post-easter-bbq/
LOCATION:Taxiarchae Greek Orthodox Church Watertown MA\, 25 Bigelow Ave\, Watertown\, MA\, 02472\, United States
CATEGORIES:Greek Events in Boston and the New England Area
ATTACH;FMTTYPE=image/jpeg:https://e498h76z5mp.exactdn.com/wp-content/uploads/2015/03/Post-Pascha-BBQ.jpg
END:VEVENT
BEGIN:VEVENT
DTSTART;TZID=America/New_York:20150416T183000
DTEND;TZID=America/New_York:20150416T220000
DTSTAMP:20260422T190842
CREATED:20150415T104034Z
LAST-MODIFIED:20150415T104110Z
UID:47384-1429209000-1429221600@www.greekboston.com
SUMMARY:Koinonia Annual Post Easter BBQ in Brookline MA
DESCRIPTION:
URL:https://www.greekboston.com/event/koinonia-bbq-brookline-ma/
LOCATION:Village Smokehouse Brookline MA\, 1 Harvard Street\, Brookline\, MA\, 02445\, United States
CATEGORIES:Greek Events in Boston and the New England Area
ATTACH;FMTTYPE=image/jpeg:https://e498h76z5mp.exactdn.com/wp-content/uploads/2015/04/facebook_1429061765306.jpg
END:VEVENT
BEGIN:VEVENT
DTSTART;TZID=America/New_York:20150416T190000
DTEND;TZID=America/New_York:20150416T210000
DTSTAMP:20260422T190842
CREATED:20150401T152458Z
LAST-MODIFIED:20150401T152638Z
UID:47123-1429210800-1429218000@www.greekboston.com
SUMMARY:Kissinger & Cyprus\, a Book Presentation by Eugene Rossides in Brookline MA
DESCRIPTION:A presentation of the book\, “Kissinger & Cyprus: A Study of Lawlessness\,” by its author\, Eugene Rossides.\nBooks signed by the author will be available for sale.\nThe event is open to the public and free of charge.
URL:https://www.greekboston.com/event/kissinger-cyprus-eugene-rossides/
LOCATION:Maliotis Cultural Center\, 50 Goddard Avenue\, Brookline\, MA\, 02130\, United States
CATEGORIES:Greek Events in Boston and the New England Area
ATTACH;FMTTYPE=image/jpeg:https://e498h76z5mp.exactdn.com/wp-content/uploads/2015/04/51TUgO7WYPL.jpg
END:VEVENT
BEGIN:VEVENT
DTSTART;TZID=America/New_York:20150418T220000
DTEND;TZID=America/New_York:20150419T130000
DTSTAMP:20260422T190842
CREATED:20150410T200040Z
LAST-MODIFIED:20150410T200636Z
UID:47333-1429394400-1429448400@www.greekboston.com
SUMMARY:SKAROS Greek Night at The Greek American Political Cambridge MA
DESCRIPTION:THE GREEK AMERICAN POLITICAL CLUB INVITES YOU TO A SPECIAL GREEK NIGHT! JOIN US SATURDAY APRIL 18TH FOR A NIGHT OF DANCING\, FOOD & LIVE MUSIC BY “SKAROS” (EPIROTIKA\,SMYRNEIKA\,REBETIKA & NYSIOTIKA) . EVENT BEGINS 10PM. MEZEDES & ENTREES AVAILABLE FOR PURCHASE.\nGREEK AMERICAN POLITICAL CLUB – 288 GREEN STREET CAMBRIDGE MA.\nFOR RESERVATIONS & INFO PLEASE CALL 617-354-8178\nPLENTY OF PARKING AVAILABLE AT NEARBY GREEN ST PUBLIC PARKING GARAGE.
URL:https://www.greekboston.com/event/skaros-cambridge-ma/
LOCATION:Greek American Political Club\, 288 Green Street\, Cambridge\, 02139\, United States
CATEGORIES:Greek Events in Boston and the New England Area
ATTACH;FMTTYPE=image/jpeg:https://e498h76z5mp.exactdn.com/wp-content/uploads/2015/04/11134026_10206358707708937_3937164003971766686_o.jpg
END:VEVENT
BEGIN:VEVENT
DTSTART;TZID=America/New_York:20150419T120000
DTEND;TZID=America/New_York:20150419T120000
DTSTAMP:20260422T190842
CREATED:20150408T120124Z
LAST-MODIFIED:20150408T120124Z
UID:47244-1429444800-1429444800@www.greekboston.com
SUMMARY:New York City Trip for St. Luke Greek Orthodox Church East Longmeadow MA
DESCRIPTION:
URL:https://www.greekboston.com/event/nyc-trip-east-longmeadow-ma/
LOCATION:Greek Orthodox Church of St Luke\, 400 Prospect Street \, East Longmeadow\, MA\, 01028\, United States
CATEGORIES:Greek Events in Boston and the New England Area
ATTACH;FMTTYPE=image/jpeg:https://e498h76z5mp.exactdn.com/wp-content/uploads/2015/04/facebook_1428453470035.jpg
END:VEVENT
BEGIN:VEVENT
DTSTART;TZID=America/New_York:20150419T120000
DTEND;TZID=America/New_York:20150419T233000
DTSTAMP:20260422T190842
CREATED:20150330T215714Z
LAST-MODIFIED:20150330T215714Z
UID:47085-1429444800-1429486200@www.greekboston.com
SUMMARY:Trip to NYC to See New York Spring Spectacular with St. Luke's Greek Orthodox Church
DESCRIPTION:
URL:https://www.greekboston.com/event/nyc-trip-saint-lukes/
LOCATION:Greek Orthodox Church of St Luke\, 400 Prospect Street \, East Longmeadow\, MA\, 01028\, United States
CATEGORIES:Greek Events in Boston and the New England Area
ATTACH;FMTTYPE=image/jpeg:https://e498h76z5mp.exactdn.com/wp-content/uploads/2015/03/St-Lukes-NYC-Trip.jpg
END:VEVENT
BEGIN:VEVENT
DTSTART;TZID=America/New_York:20150419T140000
DTEND;TZID=America/New_York:20150419T170000
DTSTAMP:20260422T190842
CREATED:20150330T001247Z
LAST-MODIFIED:20150330T001247Z
UID:47077-1429452000-1429462800@www.greekboston.com
SUMMARY:AHEPA District 8 Softball Outing in Brookline MA
DESCRIPTION:
URL:https://www.greekboston.com/event/softball-brookline-ma/
LOCATION:Hellenic College Holy Cross – Brookline MA\, 50 Goddard Ave\, Brookline\, MA\, 02445\, United States
CATEGORIES:Greek Events in Boston and the New England Area
ATTACH;FMTTYPE=image/jpeg:https://e498h76z5mp.exactdn.com/wp-content/uploads/2015/03/facebook_1427657447955-1.jpg
END:VEVENT
BEGIN:VEVENT
DTSTART;TZID=America/New_York:20150419T180000
DTEND;TZID=America/New_York:20150419T210000
DTSTAMP:20260422T190842
CREATED:20150227T115121Z
LAST-MODIFIED:20150419T121211Z
UID:46384-1429466400-1429477200@www.greekboston.com
SUMMARY:Greek Singer Maria Farantouri Live Concert
DESCRIPTION:Greek Singer Maria Farantouri Live Concert Show on Sunday April 19\, 2015 at the Maliotis Center in Brookline MA.
URL:https://www.greekboston.com/event/maria-farantouri/
LOCATION:Maliotis Cultural Center\, 50 Goddard Avenue\, Brookline\, MA\, 02130\, United States
CATEGORIES:Greek Events in Boston and the New England Area
ATTACH;FMTTYPE=image/png:https://e498h76z5mp.exactdn.com/wp-content/uploads/2015/02/B107AB30-A518-4AA6-81A9-4883810247821.png
END:VEVENT
BEGIN:VEVENT
DTSTART;TZID=America/New_York:20150420T200000
DTEND;TZID=America/New_York:20150420T220000
DTSTAMP:20260422T190842
CREATED:20150320T182654Z
LAST-MODIFIED:20150608T205347Z
UID:46934-1429560000-1429567200@www.greekboston.com
SUMMARY:Sons and Daughters of Alexander the Great Monday Night Dancing at St. Athanasius Greek Orthodox Church in Arlington MA
DESCRIPTION:
URL:https://www.greekboston.com/event/monday-dancing-arlington-ma/
LOCATION:St. Athanasius the Great Greek Orthodox Church – Arlington\, MA\, 4 Appleton St\, Arlington\, MA\, 02476\, United States
CATEGORIES:Greek Events in Boston and the New England Area
ATTACH;FMTTYPE=image/jpeg:https://e498h76z5mp.exactdn.com/wp-content/uploads/2015/03/SD-greekboston-ad.jpg
END:VEVENT
BEGIN:VEVENT
DTSTART;TZID=America/New_York:20150423T180000
DTEND;TZID=America/New_York:20150423T180000
DTSTAMP:20260422T190842
CREATED:20150422T205420Z
LAST-MODIFIED:20150422T205455Z
UID:47539-1429812000-1429812000@www.greekboston.com
SUMMARY:The Debt Crisis in Europe and the Culture of Economic Politics at Harvard University Cambridge MA
DESCRIPTION:The Debt Crisis in Europe and the Culture of Economic Politics: Is Economics a Moral Science?\nModern Greek Literature and Culture\nKostas Vergopoulos\, University of Paris VIII\nThursday\, April 23\, 2015 – 6:00pm\n\nRoom 128\, Barker Center\, Harvard University Cambridge MA
URL:https://www.greekboston.com/event/crisis-europe-cambridge-ma/
LOCATION:Harvard University Cambridge MA\, Cambridge\, MA\, 02138\, United States
CATEGORIES:Greek Events in Boston and the New England Area
ATTACH;FMTTYPE=image/jpeg:https://e498h76z5mp.exactdn.com/wp-content/uploads/2015/04/Mod-Greek_28.jpg
END:VEVENT
BEGIN:VEVENT
DTSTART;TZID=America/New_York:20150424T183000
DTEND;TZID=America/New_York:20150424T210000
DTSTAMP:20260422T190842
CREATED:20150422T184217Z
LAST-MODIFIED:20150422T184217Z
UID:47537-1429900200-1429909200@www.greekboston.com
SUMMARY:AAUW Authors Night at St. George Greek Orthodox Church Keene NH
DESCRIPTION:American Association of University Women (AAUW) presents “An Evening with Authors”\nFeaturing: Alan Rumrill\, Elizabeth Marshall Thomas\, and Ernest Hebert\nWhere: Hellenic Hall\, St. George Greek Orthodox Church\n70 West Street\, Keene\, NH\nThis is the 5th Authors Night hosted by the AAUW here in Keene. This event will be a posh evening with literary discussions\, laughs\, and lovely things to eat. It was created by our local branch who chose three local authors who will read from their work and then mingle with and sign books for the guests.\n\nAll the proceeds from this scholarship fundraiser go toward women’s scholarships for institutions in Keene including Antioch University\, River Valley Community\, Keene State College\, and Keene High School.\nTickets may be purchased at the door. Pre-purchased tickets may be able to reserve a table if requested.\n6:30 PM – Refreshments\n7:15 PM – Program featuring three local authors\, Alan Rumrill\, Elizabeth Marshall Thomas\, and Ernest Hebert\nFor more information:\nemail: aauwkeene@gmail.com\nor call (603) 352-0259
URL:https://www.greekboston.com/event/authors-night-keene-nh/
LOCATION:St. George Greek Orthodox Church – Keene\, NH\, 70 West Street \, Keene\, NH\, 03431\, United States
CATEGORIES:Greek Events in Boston and the New England Area
ATTACH;FMTTYPE=image/jpeg:https://e498h76z5mp.exactdn.com/wp-content/uploads/2015/04/AAUW-Authors.jpg
END:VEVENT
BEGIN:VEVENT
DTSTART;TZID=America/New_York:20150425T180000
DTEND;TZID=America/New_York:20150426T000000
DTSTAMP:20260422T190842
CREATED:20150326T103314Z
LAST-MODIFIED:20150326T103314Z
UID:47026-1429984800-1430006400@www.greekboston.com
SUMMARY:Brickbottom Reunion at the Dormition of the Virgin Mary Greek Orthodox Church Somerville MA
DESCRIPTION:Please join us for our Brickbottom Reunion hosted by the Dormition 100th Anniversary Committee\, which will be held on Saturday\, April 25th\, from 6:00 to midnight at the Dormition of the Virgin Mary church in Somerville.\nFor more information please read our flyer posted on this event. This event was last held in 2010 and it was a complete sell out. So please reserve your tickets and/or table. Call before it’s sold out. You don’t want to be left out!\nPlease share with your friends!
URL:https://www.greekboston.com/event/brickbottom-reunion-somerville-ma/
LOCATION:Dormition of the Virgin Mary Greek Orthodox Church\, 29 Central Street\, Somerville\, MA\, 02143\, United States
CATEGORIES:Greek Events in Boston and the New England Area
ATTACH;FMTTYPE=image/jpeg:https://e498h76z5mp.exactdn.com/wp-content/uploads/2015/03/10648752_1090297184329357_5358167471323616997_o.jpg
END:VEVENT
BEGIN:VEVENT
DTSTART;TZID=America/New_York:20150425T190000
DTEND;TZID=America/New_York:20150425T230000
DTSTAMP:20260422T190843
CREATED:20150331T211609Z
LAST-MODIFIED:20150331T211609Z
UID:47111-1429988400-1430002800@www.greekboston.com
SUMMARY:GOYA Greek Night at the Annunciation Of The Virgin Mary Greek Orthodox Church in Woburn MA
DESCRIPTION:
URL:https://www.greekboston.com/event/goya-night-woburn-ma/
LOCATION:Annunciation of The Virgin Mary Greek Orthodox Church  – Woburn\, MA\, 70 Montvale Avenue \, Woburn\, MA\, 01801 \, United States
CATEGORIES:Greek Events in Boston and the New England Area
ATTACH;FMTTYPE=image/jpeg:https://e498h76z5mp.exactdn.com/wp-content/uploads/2015/03/facebook_1427836342608.jpg
END:VEVENT
BEGIN:VEVENT
DTSTART;TZID=America/New_York:20150427T153000
DTEND;TZID=America/New_York:20150427T163000
DTSTAMP:20260422T190843
CREATED:20150422T183211Z
LAST-MODIFIED:20150422T183211Z
UID:47535-1430148600-1430152200@www.greekboston.com
SUMMARY:The Mother of God in Late Antique Constantinople: Leading the Romans into Middle Byzantium
DESCRIPTION:Please join 2014–15 Holy Cross Greek Orthodox School of Theology Resident Fellow Richard Barrett for the lecture\, “The Mother of God in Late Antique Constantinople: Leading the Romans into Middle Byzantium.” The lecture is free and open to the public\, and will be held in the Reading Room of The Archbishop Iakovos Library and Learning Center. Light refreshments will follow. For more information\, contact Nikki Stournaras at nstournaras@hchc.edu or tel:617-850-1213.
URL:https://www.greekboston.com/event/constantinople-middle-byzantium/
LOCATION:The Archbishop Iakovos Library and Learning Center Brookline MA\, 50 Goddard Ave\, Brookline\, 02445\, United States
CATEGORIES:Greek Events in Boston and the New England Area
END:VEVENT
BEGIN:VEVENT
DTSTART;TZID=America/New_York:20150427T200000
DTEND;TZID=America/New_York:20150427T220000
DTSTAMP:20260422T190843
CREATED:20150320T182654Z
LAST-MODIFIED:20150608T205347Z
UID:47463-1430164800-1430172000@www.greekboston.com
SUMMARY:Sons and Daughters of Alexander the Great Monday Night Dancing at St. Athanasius Greek Orthodox Church in Arlington MA
DESCRIPTION:
URL:https://www.greekboston.com/event/monday-dancing-arlington-ma-2015-04-27/
LOCATION:St. Athanasius the Great Greek Orthodox Church – Arlington\, MA\, 4 Appleton St\, Arlington\, MA\, 02476\, United States
CATEGORIES:Greek Events in Boston and the New England Area
ATTACH;FMTTYPE=image/jpeg:https://e498h76z5mp.exactdn.com/wp-content/uploads/2015/03/SD-greekboston-ad.jpg
END:VEVENT
BEGIN:VEVENT
DTSTART;TZID=America/New_York:20150428T180000
DTEND;TZID=America/New_York:20150428T200000
DTSTAMP:20260422T190843
CREATED:20150417T125827Z
LAST-MODIFIED:20150417T130005Z
UID:47409-1430244000-1430251200@www.greekboston.com
SUMMARY:6th Grade New York Fundraiser for St. Athanasius Greek Orthodox Church Arlington MA
DESCRIPTION:
URL:https://www.greekboston.com/event/6th-fundraiser-arlington-ma/
LOCATION:b.good Burlington MA\, 82 Burlington Mall Road\, Burlington\, 01803\, United States
CATEGORIES:Greek Events in Boston and the New England Area
ATTACH;FMTTYPE=image/jpeg:https://e498h76z5mp.exactdn.com/wp-content/uploads/2015/04/facebook_1429226884912.jpg
END:VEVENT
BEGIN:VEVENT
DTSTART;TZID=America/New_York:20150501T183000
DTEND;TZID=America/New_York:20150501T230000
DTSTAMP:20260422T190843
CREATED:20150127T115929Z
LAST-MODIFIED:20150408T162438Z
UID:46020-1430505000-1430521200@www.greekboston.com
SUMMARY:A World of Taste at Showcase Live in Foxborough MA
DESCRIPTION:First ever wine\, food\, and beer (and liquor) tasting coming to Gillette Stadium and Patriot Place. The event will be on Friday\, May 1st\, 2015 (5/1/15) at 6:30pm\n\nThis event will have 40-50 vendors showcasing worldly and local products for you to TASTE. This is an 21+ event. $50 for tickets in advance\, $60 at the door.a\n10% DISCOUNT\, ENTER PROMO CODE:  greekboston\nBuy Your Tickets to This Event HERE:\nhttp://www.eventbrite.com/e/a-world-of-taste-at-showcase-live-gillette-stadium-tickets-15496799344 \nFirst ever wine\, food\, and beer (and liquor) tasting coming to Gillette Stadium and Patriot Place.\nSatisfy your taste buds\, this event will have 40-50 vendors showcasing local and international products for you to TASTE. This is an 21+ event.\n$50 for “General Admission” tickets in advance\, $60 at the door. Special guests from the New England Patriots and Revolution. Patrick Chung and Duron Harmon and many more.\n$75 for “VIP” tickets (in advance only). VIP tickets include early admission to the event\, pictures in front of the media backdrop as you checkin\, a glass of champagne upon entry\, a souviner wine glass to take home\, and a wonderful goody bag with items from selected vendors.\n100% of proceeds of this event will be going to charity.\nFor more information visit www.aworldoftaste.com\nFor sponsorship opportunities\, vendor space\, and media access please contact event managers at info@aworldoftaste.com.\nA World of Taste confirmed vendors:\nBEER:\nSam Adams Brewery\, Downeast Cider House\, Cambridge Brewing Company\, Woodchuck Cider\, Bluehills Brewery\, Mayflower Brewing Company\, WARSTEINER USA\nFOOD:\nCabot Creamery Cooperative\, The Backyard Food Company\, Nara Restaurant & Hookah Lounge\, The Olive Fruit\, Tre Olive\, Showcase Live\, Berkshire Grain\, Auntie Elsie’s Oatmeal Crisps\, Davio’s Foxborough\, Tavolino\, Harrows Chicken Pies\, Sugar Bob’s Finest Kind – Smoked Maple Syrup\, Aquidneck Honey\, Smokin J’s BBQ\nWINE:\nMill River Winery\, ZOLL CELLARS\, Barefoot Wine & Bubbly\, OneHope Wine\, David Milligan Selection\, Hellas Import\, Plymouth Winery\nOTHER:\nSwing Juice\, Justyn Farano\, Sports Art Illustrated\nMORE TO COME!\n10% DISCOUNT\, ENTER PROMO CODE:  greekboston\nBuy Your Tickets to This Event HERE:\nhttp://www.eventbrite.com/e/a-world-of-taste-at-showcase-live-gillette-stadium-tickets-15496799344 
URL:https://www.greekboston.com/event/world-taste-foxborough-ma/
LOCATION:Showcase Live Foxborough MA\, 23 Patriot Place\, Foxborough\, MA\, 02035\, United States
CATEGORIES:Greek Events in Boston and the New England Area
ATTACH;FMTTYPE=image/jpeg:https://e498h76z5mp.exactdn.com/wp-content/uploads/2015/01/fb92c71a30e913866701b19ffa3921d0-1.jpeg
END:VEVENT
BEGIN:VEVENT
DTSTART;TZID=America/New_York:20150502T093000
DTEND;TZID=America/New_York:20150502T173000
DTSTAMP:20260422T190843
CREATED:20150404T133537Z
LAST-MODIFIED:20150404T133537Z
UID:47188-1430559000-1430587800@www.greekboston.com
SUMMARY:Ladies Philoptochos Society Event of Holy Trinity Greek Orthodox Holyoke MA
DESCRIPTION:
URL:https://www.greekboston.com/event/philoptochos-holyoke-ma/
LOCATION:Holy Trinity Greek Orthodox Church – Holyoke\, MA\, 410 Main St\, Holyoke\, MA\, 01040\, United States
CATEGORIES:Greek Events in Boston and the New England Area
ATTACH;FMTTYPE=image/jpeg:https://e498h76z5mp.exactdn.com/wp-content/uploads/2015/04/facebook_1428154059577.jpg
END:VEVENT
BEGIN:VEVENT
DTSTART;TZID=America/New_York:20150502T094500
DTEND;TZID=America/New_York:20150502T171500
DTSTAMP:20260422T190843
CREATED:20150323T184941Z
LAST-MODIFIED:20150323T184941Z
UID:46990-1430559900-1430586900@www.greekboston.com
SUMMARY:Daughters of Penelope A Day in Rockport with Greek Orthodox Metropolis of Boston
DESCRIPTION:
URL:https://www.greekboston.com/event/rockport-trip-brookline/
LOCATION:Greek Orthodox Metropolis of Boston\, 162 Goddard Avenue\, Brookline\, MA\, 02445\, United States
CATEGORIES:Greek Events in Boston and the New England Area
ATTACH;FMTTYPE=image/jpeg:https://e498h76z5mp.exactdn.com/wp-content/uploads/2015/03/A-Day-in-Rockport.jpg
END:VEVENT
BEGIN:VEVENT
DTSTART;TZID=America/New_York:20150502T183000
DTEND;TZID=America/New_York:20150502T230000
DTSTAMP:20260422T190843
CREATED:20140423T105117Z
LAST-MODIFIED:20200827T025200Z
UID:38639-1430591400-1430607600@www.greekboston.com
SUMMARY:The New England Hellenic Medical and Dental Society Annual Hygeia Award and Scholarship Dinner
DESCRIPTION:New England Hellenic Medical and Dental Society’s 17th Annual Hygeia Awards and Scholarship Dinner  Join us for our annual Hygeia Award and Scholarship Dinner\, honoring Dr. Eleftherios Mylonakis\, MD\, PhD 
URL:https://www.greekboston.com/event/nehmds-hygeia-award-dinner/
LOCATION:Davio’s Restaurant Boston\, 75 Arlington Street\, Boston\, MA\, 02116\, United States
CATEGORIES:Greek Events in Boston and the New England Area
END:VEVENT
BEGIN:VEVENT
DTSTART;TZID=America/New_York:20150502T210000
DTEND;TZID=America/New_York:20150503T010000
DTSTAMP:20260422T190843
CREATED:20150422T000248Z
LAST-MODIFIED:20150422T000523Z
UID:47521-1430600400-1430614800@www.greekboston.com
SUMMARY:Live Greek Music Night Featuring Efi Thodi at Urban Kitchen in Worcester MA
DESCRIPTION:
URL:https://www.greekboston.com/event/greek-night-worcester-ma/
LOCATION:The Urban Kitchen + Bar Worcester MA\, 225 Shrewsbury Street\, Worcester\, MA\, 01604\, United States
CATEGORIES:Greek Events in Boston and the New England Area
ATTACH;FMTTYPE=image/jpeg:https://e498h76z5mp.exactdn.com/wp-content/uploads/2015/04/PART_1429641445896_IMG950749.jpg
END:VEVENT
BEGIN:VEVENT
DTSTART;TZID=America/New_York:20150503T093000
DTEND;TZID=America/New_York:20150503T093000
DTSTAMP:20260422T190843
CREATED:20150422T210219Z
LAST-MODIFIED:20150422T210219Z
UID:47541-1430645400-1430645400@www.greekboston.com
SUMMARY:Godparent and Godchild Sunday at St. Gregory the Theologian Greek Orthodox Church Mansfield MA
DESCRIPTION:Come and celebrate the Divine Liturgy with your Spiritual Family! \nEvent sponsored by St. Gregory’s Church School.
URL:https://www.greekboston.com/event/godparent-godchild-sunday-mansfield-ma/
LOCATION:St. Gregory the Theologian Greek Orthodox Church – Mansfield\, MA\, 1007 West St\, Mansfield\, MA\, 02048\, United States
CATEGORIES:Greek Events in Boston and the New England Area
ATTACH;FMTTYPE=image/jpeg:https://e498h76z5mp.exactdn.com/wp-content/uploads/2015/04/11136131_1052825814731666_6440424383769997792_o.jpg
END:VEVENT
BEGIN:VEVENT
DTSTART;TZID=America/New_York:20150503T120000
DTEND;TZID=America/New_York:20150503T140000
DTSTAMP:20260422T190843
CREATED:20150419T115117Z
LAST-MODIFIED:20150419T115117Z
UID:47483-1430654400-1430661600@www.greekboston.com
SUMMARY:St. George Name Day Dinner at Holy Trinity Greek Orthodox Church Holyoke MA
DESCRIPTION:
URL:https://www.greekboston.com/event/george-dinner-holyoke-ma/
LOCATION:Holy Trinity Greek Orthodox Church – Holyoke\, MA\, 410 Main St\, Holyoke\, MA\, 01040\, United States
CATEGORIES:Greek Events in Boston and the New England Area
ATTACH;FMTTYPE=image/jpeg:https://e498h76z5mp.exactdn.com/wp-content/uploads/2015/04/facebook_1429394872941.jpg
END:VEVENT
BEGIN:VEVENT
DTSTART;TZID=America/New_York:20150503T120000
DTEND;TZID=America/New_York:20150503T150000
DTSTAMP:20260422T190843
CREATED:20150429T133318Z
LAST-MODIFIED:20150429T133318Z
UID:47738-1430654400-1430665200@www.greekboston.com
SUMMARY:Family Fun Day at the Annunciation Greek Orthodox Church Brockton MA
DESCRIPTION:
URL:https://www.greekboston.com/event/family-day-brockton-ma/
LOCATION:Annunciation Greek Orthodox Church – Brockton\, MA\, 457 Oak Street\, Brockton\, MA\, 02401\, United States
CATEGORIES:Greek Events in Boston and the New England Area
ATTACH;FMTTYPE=image/png:https://e498h76z5mp.exactdn.com/wp-content/uploads/2015/04/Annunciation_Brockton.png
END:VEVENT
BEGIN:VEVENT
DTSTART;TZID=America/New_York:20150503T120000
DTEND;TZID=America/New_York:20150503T160000
DTSTAMP:20260422T190843
CREATED:20150430T233053Z
LAST-MODIFIED:20150430T233236Z
UID:47764-1430654400-1430668800@www.greekboston.com
SUMMARY:Greek Cooking Class at MIT Dorm Cambridge
DESCRIPTION:Join us in the Greek Cooking Class courtesy of the MIT Hellenic Students’ Association this Sunday\, 03 May 2015\, from 12:00 till 16:00!!\nIf you are fans of the Greek Cuisine\, it’s time to learn how some of your favorite Greek dishes are made and go one step further and prepare them yourselves under our guidance! If you are not fans yet\, after this class you will definitely change your mind!\nParticipation in the class is FREE of charge and we are providing you with all the ingredients and a promise for A LOT OF FUN!! Our class will end with a wonderful meal made by our own hands!! :-)) Spread the word to your Greek and non-Greek friends!!\nPlease RSVP here so that we have an estimate of the ingredient quantities we will need!\nhttps://docs.google.com/forms/d/1znhFPPLLbDc1PzVdqewvgsK5CRzxh-fWkZB7OYlGFko/viewform?c=0&w=1
URL:https://www.greekboston.com/event/cooking-class-cambridge-ma/
LOCATION:Warehouse Graduate Residence at MIT Cambridge MA\, 224 Albany Street\, Cambridge\, 02139\, United States
CATEGORIES:Greek Events in Boston and the New England Area
ATTACH;FMTTYPE=image/jpeg:https://e498h76z5mp.exactdn.com/wp-content/uploads/2015/04/11026293_10153271992558518_6255513299410586258_n.jpg
END:VEVENT
BEGIN:VEVENT
DTSTART;TZID=America/New_York:20150504T200000
DTEND;TZID=America/New_York:20150504T220000
DTSTAMP:20260422T190843
CREATED:20150320T182654Z
LAST-MODIFIED:20150608T205348Z
UID:47464-1430769600-1430776800@www.greekboston.com
SUMMARY:Sons and Daughters of Alexander the Great Monday Night Dancing at St. Athanasius Greek Orthodox Church in Arlington MA
DESCRIPTION:
URL:https://www.greekboston.com/event/monday-dancing-arlington-ma-2015-05-04/
LOCATION:St. Athanasius the Great Greek Orthodox Church – Arlington\, MA\, 4 Appleton St\, Arlington\, MA\, 02476\, United States
CATEGORIES:Greek Events in Boston and the New England Area
ATTACH;FMTTYPE=image/jpeg:https://e498h76z5mp.exactdn.com/wp-content/uploads/2015/03/SD-greekboston-ad.jpg
END:VEVENT
BEGIN:VEVENT
DTSTART;TZID=America/New_York:20150505T083000
DTEND;TZID=America/New_York:20150505T130000
DTSTAMP:20260422T190843
CREATED:20150430T104826Z
LAST-MODIFIED:20150430T104826Z
UID:47753-1430814600-1430830800@www.greekboston.com
SUMMARY:Spanakopita Workshop at St. Athanasius Greek Orthodox Church Arlington MA
DESCRIPTION:Everyone is Invited to Participate\nNo Experience Necessary! \nThursday\, April 30 – 8:30am – 1:00pm\nTuesday\, May 5  –  8:30am – 1:00pm\nWorkshop schedules subject to change\nAlways call church office before you attend to confirm times
URL:https://www.greekboston.com/event/spanakopita-workshop-arlington-ma/
LOCATION:St. Athanasius the Great Greek Orthodox Church – Arlington\, MA\, 4 Appleton St\, Arlington\, MA\, 02476\, United States
CATEGORIES:Greek Events in Boston and the New England Area
ATTACH;FMTTYPE=image/jpeg:https://e498h76z5mp.exactdn.com/wp-content/uploads/2015/04/maxresdefault-2.jpg
END:VEVENT
END:VCALENDAR