BEGIN:VCALENDAR
VERSION:2.0
PRODID:-// - ECPv6.15.20//NONSGML v1.0//EN
CALSCALE:GREGORIAN
METHOD:PUBLISH
X-ORIGINAL-URL:https://www.greekboston.com
X-WR-CALDESC:Events for 
REFRESH-INTERVAL;VALUE=DURATION:PT1H
X-Robots-Tag:noindex
X-PUBLISHED-TTL:PT1H
BEGIN:VTIMEZONE
TZID:America/New_York
BEGIN:DAYLIGHT
TZOFFSETFROM:-0500
TZOFFSETTO:-0400
TZNAME:EDT
DTSTART:20210314T070000
END:DAYLIGHT
BEGIN:STANDARD
TZOFFSETFROM:-0400
TZOFFSETTO:-0500
TZNAME:EST
DTSTART:20211107T060000
END:STANDARD
BEGIN:DAYLIGHT
TZOFFSETFROM:-0500
TZOFFSETTO:-0400
TZNAME:EDT
DTSTART:20220313T070000
END:DAYLIGHT
BEGIN:STANDARD
TZOFFSETFROM:-0400
TZOFFSETTO:-0500
TZNAME:EST
DTSTART:20221106T060000
END:STANDARD
BEGIN:DAYLIGHT
TZOFFSETFROM:-0500
TZOFFSETTO:-0400
TZNAME:EDT
DTSTART:20230312T070000
END:DAYLIGHT
BEGIN:STANDARD
TZOFFSETFROM:-0400
TZOFFSETTO:-0500
TZNAME:EST
DTSTART:20231105T060000
END:STANDARD
END:VTIMEZONE
BEGIN:VEVENT
DTSTART;VALUE=DATE:20220421
DTEND;VALUE=DATE:20220422
DTSTAMP:20260422T190734
CREATED:20160330T105605Z
LAST-MODIFIED:20220404T231153Z
UID:55110-1650499200-1650585599@www.greekboston.com
SUMMARY:Easter Bake Sale at St Athanasius the Great Greek Church Arlington MA
DESCRIPTION:
URL:https://www.greekboston.com/event/easter-bake-sale-arlington-ma/
LOCATION:St. Athanasius the Great Greek Orthodox Church – Arlington\, MA\, 4 Appleton St\, Arlington\, MA\, 02476\, United States
CATEGORIES:Greek Events in Boston and the New England Area
ATTACH;FMTTYPE=image/png:https://e498h76z5mp.exactdn.com/wp-content/uploads/2016/03/277680881_5717728668275893_1126202712400061986_n.png
END:VEVENT
BEGIN:VEVENT
DTSTART;VALUE=DATE:20220422
DTEND;VALUE=DATE:20220423
DTSTAMP:20260422T190735
CREATED:20170320T182357Z
LAST-MODIFIED:20220329T212007Z
UID:62068-1650585600-1650671999@www.greekboston.com
SUMMARY:Holy Friday Youth Retreat at Annunciation Cathedral
DESCRIPTION:
URL:https://www.greekboston.com/event/youth-retreat-cathedral/
LOCATION:Annunciation Cathedral of New England\, 514 Parker Street\, Boston\, MA\, 02120\, United States
CATEGORIES:Greek Events in Boston and the New England Area
ATTACH;FMTTYPE=image/png:https://e498h76z5mp.exactdn.com/wp-content/uploads/2017/03/Holy-Friday-Retreat-_2_.png
END:VEVENT
BEGIN:VEVENT
DTSTART;VALUE=DATE:20220424
DTEND;VALUE=DATE:20220425
DTSTAMP:20260422T190735
CREATED:20220314T215358Z
LAST-MODIFIED:20220421T205153Z
UID:88573-1650758400-1650844799@www.greekboston.com
SUMMARY:Aiolikos Greek Soccer Game in Lowell MA
DESCRIPTION:
URL:https://www.greekboston.com/event/aiolikos-soccer-game-lowell-ma/
LOCATION:Cawley Memorial Stadium\, 424 Douglas Rd\, Lowell\, MA\, 01852\, United States
CATEGORIES:Greek Events in Boston and the New England Area
ATTACH;FMTTYPE=image/jpeg:https://e498h76z5mp.exactdn.com/wp-content/uploads/2022/03/NJAlliance-Home-1.jpg
END:VEVENT
BEGIN:VEVENT
DTSTART;VALUE=DATE:20220427
DTEND;VALUE=DATE:20220428
DTSTAMP:20260422T190735
CREATED:20220420T193422Z
LAST-MODIFIED:20220420T193509Z
UID:88716-1651017600-1651103999@www.greekboston.com
SUMMARY:Food\, Energy and Finance:  In the Age of Pandemic\, War and Walled Globalization
DESCRIPTION:
URL:https://www.greekboston.com/event/food-energy-finance-emmanuel-college/
LOCATION:Emmanuel College\, 400 Fenway\, Boston\, ME\, 02115\, United States
CATEGORIES:Greek Events in Boston and the New England Area
ATTACH;FMTTYPE=image/jpeg:https://e498h76z5mp.exactdn.com/wp-content/uploads/2022/04/278941414_10100459871531014_1969330692122888126_n.jpeg
END:VEVENT
BEGIN:VEVENT
DTSTART;VALUE=DATE:20220427
DTEND;VALUE=DATE:20220428
DTSTAMP:20260422T190735
CREATED:20150904T112536Z
LAST-MODIFIED:20220411T181148Z
UID:50871-1651017600-1651103999@www.greekboston.com
SUMMARY:Spring Celebration Dinner by the St. Val’s Men’s Club Peabody MA
DESCRIPTION:
URL:https://www.greekboston.com/event/dinner-peabody-ma/
LOCATION:Saint Vasilios Greek Orthodox Church\, 5 Paleologos Street\, Peabody\, MA\, 01960\, United States
CATEGORIES:Greek Events in Boston and the New England Area
ATTACH;FMTTYPE=image/png:https://e498h76z5mp.exactdn.com/wp-content/uploads/2015/09/278209804_2327667734039477_5312989604081324287_n.png
END:VEVENT
BEGIN:VEVENT
DTSTART;VALUE=DATE:20220428
DTEND;VALUE=DATE:20220429
DTSTAMP:20260422T190735
CREATED:20220411T182057Z
LAST-MODIFIED:20240417T174309Z
UID:88682-1651104000-1651190399@www.greekboston.com
SUMMARY:Easter Bake Sale at St John the Baptist Greek Church Boston MA
DESCRIPTION:
URL:https://www.greekboston.com/event/easter-bake-sale-st-john-baptist/
LOCATION:St. John the Baptist Hellenic Orthodox Church – Boston\, MA\, 15 Union Park Street\, Boston\, MA\, 02118\, United States
CATEGORIES:Greek Events in Boston and the New England Area
ATTACH;FMTTYPE=image/jpeg:https://e498h76z5mp.exactdn.com/wp-content/uploads/2022/04/437790690_554057837490_151232226066069605_n.jpg
END:VEVENT
BEGIN:VEVENT
DTSTART;VALUE=DATE:20220428
DTEND;VALUE=DATE:20220429
DTSTAMP:20260422T190735
CREATED:20220426T141459Z
LAST-MODIFIED:20220426T141459Z
UID:88736-1651104000-1651190399@www.greekboston.com
SUMMARY:Public Lecture on The Body as Ritual Space: St. Maximos the Confessor and the Architecture of Deification
DESCRIPTION:Public Lecture on The Body as Ritual Space: St. Maximos the Confessor and the Architecture of Deification\nThe Pappas Patristic Institute at HCHC invites you to a public lecture on Thursday\, April 28\, 2022 at 7PM at the Maliotis Cultural Center to inaugurate the 2022 Colloquium on the Mystagogy of St Maximos the Confessor.\nIn this lecture\, Fr Maximos Constas will explore St. Maximos’s commentary on the Divine Liturgy known as the Mystagogy\, with special attention to the way in which the liturgical space of the church is mapped onto the interior space of the soul in a reciprocal exchange of sacred architecture and the body. Fr. Maximos Constas is Director of the Pappas Patristic Institute and Professor of Patristics and Orthodox Spirituality at Holy Cross Greek Orthodox School of Theology.\nFree and Open to the Public. Reception to follow at the Maliotis Cultural Center. Please register in advance to ensure your seat.
URL:https://www.greekboston.com/event/public-lecture-ritual-space-st-maximos/
LOCATION:Maliotis Cultural Center\, 50 Goddard Avenue\, Brookline\, MA\, 02130\, United States
CATEGORIES:Greek Events in Boston and the New England Area
ATTACH;FMTTYPE=image/jpeg:https://e498h76z5mp.exactdn.com/wp-content/uploads/2022/04/278648790_367448988766178_2554863297609710176_n.jpeg
END:VEVENT
BEGIN:VEVENT
DTSTART;VALUE=DATE:20220430
DTEND;VALUE=DATE:20220501
DTSTAMP:20260422T190735
CREATED:20210621T183310Z
LAST-MODIFIED:20220422T203515Z
UID:86724-1651276800-1651363199@www.greekboston.com
SUMMARY:Revma Live Greek Music in Lowell MA
DESCRIPTION:
URL:https://www.greekboston.com/event/revma-live-lowell-ma/
LOCATION:MA
CATEGORIES:Greek Events in Boston and the New England Area
ATTACH;FMTTYPE=image/jpeg:https://e498h76z5mp.exactdn.com/wp-content/uploads/2021/06/0001-8-scaled.jpg
END:VEVENT
BEGIN:VEVENT
DTSTART;VALUE=DATE:20220501
DTEND;VALUE=DATE:20220502
DTSTAMP:20260422T190735
CREATED:20220418T182439Z
LAST-MODIFIED:20220418T182439Z
UID:88691-1651363200-1651449599@www.greekboston.com
SUMMARY:Lament from Epirus Event in Worcester MA
DESCRIPTION:
URL:https://www.greekboston.com/event/lament-from-epirus-worcester-ma/
LOCATION:St. Spyridon Greek Orthodox Cathedral – Worcester\, 102 Russell Street\, Worcester\, MA\, 01609\, United States
CATEGORIES:Greek Events in Boston and the New England Area
ATTACH;FMTTYPE=image/jpeg:https://e498h76z5mp.exactdn.com/wp-content/uploads/2022/04/0001-7-scaled.jpg
END:VEVENT
BEGIN:VEVENT
DTSTART;VALUE=DATE:20220501
DTEND;VALUE=DATE:20220502
DTSTAMP:20260422T190735
CREATED:20220426T140813Z
LAST-MODIFIED:20220426T142215Z
UID:88732-1651363200-1651449599@www.greekboston.com
SUMMARY:Hellenic Mixer College Event at Northeastern University
DESCRIPTION:Join us May 1st for a Greek BBQ that BU\, Northeastern\, MIT\, Harvard\, and BC are co-hosting at Stetson East Quad at Northeastern from 3-7pm.\nEvent includes : Greek food\, Greek music\, and Greek dancing\nIf you would like to join us for the parade on the same day\, meet us outside of the Prudential Center at 12:30!\nEntrance fee for BU students : $8\nEntrance fee for non BU students : $15\n\nUse this link to sign up : https://docs.google.com/…/1gfQxpLtrRmLXzYtFr7eEsam…/edit\n\nSee you on Sunday !
URL:https://www.greekboston.com/event/hellenic-mixer-college/
LOCATION:Stetson Hall East\, 11 Speare Pl\, Boston\, MA\, 02115\, United States
CATEGORIES:Greek Events in Boston and the New England Area
ATTACH;FMTTYPE=image/jpeg:https://e498h76z5mp.exactdn.com/wp-content/uploads/2022/04/278572715_3138644146453350_1588706971918590310_n.jpeg
END:VEVENT
BEGIN:VEVENT
DTSTART;VALUE=DATE:20220501
DTEND;VALUE=DATE:20220502
DTSTAMP:20260422T190735
CREATED:20220405T175723Z
LAST-MODIFIED:20220405T175734Z
UID:88652-1651363200-1651449599@www.greekboston.com
SUMMARY:Greek Comedy Night in Newport RI
DESCRIPTION:
URL:https://www.greekboston.com/event/comedy-night-newport-ri/
LOCATION:St. Spyridon Greek Orthodox Church – Newport\, RI\, Thames Street\, Newport\, RI\, 02840\, United States
CATEGORIES:Greek Events in Boston and the New England Area
ATTACH;FMTTYPE=image/jpeg:https://e498h76z5mp.exactdn.com/wp-content/uploads/2022/04/philoptochos-comedy-night-may-1-scaled.jpg
END:VEVENT
BEGIN:VEVENT
DTSTART;VALUE=DATE:20220505
DTEND;VALUE=DATE:20220506
DTSTAMP:20260422T190735
CREATED:20220411T182738Z
LAST-MODIFIED:20220411T182738Z
UID:88687-1651708800-1651795199@www.greekboston.com
SUMMARY:Paint and Sip Night at Transfiguration Greek Church Lowell MA
DESCRIPTION:
URL:https://www.greekboston.com/event/paint-sip-night-lowell-ma/
LOCATION:Transfiguration Greek Orthodox Church – Lowell\, MA\, 25 Fr. John Sarantos Way\, Lowell\, 01854\, United States
CATEGORIES:Greek Events in Boston and the New England Area
ATTACH;FMTTYPE=image/jpeg:https://e498h76z5mp.exactdn.com/wp-content/uploads/2022/04/277568505_5601798029849376_2460864408648018973_n.jpeg
END:VEVENT
BEGIN:VEVENT
DTSTART;VALUE=DATE:20220507
DTEND;VALUE=DATE:20220508
DTSTAMP:20260422T190735
CREATED:20170617T164526Z
LAST-MODIFIED:20220323T165354Z
UID:64541-1651881600-1651967999@www.greekboston.com
SUMMARY:Vasilis Karras Live Concert Show
DESCRIPTION:
URL:https://www.greekboston.com/event/vasilis-karras/
LOCATION:Annunciation Greek Orthodox Church – Cranston\, RI\, 175 Oaklawn Avenue\, Cranston\, RI\, 02920\, United States
CATEGORIES:Greek Events in Boston and the New England Area
ATTACH;FMTTYPE=image/jpeg:https://e498h76z5mp.exactdn.com/wp-content/uploads/2017/06/c971aa8a-ac60-71e7-4fc1-6ab040b6533a.jpeg
END:VEVENT
BEGIN:VEVENT
DTSTART;VALUE=DATE:20220508
DTEND;VALUE=DATE:20220509
DTSTAMP:20260422T190735
CREATED:20220418T182744Z
LAST-MODIFIED:20220418T182744Z
UID:88694-1651968000-1652054399@www.greekboston.com
SUMMARY:Kostas Safetis Greek Concert in Manchester NH
DESCRIPTION:
URL:https://www.greekboston.com/event/kostas-safetis-concert-manchester-nh/
LOCATION:Pericles Democratic Club of Nh\, 123 Spruce Street\, Manchester\, NH\, 03103\, United States
CATEGORIES:Greek Events in Boston and the New England Area
ATTACH;FMTTYPE=image/jpeg:https://e498h76z5mp.exactdn.com/wp-content/uploads/2022/04/image0-5.jpeg
END:VEVENT
BEGIN:VEVENT
DTSTART;VALUE=DATE:20220515
DTEND;VALUE=DATE:20220516
DTSTAMP:20260422T190735
CREATED:20220502T192937Z
LAST-MODIFIED:20220502T192937Z
UID:88765-1652572800-1652659199@www.greekboston.com
SUMMARY:Kostas Safetis Greek Concert in Beverly MA
DESCRIPTION:
URL:https://www.greekboston.com/event/kostas-safetis-beverly-ma/
LOCATION:Greg’s Tavern\, 208 Rantoul Street\, Beverly\, MA 01915\, MA\, United States
CATEGORIES:Greek Events in Boston and the New England Area
ATTACH;FMTTYPE=image/jpeg:https://e498h76z5mp.exactdn.com/wp-content/uploads/2022/05/scaled_768.jpeg
END:VEVENT
BEGIN:VEVENT
DTSTART;VALUE=DATE:20220521
DTEND;VALUE=DATE:20220522
DTSTAMP:20260422T190735
CREATED:20220512T223119Z
LAST-MODIFIED:20220512T223119Z
UID:88813-1653091200-1653177599@www.greekboston.com
SUMMARY:Dinner Dance at St Luke Greek Church East Longmeadow MA
DESCRIPTION:
URL:https://www.greekboston.com/event/dinner-dance-east-longmeadow-ma/
LOCATION:Greek Orthodox Church of St Luke East Longmeadow MA\, 400 Prospect Street\, East Longmeadow\, MA 01028-3154\, MA\, 01028-3154\, United States
CATEGORIES:Greek Events in Boston and the New England Area
ATTACH;FMTTYPE=image/jpeg:https://e498h76z5mp.exactdn.com/wp-content/uploads/2022/05/280642548_7676403919044195_2128246586192099310_n.jpeg
END:VEVENT
BEGIN:VEVENT
DTSTART;VALUE=DATE:20220522
DTEND;VALUE=DATE:20220523
DTSTAMP:20260422T190735
CREATED:20220420T191441Z
LAST-MODIFIED:20220420T191441Z
UID:88714-1653177600-1653263999@www.greekboston.com
SUMMARY:Ground Breaking Ceremony at Dormition of the Virgin Mary Greek Church Somerville MA
DESCRIPTION:
URL:https://www.greekboston.com/event/ground-breaking-ceremony-somerville-ma/
LOCATION:Dormition of the Virgin Mary Greek Orthodox Church\, 29 Central Street\, Somerville\, MA\, 02143\, United States
CATEGORIES:Greek Events in Boston and the New England Area
ATTACH;FMTTYPE=image/jpeg:https://e498h76z5mp.exactdn.com/wp-content/uploads/2022/04/278824380_7940411822651158_4394181600294730824_n.jpeg
END:VEVENT
BEGIN:VEVENT
DTSTART;VALUE=DATE:20220522
DTEND;VALUE=DATE:20220523
DTSTAMP:20260422T190735
CREATED:20220513T204059Z
LAST-MODIFIED:20220513T204059Z
UID:88817-1653177600-1653263999@www.greekboston.com
SUMMARY:The 1941 Battle of Crete Memorial Service and Luncheon
DESCRIPTION:
URL:https://www.greekboston.com/event/battle-crete-memorial-luncheon/
LOCATION:Cretan Club Springfield MA\, 35 Carew Street\, Springfield\, MA\, 01104\, United States
CATEGORIES:Greek Events in Boston and the New England Area
ATTACH;FMTTYPE=image/jpeg:https://e498h76z5mp.exactdn.com/wp-content/uploads/2022/05/280065293_5461017530575986_236584392333114477_n.jpeg
END:VEVENT
BEGIN:VEVENT
DTSTART;VALUE=DATE:20220601
DTEND;VALUE=DATE:20220602
DTSTAMP:20260422T190735
CREATED:20140531T154213Z
LAST-MODIFIED:20220408T165046Z
UID:39661-1654041600-1654127999@www.greekboston.com
SUMMARY:Anna Vissi Live Show in Boston MA
DESCRIPTION:
URL:https://www.greekboston.com/event/anna-vissi-show/
LOCATION:Royale Boston Nightclub\, 279 Tremont Street\, Boston\, MA\, 02116\, United States
CATEGORIES:Greek Events in Boston and the New England Area
ATTACH;FMTTYPE=image/jpeg:https://e498h76z5mp.exactdn.com/wp-content/uploads/2014/05/278077019_4949032778539138_2802926117405244721_n.jpeg
END:VEVENT
BEGIN:VEVENT
DTSTART;VALUE=DATE:20220604
DTEND;VALUE=DATE:20220605
DTSTAMP:20260422T190735
CREATED:20220516T133422Z
LAST-MODIFIED:20220516T133422Z
UID:88821-1654300800-1654387199@www.greekboston.com
SUMMARY:Blessing of the Bikes at Greek Church of St Luke East Longmeadow MA
DESCRIPTION:
URL:https://www.greekboston.com/event/blessing-bikes-east-longmeadow-ma/
LOCATION:Greek Orthodox Church of St Luke East Longmeadow MA\, 400 Prospect Street\, East Longmeadow\, MA 01028-3154\, MA\, 01028-3154\, United States
CATEGORIES:Greek Events in Boston and the New England Area
ATTACH;FMTTYPE=image/jpeg:https://e498h76z5mp.exactdn.com/wp-content/uploads/2022/05/280534309_7698365103514743_939757504755942762_n.jpeg
END:VEVENT
BEGIN:VEVENT
DTSTART;VALUE=DATE:20220605
DTEND;VALUE=DATE:20220606
DTSTAMP:20260422T190735
CREATED:20190525T121051Z
LAST-MODIFIED:20220512T223425Z
UID:77323-1654387200-1654473599@www.greekboston.com
SUMMARY:Car Wash at Sts. Constantine & Helen Greek Church Andover MA
DESCRIPTION:
URL:https://www.greekboston.com/event/car-wash-andover-ma/
LOCATION:Sts Constantine and Helen Greek Orthodox Church – Andover\, MA\, 71 Chandler Road\, Andover\, MA\, 01810\, United States
CATEGORIES:Greek Events in Boston and the New England Area
ATTACH;FMTTYPE=image/png:https://e498h76z5mp.exactdn.com/wp-content/uploads/2019/05/280314769_5697491460264328_3502383420491891356_n.png
END:VEVENT
BEGIN:VEVENT
DTSTART;VALUE=DATE:20220609
DTEND;VALUE=DATE:20220610
DTSTAMP:20260422T190735
CREATED:20220510T191201Z
LAST-MODIFIED:20220510T191240Z
UID:88805-1654732800-1654819199@www.greekboston.com
SUMMARY:REMEMBERING THANASSI featuring the Vasilis Kostas Trio in Cambridge MA
DESCRIPTION:
URL:https://www.greekboston.com/event/remembering-thanassi-cambridge-ma/
LOCATION:First Church in Cambridge\, 11 Garden Street\, Cambridge\, MA\, 02138\, United States
CATEGORIES:Greek Events in Boston and the New England Area
ATTACH;FMTTYPE=image/jpeg:https://e498h76z5mp.exactdn.com/wp-content/uploads/2022/05/280533215_10160281036979529_4957505140481602613_n.jpeg
END:VEVENT
BEGIN:VEVENT
DTSTART;VALUE=DATE:20220609
DTEND;VALUE=DATE:20220610
DTSTAMP:20260422T190735
CREATED:20220603T202839Z
LAST-MODIFIED:20220603T202839Z
UID:88903-1654732800-1654819199@www.greekboston.com
SUMMARY:Dine for Dough Event in Lowell MA
DESCRIPTION:
URL:https://www.greekboston.com/event/dine-dough-lowell-ma/
LOCATION:Athenian Corner Restaurant Lowell MA\, 207 Market Street\, Lowell\, 01852\, United States
CATEGORIES:Greek Events in Boston and the New England Area
ATTACH;FMTTYPE=image/jpeg:https://e498h76z5mp.exactdn.com/wp-content/uploads/2022/06/284727344_10158939928445098_1986105195976122312_n.jpeg
END:VEVENT
BEGIN:VEVENT
DTSTART;VALUE=DATE:20220611
DTEND;VALUE=DATE:20220612
DTSTAMP:20260422T190735
CREATED:20220404T222913Z
LAST-MODIFIED:20220502T200454Z
UID:88637-1654905600-1654991999@www.greekboston.com
SUMMARY:Greek Comedy Night at Annunciation Greek Church of Woburn\, MA
DESCRIPTION:
URL:https://www.greekboston.com/event/comedy-night-woburn-ma/
LOCATION:Annunciation of The Virgin Mary Greek Orthodox Church  – Woburn\, MA\, 70 Montvale Avenue \, Woburn\, MA\, 01801 \, United States
CATEGORIES:Greek Events in Boston and the New England Area
ATTACH;FMTTYPE=image/png:https://e498h76z5mp.exactdn.com/wp-content/uploads/2022/04/1a826917-431a-42a3-a4c8-4213bc47e801.png
END:VEVENT
BEGIN:VEVENT
DTSTART;VALUE=DATE:20220612
DTEND;VALUE=DATE:20220613
DTSTAMP:20260422T190735
CREATED:20220519T144754Z
LAST-MODIFIED:20220519T144754Z
UID:88853-1654992000-1655078399@www.greekboston.com
SUMMARY:Young Adult Greek Night Out in Foxborough MA
DESCRIPTION:
URL:https://www.greekboston.com/event/night-out-foxborough-ma/
LOCATION:Gillette Stadium\, 1 Patriot Place\, Foxborough\, MA\, 02035\, United States
CATEGORIES:Greek Events in Boston and the New England Area
ATTACH;FMTTYPE=image/jpeg:https://e498h76z5mp.exactdn.com/wp-content/uploads/2022/05/283006389_5110875522331220_7460938678584063409_n.jpeg
END:VEVENT
BEGIN:VEVENT
DTSTART;VALUE=DATE:20220612
DTEND;VALUE=DATE:20220613
DTSTAMP:20260422T190735
CREATED:20220607T212300Z
LAST-MODIFIED:20220607T212300Z
UID:88912-1654992000-1655078399@www.greekboston.com
SUMMARY:Parish Cookout at Sts. Constantine & Helen Greek Church Andover MA
DESCRIPTION:
URL:https://www.greekboston.com/event/parish-cookout-andover-ma/
LOCATION:Sts Constantine and Helen Greek Orthodox Church – Andover\, MA\, 71 Chandler Road\, Andover\, MA\, 01810\, United States
CATEGORIES:Greek Events in Boston and the New England Area
ATTACH;FMTTYPE=image/jpeg:https://e498h76z5mp.exactdn.com/wp-content/uploads/2022/06/286199883_5785472684799538_6210612571733278578_n.jpeg
END:VEVENT
BEGIN:VEVENT
DTSTART;TZID=America/New_York:20220612T173000
DTEND;TZID=America/New_York:20220612T220000
DTSTAMP:20260422T190735
CREATED:20150503T115419Z
LAST-MODIFIED:20220610T210938Z
UID:47799-1655055000-1655071200@www.greekboston.com
SUMMARY:Annual Metropolis of Boston Ministry Awards
DESCRIPTION:
URL:https://www.greekboston.com/event/metropolis-ministry-awards/
LOCATION:Gillette Stadium\, 1 Patriot Place\, Foxborough\, MA\, 02035\, United States
CATEGORIES:Greek Events in Boston and the New England Area
ATTACH;FMTTYPE=image/png:https://e498h76z5mp.exactdn.com/wp-content/uploads/2015/05/Awards-Dinner-Metropolis.png
END:VEVENT
BEGIN:VEVENT
DTSTART;TZID=America/New_York:20220617T150000
DTEND;TZID=America/New_York:20220619T210000
DTSTAMP:20260422T190735
CREATED:20140421T211901Z
LAST-MODIFIED:20220314T211418Z
UID:38613-1655478000-1655672400@www.greekboston.com
SUMMARY:Annual Youth Festival from Pontiaki Estia
DESCRIPTION:
URL:https://www.greekboston.com/event/festival-pontiaki-estia-massachusetts/
LOCATION:Sea Crest Beach Hotel\, 350 Quaker Rd\, North Falmouth\, MA\, 02556\, United States
CATEGORIES:Greek Events in Boston and the New England Area
ATTACH;FMTTYPE=image/jpeg:https://e498h76z5mp.exactdn.com/wp-content/uploads/2014/04/275604737_1857916221265463_3125300143277553132_n.jpeg
END:VEVENT
BEGIN:VEVENT
DTSTART;VALUE=DATE:20220630
DTEND;VALUE=DATE:20220702
DTSTAMP:20260422T190735
CREATED:20190627T225917Z
LAST-MODIFIED:20220625T210439Z
UID:77699-1656547200-1656719999@www.greekboston.com
SUMMARY:Live Greek Music in Salem MA
DESCRIPTION:Thursday June 30\nLive Music Finale of the culture House Pop=up series\nSalem Old Town Hall\n32 Derby Square\, Salem\, MA\n3-4 Dance instruction with Joseph Kaloyanides Graziosi\n4-6 Music show by Tactical Bouzouki\nFree and Open to the Public\nhttps://culturehouse.cc/wp-event/tactical-zoubouki-performance/\nwww.tacticalbououki.com
URL:https://www.greekboston.com/event/music-salem-ma/
LOCATION:Salem Old Town Hall\, 32 Derby Square\, Salem\, MA\, 01970\, United States
CATEGORIES:Greek Events in Boston and the New England Area
ATTACH;FMTTYPE=image/jpeg:https://e498h76z5mp.exactdn.com/wp-content/uploads/2019/06/TacticalB-June-30-22-Salem-JPEG-1.jpg
END:VEVENT
BEGIN:VEVENT
DTSTART;VALUE=DATE:20220708
DTEND;VALUE=DATE:20220709
DTSTAMP:20260422T190735
CREATED:20151116T002652Z
LAST-MODIFIED:20220603T204411Z
UID:51828-1657238400-1657324799@www.greekboston.com
SUMMARY:Greek Music Night in Watertown MA
DESCRIPTION:
URL:https://www.greekboston.com/event/music-night-watertown-ma/
LOCATION:Andrea’s House of Pizza\, 620 Mount Auburn Street\, Watertown\, MA\, 02472\, United States
CATEGORIES:Greek Events in Boston and the New England Area
ATTACH;FMTTYPE=image/jpeg:https://e498h76z5mp.exactdn.com/wp-content/uploads/2015/11/Andreas-July-8-2022-pptx-scaled.jpg
END:VEVENT
END:VCALENDAR