BEGIN:VCALENDAR
VERSION:2.0
PRODID:-// - ECPv6.15.20//NONSGML v1.0//EN
CALSCALE:GREGORIAN
METHOD:PUBLISH
X-ORIGINAL-URL:https://www.greekboston.com
X-WR-CALDESC:Events for 
REFRESH-INTERVAL;VALUE=DURATION:PT1H
X-Robots-Tag:noindex
X-PUBLISHED-TTL:PT1H
BEGIN:VTIMEZONE
TZID:America/New_York
BEGIN:DAYLIGHT
TZOFFSETFROM:-0500
TZOFFSETTO:-0400
TZNAME:EDT
DTSTART:20210314T070000
END:DAYLIGHT
BEGIN:STANDARD
TZOFFSETFROM:-0400
TZOFFSETTO:-0500
TZNAME:EST
DTSTART:20211107T060000
END:STANDARD
BEGIN:DAYLIGHT
TZOFFSETFROM:-0500
TZOFFSETTO:-0400
TZNAME:EDT
DTSTART:20220313T070000
END:DAYLIGHT
BEGIN:STANDARD
TZOFFSETFROM:-0400
TZOFFSETTO:-0500
TZNAME:EST
DTSTART:20221106T060000
END:STANDARD
BEGIN:DAYLIGHT
TZOFFSETFROM:-0500
TZOFFSETTO:-0400
TZNAME:EDT
DTSTART:20230312T070000
END:DAYLIGHT
BEGIN:STANDARD
TZOFFSETFROM:-0400
TZOFFSETTO:-0500
TZNAME:EST
DTSTART:20231105T060000
END:STANDARD
END:VTIMEZONE
BEGIN:VEVENT
DTSTART;VALUE=DATE:20220910
DTEND;VALUE=DATE:20220911
DTSTAMP:20260423T022239
CREATED:20220829T191649Z
LAST-MODIFIED:20220829T191649Z
UID:89145-1662768000-1662854399@www.greekboston.com
SUMMARY:Museum of Russian Orthodox Icons Trip for Sts. Constantine and Helen Church Greek Church
DESCRIPTION:
URL:https://www.greekboston.com/event/museum-russian-icons-trip/
LOCATION:Saints Constantine and Helen Greek Orthodox Church – Cambridge\, MA\, 14 Magazine Street\, Cambridge\, MA\, 02139\, United States
CATEGORIES:Greek Events in Boston and the New England Area
ATTACH;FMTTYPE=image/jpeg:https://e498h76z5mp.exactdn.com/wp-content/uploads/2022/08/301162396_1251957085657383_4464914316177507678_n.jpeg
END:VEVENT
BEGIN:VEVENT
DTSTART;VALUE=DATE:20220911
DTEND;VALUE=DATE:20220912
DTSTAMP:20260423T022239
CREATED:20220823T174034Z
LAST-MODIFIED:20220823T174034Z
UID:89119-1662854400-1662940799@www.greekboston.com
SUMMARY:Welcome Back Event at Annunciation Greek Church Brockton MA
DESCRIPTION:
URL:https://www.greekboston.com/event/welcome-back-brockton-ma/
LOCATION:Annunciation Greek Orthodox Church – Brockton\, MA\, 457 Oak Street\, Brockton\, MA\, 02401\, United States
CATEGORIES:Greek Events in Boston and the New England Area
ATTACH;FMTTYPE=image/jpeg:https://e498h76z5mp.exactdn.com/wp-content/uploads/2022/08/301030078_10158605113981436_2271512319424460561_n.jpeg
END:VEVENT
BEGIN:VEVENT
DTSTART;VALUE=DATE:20220912
DTEND;VALUE=DATE:20220913
DTSTAMP:20260423T022239
CREATED:20220616T200506Z
LAST-MODIFIED:20220616T200523Z
UID:88940-1662940800-1663027199@www.greekboston.com
SUMMARY:AHEPA Chapter 215 Charity Golf Tournament
DESCRIPTION:
URL:https://www.greekboston.com/event/ahepa-golf-tournament/
LOCATION:The Links at Outlook – Berwick\, ME\, 310 Portland Street\, Berwick\, ME\, 03901\, United States
CATEGORIES:Greek Events in Boston and the New England Area
ATTACH;FMTTYPE=image/jpeg:https://e498h76z5mp.exactdn.com/wp-content/uploads/2022/06/AhepaGolfTournament2022_proof-page-001.jpg
END:VEVENT
BEGIN:VEVENT
DTSTART;VALUE=DATE:20220913
DTEND;VALUE=DATE:20220914
DTSTAMP:20260423T022239
CREATED:20220808T195631Z
LAST-MODIFIED:20220808T195649Z
UID:89062-1663027200-1663113599@www.greekboston.com
SUMMARY:AN EXHIBITION Mount Athos: The Ark of Orthodoxy in Brookline MA
DESCRIPTION:
URL:https://www.greekboston.com/event/exhibition-mount-athos-brookline-ma/
LOCATION:Maliotis Cultural Center\, 50 Goddard Avenue\, Brookline\, MA\, 02130\, United States
CATEGORIES:Greek Events in Boston and the New England Area
ATTACH;FMTTYPE=image/jpeg:https://e498h76z5mp.exactdn.com/wp-content/uploads/2022/08/Athos-Exhibition-Flyer_MAFA_AE_Maliotis-Center_13Sept22-scaled.jpg
END:VEVENT
BEGIN:VEVENT
DTSTART;VALUE=DATE:20220916
DTEND;VALUE=DATE:20220917
DTSTAMP:20260423T022239
CREATED:20220907T221730Z
LAST-MODIFIED:20220907T221730Z
UID:89176-1663286400-1663372799@www.greekboston.com
SUMMARY:Back to Sunday School Movie Night at Sts. Constantine & Helen Greek Church Andover MA
DESCRIPTION:
URL:https://www.greekboston.com/event/school-movie-night-andover-ma/
LOCATION:Sts Constantine and Helen Greek Orthodox Church – Andover\, MA\, 71 Chandler Road\, Andover\, MA\, 01810\, United States
CATEGORIES:Greek Events in Boston and the New England Area
ATTACH;FMTTYPE=image/jpeg:https://e498h76z5mp.exactdn.com/wp-content/uploads/2022/09/305476621_6043685945644876_138995266083360489_n.jpeg
END:VEVENT
BEGIN:VEVENT
DTSTART;VALUE=DATE:20220924
DTEND;VALUE=DATE:20220925
DTSTAMP:20260423T022239
CREATED:20140814T175749Z
LAST-MODIFIED:20220823T174320Z
UID:41884-1663977600-1664063999@www.greekboston.com
SUMMARY:Taverna Greek Night in Nashua NH
DESCRIPTION:
URL:https://www.greekboston.com/event/taverna-nashua-nh/
LOCATION:St. Philip Greek Orthodox Church – Nashua\, NH\, 500 West Hollis Street\, Nashua\, NH\, 03062\, United States
CATEGORIES:Greek Events in Boston and the New England Area
ATTACH;FMTTYPE=image/jpeg:https://e498h76z5mp.exactdn.com/wp-content/uploads/2014/08/299733558_7951910681546850_7415261059364000308_n.jpeg
END:VEVENT
BEGIN:VEVENT
DTSTART;VALUE=DATE:20220927
DTEND;VALUE=DATE:20220928
DTSTAMP:20260423T022239
CREATED:20220923T192136Z
LAST-MODIFIED:20220923T192136Z
UID:89232-1664236800-1664323199@www.greekboston.com
SUMMARY:Parish Movie Night at St. Philip Greek Church Nashua NH
DESCRIPTION:
URL:https://www.greekboston.com/event/movie-night-nashua-nh/
LOCATION:St. Philip Greek Orthodox Church – Nashua\, NH\, 500 West Hollis Street\, Nashua\, NH\, 03062\, United States
CATEGORIES:Greek Events in Boston and the New England Area
ATTACH;FMTTYPE=image/png:https://e498h76z5mp.exactdn.com/wp-content/uploads/2022/09/307691745_8090161561055094_4478304377987888166_n.png
END:VEVENT
BEGIN:VEVENT
DTSTART;VALUE=DATE:20220928
DTEND;VALUE=DATE:20220929
DTSTAMP:20260423T022239
CREATED:20220914T221149Z
LAST-MODIFIED:20220927T190006Z
UID:89195-1664323200-1664409599@www.greekboston.com
SUMMARY:Movie Screening:  Director's Cut of Lethal Nationalism: Genocide of the Greeks
DESCRIPTION:Join HAWC to commemorate the Centennial of the Great Fire of Smyrna in a screening of the film Lethal Nationalism: Genocide of the Greeks.\nAbout this event\nScreening Director’s Cut of Lethal Nationalism: Genocide of the Greeks image\nThe Hellenic American Women’s Council\nNew England Region Invites You to\nThe Screening of the Director’s Cut of\nLethal Nationalism: Genocide of the Greeks\nSeptember 28\, 2022 at 7:00 p.m.\nMaliotis Cultural Center Brookline\, MA\nAdmission is free. Please RSVP.\nWine reception after the film.\nTHANK YOU TO OUR PARTNER ORGANIZATIONS\nConsulate General of Greece in Boston\nHellenic College Holy Cross\nMaliotis Cultural Center\n﻿ \nREGISTER FOR THE EVENT ON THE LINK BELOW:\nhttps://www.eventbrite.com/e/screening-directors-cut-of-lethal-nationalism-genocide-of-the-greeks-tickets-410253759037\nBRIEF HISTORY OF THE SMYRNA FIRE\nFor thousands of years\, Smyrna was the wealthiest of cities located today on Turkey’sAegean coast\, an elegant\, cosmopolitan city where Greeks\, Armenians\, Turks\, Jews\, and others lived and worked together – a city known for religious tolerance. But after the “Young Turks Revolution” and the creation of a Nationalist government in 1919\, a lethal campaign calling for the destruction and brutal persecution of the Christians of Asia Minor\, Pontos\, and East Thrace began.\nThe Great Fire of Smyrna (Καταστροφή της Σμύρνης) started on September 13\, 1922\, after the Turkish armed forces entered Smyrna\, a deliberate act by the Turkish government to destroy or expel the Greeks and any other Christian population. The entire Greek and Armenian quarters of the city were destroyed\, forcing the population to flee and seek shelter in Greece and elsewhere. Historians believe that the number of victims was in the tens of thousands\, while the number of refugees was over a million. Thousands of Greek and Armenian men were subsequently deported into the interior of Anatolia\, where many died in harsh and brutal conditions. After the Smyrna Catastrophe the Hellenic city founded over 3\,000 years before\, a jewel of the Eastern Mediterranean\, ceased to have a Hellenic community.
URL:https://www.greekboston.com/event/movie-screening-lethal-nationalism-genocide/
LOCATION:Maliotis Cultural Center\, 50 Goddard Avenue\, Brookline\, MA\, 02130\, United States
CATEGORIES:Greek Events in Boston and the New England Area
ATTACH;FMTTYPE=image/jpeg:https://e498h76z5mp.exactdn.com/wp-content/uploads/2022/09/thumbnail-1.jpg
END:VEVENT
BEGIN:VEVENT
DTSTART;VALUE=DATE:20221001
DTEND;VALUE=DATE:20221002
DTSTAMP:20260423T022239
CREATED:20220919T211845Z
LAST-MODIFIED:20220919T211845Z
UID:89220-1664582400-1664668799@www.greekboston.com
SUMMARY:Pasta Dinner Fundraiser at St. Nicholas Greek Orthodox Church Manchester NH
DESCRIPTION:
URL:https://www.greekboston.com/event/pasta-dinner-fundraiser-manchester-nh/
LOCATION:St. Nicholas Greek Orthodox Church Manchester NH\, 1160 Bridge Street\, Manchester\, NH\, 03104\, United States
CATEGORIES:Greek Events in Boston and the New England Area
ATTACH;FMTTYPE=image/jpeg:https://e498h76z5mp.exactdn.com/wp-content/uploads/2022/09/305666899_5385432794844967_7510887662370615446_n.jpeg
END:VEVENT
BEGIN:VEVENT
DTSTART;VALUE=DATE:20221001
DTEND;VALUE=DATE:20221002
DTSTAMP:20260423T022239
CREATED:20220930T134158Z
LAST-MODIFIED:20220930T134215Z
UID:89291-1664582400-1664668799@www.greekboston.com
SUMMARY:Viron Rondo Greek Night in Cheshire CT
DESCRIPTION:
URL:https://www.greekboston.com/event/viron-rondo-night-cheshire-ct/
LOCATION:MA
CATEGORIES:Greek Events in Boston and the New England Area
ATTACH;FMTTYPE=image/jpeg:https://e498h76z5mp.exactdn.com/wp-content/uploads/2022/09/306002303_2296310710545236_8443505311809917483_n.jpeg
END:VEVENT
BEGIN:VEVENT
DTSTART;VALUE=DATE:20221002
DTEND;VALUE=DATE:20221003
DTSTAMP:20260423T022239
CREATED:20220919T212302Z
LAST-MODIFIED:20220919T212352Z
UID:89224-1664668800-1664755199@www.greekboston.com
SUMMARY:Luncheon Event by Cretan Ladies Society "Proodos" Springfield MA
DESCRIPTION:
URL:https://www.greekboston.com/event/luncheon-cretan-ladies-society-springfield-ma/
LOCATION:Cretans Association of Springfield MA\, 35 Carew Street\, Springfield\, MA\, 01104\, United States
CATEGORIES:Greek Events in Boston and the New England Area
ATTACH;FMTTYPE=image/jpeg:https://e498h76z5mp.exactdn.com/wp-content/uploads/2022/09/307742421_2359621677535126_4209597311796362089_n.jpeg
END:VEVENT
BEGIN:VEVENT
DTSTART;VALUE=DATE:20221006
DTEND;VALUE=DATE:20221008
DTSTAMP:20260423T022239
CREATED:20220928T185544Z
LAST-MODIFIED:20220928T185602Z
UID:89267-1665014400-1665187199@www.greekboston.com
SUMMARY:Conference for the Greek Orthodox Archdiocese of America at 100 Years
DESCRIPTION:
URL:https://www.greekboston.com/event/conference-orthodox-archdiocese/
LOCATION:Maliotis Cultural Center\, 50 Goddard Avenue\, Brookline\, MA\, 02130\, United States
CATEGORIES:Greek Events in Boston and the New England Area
ATTACH;FMTTYPE=image/jpeg:https://e498h76z5mp.exactdn.com/wp-content/uploads/2022/09/309013887_499340528866247_2776435084480979260_n.jpeg
END:VEVENT
BEGIN:VEVENT
DTSTART;VALUE=DATE:20221007
DTEND;VALUE=DATE:20221008
DTSTAMP:20260423T022239
CREATED:20220926T215801Z
LAST-MODIFIED:20220927T214420Z
UID:89249-1665100800-1665187199@www.greekboston.com
SUMMARY:Lynn AHEPA Chapter Cigar Night in Danvers MA
DESCRIPTION:
URL:https://www.greekboston.com/event/cigar-night-danvers-ma/
LOCATION:MA
CATEGORIES:Greek Events in Boston and the New England Area
ATTACH;FMTTYPE=image/jpeg:https://e498h76z5mp.exactdn.com/wp-content/uploads/2022/09/305929223_2005988026456219_5251017332803608063_n.jpeg
END:VEVENT
BEGIN:VEVENT
DTSTART;VALUE=DATE:20221008
DTEND;VALUE=DATE:20221009
DTSTAMP:20260423T022239
CREATED:20170104T190843Z
LAST-MODIFIED:20220915T222629Z
UID:59932-1665187200-1665273599@www.greekboston.com
SUMMARY:Fall Family Glendi Dance Andover MA
DESCRIPTION:
URL:https://www.greekboston.com/event/glendi-andover-ma/
LOCATION:Indian Ridge Country Club\, 73 Lovejoy Road\, Andover\, 01810\, United States
CATEGORIES:Greek Events in Boston and the New England Area
ATTACH;FMTTYPE=image/jpeg:https://e498h76z5mp.exactdn.com/wp-content/uploads/2017/01/306140353_745997823463773_8000892747901315528_n.jpeg
END:VEVENT
BEGIN:VEVENT
DTSTART;VALUE=DATE:20221008
DTEND;VALUE=DATE:20221009
DTSTAMP:20260423T022239
CREATED:20141003T153905Z
LAST-MODIFIED:20220928T185104Z
UID:43250-1665187200-1665273599@www.greekboston.com
SUMMARY:Live Greek Music in Roslindale MA
DESCRIPTION:Saturday\, October 8th We are waiting for you for a unique evening with Costas Theodosiadis at Pontiacas.\nHaving fun Greek 🇬🇷🇬🇷🇬🇷\nPontic\, Folk and Municipal.\nReservations: 617-959-2969 # 10:00pm
URL:https://www.greekboston.com/event/music-roslindale-ma/
LOCATION:Hellenic Soccer Club in Roslindale MA\, 47 Poplar Street\, Roslindale\, MA\, 02131\, United States
CATEGORIES:Greek Events in Boston and the New England Area
ATTACH;FMTTYPE=image/jpeg:https://e498h76z5mp.exactdn.com/wp-content/uploads/2014/10/309160975_3300141610264208_2348411558799728876_n.jpeg
END:VEVENT
BEGIN:VEVENT
DTSTART;VALUE=DATE:20221008
DTEND;VALUE=DATE:20221011
DTSTAMP:20260423T022239
CREATED:20150923T110147Z
LAST-MODIFIED:20220906T150521Z
UID:51114-1665187200-1665446399@www.greekboston.com
SUMMARY:Metropolis Camp of Boston GOYA Fall Camp
DESCRIPTION:
URL:https://www.greekboston.com/event/metropolis-goya-fall-camp/
LOCATION:Saint Methodios Faith and Heritage Center – Contoocook NH\, 329 Merrimac Road\, Contoocook\, NH\, 03229\, United States
CATEGORIES:Greek Events in Boston and the New England Area
ATTACH;FMTTYPE=image/jpeg:https://e498h76z5mp.exactdn.com/wp-content/uploads/2015/09/305520070_5236172369770907_186843827328627123_n.jpeg
END:VEVENT
BEGIN:VEVENT
DTSTART;VALUE=DATE:20221009
DTEND;VALUE=DATE:20221010
DTSTAMP:20260423T022239
CREATED:20191009T190731Z
LAST-MODIFIED:20221001T175742Z
UID:79405-1665273600-1665359999@www.greekboston.com
SUMMARY:Live Greek Music in Framingham MA
DESCRIPTION:Μia Anasa a Greek Music Band headed by Makis Emmanouilidis will perform at the Bella Costa Ristorante\, 147 Cochituate Rd.\, Framingham\, MA. Seating is limited to 50 people\, and reservations are a must by calling Paul Katsarikas at (508) 626-1728. The admission tickets are $20 per person. As always\, Paul and his staff will make available an eclectic menu of food and drinks; come to eat\, drink\, and enjoy a delightful evening with us. You don’t want to miss this!!!!!\nMakis Emmanouilidis\, tzoura\, ukulele and vocals\nYanni Mitaras\, bouzouki\nIoannis Baltopoulos\, guitar and vocals\nPeter Vorvis\, baglama\nReservations: Paul Katsarikas at (508) 626-1728
URL:https://www.greekboston.com/event/music-framingham-ma/
LOCATION:Bella Costa Ristorante – Framingham MA\, 147 Cochituate Road\, Framingham\, MA\, 01701\, United States
CATEGORIES:Greek Events in Boston and the New England Area
ATTACH;FMTTYPE=image/png:https://e498h76z5mp.exactdn.com/wp-content/uploads/2019/10/image-12.png
END:VEVENT
BEGIN:VEVENT
DTSTART;VALUE=DATE:20221015
DTEND;VALUE=DATE:20221016
DTSTAMP:20260423T022239
CREATED:20161001T122127Z
LAST-MODIFIED:20221001T175225Z
UID:58090-1665792000-1665878399@www.greekboston.com
SUMMARY:Taverna Night at St. George Greek Church in Manchester NH
DESCRIPTION:
URL:https://www.greekboston.com/event/taverna-night-manchester-nh/
LOCATION:St. George Greek Orthodox Cathedral – Manchester\, NH\, 650 Hanover Street\, Manchester\, NH\, 03104\, United States
CATEGORIES:Greek Events in Boston and the New England Area
ATTACH;FMTTYPE=image/jpeg:https://e498h76z5mp.exactdn.com/wp-content/uploads/2016/10/Taverna-Night-October-15-2022-scaled.jpg
END:VEVENT
BEGIN:VEVENT
DTSTART;VALUE=DATE:20221016
DTEND;VALUE=DATE:20221017
DTSTAMP:20260423T022239
CREATED:20220930T133016Z
LAST-MODIFIED:20220930T133016Z
UID:89281-1665878400-1665964799@www.greekboston.com
SUMMARY:GOYA Fall Fest Event at Annunciation Greek Church of Woburn MA
DESCRIPTION:
URL:https://www.greekboston.com/event/goya-fall-fest-woburn-ma/
LOCATION:Annunciation of The Virgin Mary Greek Orthodox Church  – Woburn\, MA\, 70 Montvale Avenue \, Woburn\, MA\, 01801 \, United States
CATEGORIES:Greek Events in Boston and the New England Area
ATTACH;FMTTYPE=image/jpeg:https://e498h76z5mp.exactdn.com/wp-content/uploads/2022/09/309862278_10162219871073782_2461134049851562651_n.jpeg
END:VEVENT
BEGIN:VEVENT
DTSTART;VALUE=DATE:20221016
DTEND;VALUE=DATE:20221017
DTSTAMP:20260423T022239
CREATED:20221003T165953Z
LAST-MODIFIED:20221003T165953Z
UID:89299-1665878400-1665964799@www.greekboston.com
SUMMARY:Trunk or Treat Event at Sts. Constantine & Helen Greek Church Andover MA
DESCRIPTION:
URL:https://www.greekboston.com/event/trunk-treat-andover-ma/
LOCATION:Sts Constantine and Helen Greek Orthodox Church – Andover\, MA\, 71 Chandler Road\, Andover\, MA\, 01810\, United States
CATEGORIES:Greek Events in Boston and the New England Area
ATTACH;FMTTYPE=image/jpeg:https://e498h76z5mp.exactdn.com/wp-content/uploads/2022/10/307693605_6115749351771868_5385903471972715775_n.jpeg
END:VEVENT
BEGIN:VEVENT
DTSTART;VALUE=DATE:20221018
DTEND;VALUE=DATE:20221019
DTSTAMP:20260423T022239
CREATED:20220930T133317Z
LAST-MODIFIED:20220930T133317Z
UID:89284-1666051200-1666137599@www.greekboston.com
SUMMARY:Colors of Vermont Trip for St. George Greek Cathedral Springfield MA
DESCRIPTION:
URL:https://www.greekboston.com/event/colors-vermont-springfield-ma/
LOCATION:St. George Greek Orthodox Cathedral – Springfield\, MA\, 22 St. George Road\, Springfield\, MA\, 02720\, United States
CATEGORIES:Greek Events in Boston and the New England Area
ATTACH;FMTTYPE=image/jpeg:https://e498h76z5mp.exactdn.com/wp-content/uploads/2022/09/308790028_5849345758409826_3326475672725600143_n.jpeg
END:VEVENT
BEGIN:VEVENT
DTSTART;VALUE=DATE:20221020
DTEND;VALUE=DATE:20221021
DTSTAMP:20260423T022239
CREATED:20221007T130721Z
LAST-MODIFIED:20221007T130721Z
UID:89326-1666224000-1666310399@www.greekboston.com
SUMMARY:Greek Networking Event in Cambridge MA
DESCRIPTION:Please join your hosts Georgia Balafas and Fivos Kanellis for a fantastic evening of networking! End your Thursday with authentic Greek cuisine\, delicious cocktails\, and new connections at Saloniki in Harvard Square.\nGeneral Info\n📅 Date: Thursday\, October 20\n🕒 Time: 6:00 PM\n📍 Location: Saloniki Greek in Harvard Square (24 Dunster St\, Cambridge\, MA)\n🎟 Ticket includes appetizers and one drink (cocktail\, wine\, beer\, or non-alcoholic)\n🍸 Cash bar for additional drinks\n📩 Please RSVP as space is limited. For additional questions\, please email georgia.balafas@compass.com or fkanellis@gmail.com
URL:https://www.greekboston.com/event/networking-cambridge-ma/
LOCATION:Saloniki Greek – Harvard Sq\, 24 Dunster Street\, Cambridge\, MA\, 02138\, United States
CATEGORIES:Greek Events in Boston and the New England Area
ATTACH;FMTTYPE=image/jpeg:https://e498h76z5mp.exactdn.com/wp-content/uploads/2022/10/17162608714593785885.jpeg
END:VEVENT
BEGIN:VEVENT
DTSTART;VALUE=DATE:20221020
DTEND;VALUE=DATE:20221021
DTSTAMP:20260423T022239
CREATED:20221013T133648Z
LAST-MODIFIED:20221013T133729Z
UID:89362-1666224000-1666310399@www.greekboston.com
SUMMARY:Poetry Reading from Despotidis Dimosthenis-Dimitrios in Brookline MA
DESCRIPTION:
URL:https://www.greekboston.com/event/poetry-reading-despotidis-dimosthenis-dimitrios/
LOCATION:Maliotis Cultural Center\, 50 Goddard Avenue\, Brookline\, MA\, 02130\, United States
CATEGORIES:Greek Events in Boston and the New England Area
ATTACH;FMTTYPE=image/jpeg:https://e498h76z5mp.exactdn.com/wp-content/uploads/2022/10/311332981_433827608881000_3955302647629873353_n.jpeg
END:VEVENT
BEGIN:VEVENT
DTSTART;VALUE=DATE:20221020
DTEND;VALUE=DATE:20221021
DTSTAMP:20260423T022239
CREATED:20140314T205838Z
LAST-MODIFIED:20221004T222050Z
UID:37233-1666224000-1666310399@www.greekboston.com
SUMMARY:Annual Alpha Omega Council Lifetime Achievement Award Banquet
DESCRIPTION:
URL:https://www.greekboston.com/event/alpha-omega-council-banquet/
LOCATION:Museum of Fine Arts (MFA) Boston\, 465 Huntington Ave\, Boston\, MA\, 02115\, United States
CATEGORIES:Greek Events in Boston and the New England Area
ATTACH;FMTTYPE=image/jpeg:https://e498h76z5mp.exactdn.com/wp-content/uploads/2014/03/AOC-Mtg-Announcement-2022-10-20-scaled.jpg
END:VEVENT
BEGIN:VEVENT
DTSTART;VALUE=DATE:20221022
DTEND;VALUE=DATE:20221023
DTSTAMP:20260423T022239
CREATED:20220928T190302Z
LAST-MODIFIED:20220928T190302Z
UID:89270-1666396800-1666483199@www.greekboston.com
SUMMARY:The Hellenic Initiative Boston New Leaders Cocktail Party
DESCRIPTION:
URL:https://www.greekboston.com/event/new-leaders-cocktail-party/
LOCATION:The ‘Quin House\, 217 Commonwealth Ave\, Boston\, MA\, 02116\, United States
CATEGORIES:Greek Events in Boston and the New England Area
ATTACH;FMTTYPE=image/jpeg:https://e498h76z5mp.exactdn.com/wp-content/uploads/2022/09/New-Leaders-Boston-INSTAGRAM-.jpg
END:VEVENT
BEGIN:VEVENT
DTSTART;VALUE=DATE:20221022
DTEND;VALUE=DATE:20221023
DTSTAMP:20260423T022239
CREATED:20221017T193108Z
LAST-MODIFIED:20221017T193108Z
UID:89374-1666396800-1666483199@www.greekboston.com
SUMMARY:Halloween Party at St. Vasilios Greek Church Peabody MA
DESCRIPTION:
URL:https://www.greekboston.com/event/halloween-party-peabody/
LOCATION:Saint Vasilios Greek Orthodox Church\, 5 Paleologos Street\, Peabody\, MA\, 01960\, United States
CATEGORIES:Greek Events in Boston and the New England Area
ATTACH;FMTTYPE=image/jpeg:https://e498h76z5mp.exactdn.com/wp-content/uploads/2022/10/311906167_2484862391653343_3201988286097001814_n.jpeg
END:VEVENT
BEGIN:VEVENT
DTSTART;VALUE=DATE:20221022
DTEND;VALUE=DATE:20221023
DTSTAMP:20260423T022239
CREATED:20160225T214115Z
LAST-MODIFIED:20221021T153242Z
UID:53852-1666396800-1666483199@www.greekboston.com
SUMMARY:Pasta Dinner at St. Constantine and Helen Greek Church Webster MA
DESCRIPTION:
URL:https://www.greekboston.com/event/pasta-dinner-webster-ma/
LOCATION:Saints Constantine and Helen Greek Orthodox Church – Webster\, MA\, 37 Lake Parkway\, Webster\, MA\, 01570\, United States
CATEGORIES:Greek Events in Boston and the New England Area
ATTACH;FMTTYPE=image/jpeg:https://e498h76z5mp.exactdn.com/wp-content/uploads/2016/02/312539371_5641722709199705_2166243933473087083_n.jpeg
END:VEVENT
BEGIN:VEVENT
DTSTART;VALUE=DATE:20221022
DTEND;VALUE=DATE:20221023
DTSTAMP:20260423T022239
CREATED:20160223T195250Z
LAST-MODIFIED:20221001T174947Z
UID:53800-1666396800-1666483199@www.greekboston.com
SUMMARY:Greek Music Night in Worcester MA
DESCRIPTION:
URL:https://www.greekboston.com/event/music-night-worcester-ma/
LOCATION:St. Spyridon Greek Orthodox Cathedral – Worcester\, 102 Russell Street\, Worcester\, MA\, 01609\, United States
CATEGORIES:Greek Events in Boston and the New England Area
ATTACH;FMTTYPE=image/jpeg:https://e498h76z5mp.exactdn.com/wp-content/uploads/2016/02/Bouzouki-flyer-final-1.jpg
END:VEVENT
BEGIN:VEVENT
DTSTART;VALUE=DATE:20221023
DTEND;VALUE=DATE:20221024
DTSTAMP:20260423T022239
CREATED:20211006T211836Z
LAST-MODIFIED:20220930T133522Z
UID:87475-1666483200-1666569599@www.greekboston.com
SUMMARY:Fall Youth Festival at the Annunciation Greek Cathedral Brookline MA
DESCRIPTION:
URL:https://www.greekboston.com/event/fall-youth-festival-brookline-ma/
LOCATION:Cathedral Center\, 162 Goddard Ave\, Brookline\, 02445
CATEGORIES:Greek Events in Boston and the New England Area
ATTACH;FMTTYPE=image/jpeg:https://e498h76z5mp.exactdn.com/wp-content/uploads/2021/10/309317596_6165440403485999_3892783090499653941_n.jpeg
END:VEVENT
BEGIN:VEVENT
DTSTART;VALUE=DATE:20221023
DTEND;VALUE=DATE:20221024
DTSTAMP:20260423T022239
CREATED:20211021T191454Z
LAST-MODIFIED:20221020T194237Z
UID:87569-1666483200-1666569599@www.greekboston.com
SUMMARY:Hope/Joy Pumpkin Carving Event at St. Gregory the Theologian Greek Church Mansfield MA
DESCRIPTION:
URL:https://www.greekboston.com/event/pumpkin-carving-mansfield-ma/
LOCATION:St. Gregory the Theologian Greek Orthodox Church – Mansfield\, MA\, 1007 West St\, Mansfield\, MA\, 02048\, United States
CATEGORIES:Greek Events in Boston and the New England Area
ATTACH;FMTTYPE=image/jpeg:https://e498h76z5mp.exactdn.com/wp-content/uploads/2021/10/312270929_6247439078603621_7901233067513310681_n.jpeg
END:VEVENT
END:VCALENDAR