BEGIN:VCALENDAR
VERSION:2.0
PRODID:-// - ECPv6.15.20//NONSGML v1.0//EN
CALSCALE:GREGORIAN
METHOD:PUBLISH
X-ORIGINAL-URL:https://www.greekboston.com
X-WR-CALDESC:Events for 
REFRESH-INTERVAL;VALUE=DURATION:PT1H
X-Robots-Tag:noindex
X-PUBLISHED-TTL:PT1H
BEGIN:VTIMEZONE
TZID:America/New_York
BEGIN:DAYLIGHT
TZOFFSETFROM:-0500
TZOFFSETTO:-0400
TZNAME:EDT
DTSTART:20180311T070000
END:DAYLIGHT
BEGIN:STANDARD
TZOFFSETFROM:-0400
TZOFFSETTO:-0500
TZNAME:EST
DTSTART:20181104T060000
END:STANDARD
BEGIN:DAYLIGHT
TZOFFSETFROM:-0500
TZOFFSETTO:-0400
TZNAME:EDT
DTSTART:20190310T070000
END:DAYLIGHT
BEGIN:STANDARD
TZOFFSETFROM:-0400
TZOFFSETTO:-0500
TZNAME:EST
DTSTART:20191103T060000
END:STANDARD
BEGIN:DAYLIGHT
TZOFFSETFROM:-0500
TZOFFSETTO:-0400
TZNAME:EDT
DTSTART:20200308T070000
END:DAYLIGHT
BEGIN:STANDARD
TZOFFSETFROM:-0400
TZOFFSETTO:-0500
TZNAME:EST
DTSTART:20201101T060000
END:STANDARD
END:VTIMEZONE
BEGIN:VEVENT
DTSTART;TZID=America/New_York:20191102T200000
DTEND;TZID=America/New_York:20191103T010000
DTSTAMP:20260423T065627
CREATED:20191020T124944Z
LAST-MODIFIED:20191020T124944Z
UID:79713-1572724800-1572742800@www.greekboston.com
SUMMARY:Giannis Kapsalis and Makis Tsikos Live Greek Concert in Dedham MA
DESCRIPTION:Bringing the Panigiria to Boston\nGrecian nights present\nDirectly From Greece\nGiannis Kapsalis Live\nClarino\nMakis Tsikos\nand their band.\nSingers\nIlias Giavris – Voula Verdos\nHors D’oeuvres will be served with ticket price\nFOR TICKETS & INFORMATION\n617-697-7097
URL:https://www.greekboston.com/event/giannis-kapsalis-makis-tsikos/
LOCATION:Holiday Inn Boston-Dedham\, 55 Ariadne Road\, Dedham\, MA\, 02026\, United States
CATEGORIES:Greek Events in Boston and the New England Area
ATTACH;FMTTYPE=image/jpeg:https://www.greekboston.com/wp-content/uploads/2019/10/72578148_2517703011643661_5126456368751968256_n.jpg
END:VEVENT
BEGIN:VEVENT
DTSTART;TZID=America/New_York:20191102T190000
DTEND;TZID=America/New_York:20191102T230000
DTSTAMP:20260423T065627
CREATED:20151026T153501Z
LAST-MODIFIED:20190924T113200Z
UID:51451-1572721200-1572735600@www.greekboston.com
SUMMARY:Dancing with the Greeks at St. George Greek Church of Bangor Maine
DESCRIPTION:Please join us for a wonderful evening of fun and fellowship as we dance to live Greek music and dine on Greek delicacies… there will also be many items to bid on at our Silent Auction as well. It’s always a lovely time when we get together. Hope to see you there! For tickets\, please see any St. George Greek Orthodox Church member\, or visit Angelo’s Pizza on Hammond Street in Bangor.
URL:https://www.greekboston.com/event/dancing-bangor-maine/
LOCATION:Saint George Greek Orthodox Church – Bangor\, ME\, 90 Sanford Street\, Bangor\, ME\, United States
CATEGORIES:Greek Events in Boston and the New England Area
ATTACH;FMTTYPE=image/jpeg:https://e498h76z5mp.exactdn.com/wp-content/uploads/2018/11/Greek-Flag-1.jpg
END:VEVENT
BEGIN:VEVENT
DTSTART;TZID=America/New_York:20191102T183000
DTEND;TZID=America/New_York:20191102T233000
DTSTAMP:20260423T065627
CREATED:20191010T202906Z
LAST-MODIFIED:20191010T202906Z
UID:79430-1572719400-1572737400@www.greekboston.com
SUMMARY:AHEPA Harris J. Booras Chapter 406 Greek Dinner Dance in Watertown MA
DESCRIPTION:
URL:https://www.greekboston.com/event/ahepa-dance-watertown-ma/
LOCATION:Taxiarchae Greek Orthodox Church Watertown MA\, 25 Bigelow Ave\, Watertown\, MA\, 02472\, United States
CATEGORIES:Greek Events in Boston and the New England Area
ATTACH;FMTTYPE=image/jpeg:https://e498h76z5mp.exactdn.com/wp-content/uploads/2019/10/Resized_20191003_123357-1.jpeg
END:VEVENT
BEGIN:VEVENT
DTSTART;TZID=America/New_York:20191102T180000
DTEND;TZID=America/New_York:20191102T230000
DTSTAMP:20260423T065627
CREATED:20141118T194322Z
LAST-MODIFIED:20190914T191733Z
UID:44733-1572717600-1572735600@www.greekboston.com
SUMMARY:St. Demetrios Dinner Dance in Weston MA
DESCRIPTION:
URL:https://www.greekboston.com/event/dinner-dance-weston-ma/
LOCATION:The Westin Waltham-Boston\, 70 3rd Ave\, Waltham\, MA\, 02451\, United States
CATEGORIES:Greek Events in Boston and the New England Area
ATTACH;FMTTYPE=image/jpeg:https://e498h76z5mp.exactdn.com/wp-content/uploads/2014/11/69862117_10158745899078572_8187762096444801024_n.jpg
END:VEVENT
BEGIN:VEVENT
DTSTART;VALUE=DATE:20191102
DTEND;VALUE=DATE:20191103
DTSTAMP:20260423T065627
CREATED:20150407T163847Z
LAST-MODIFIED:20190823T215412Z
UID:47239-1572652800-1572739199@www.greekboston.com
SUMMARY:Greek Pontian Dance at the St. Nectarios Greek Church Roslindale MA
DESCRIPTION:
URL:https://www.greekboston.com/event/pontian-dance-roslindale-ma/
LOCATION:St. Nectarios Greek Orthodox Church – Roslindale\, MA\, 39 Belgrade Ave\, Roslindale\, MA\,  02131\, United States
CATEGORIES:Greek Events in Boston and the New England Area
ATTACH;FMTTYPE=image/jpeg:https://e498h76z5mp.exactdn.com/wp-content/uploads/2015/04/69126421_2459225897456716_6235385798951174144_n.jpg
END:VEVENT
BEGIN:VEVENT
DTSTART;VALUE=DATE:20191102
DTEND;VALUE=DATE:20191103
DTSTAMP:20260423T065627
CREATED:20190816T144001Z
LAST-MODIFIED:20190830T211519Z
UID:78311-1572652800-1572739199@www.greekboston.com
SUMMARY:Harvest Glendi Family Greek Dance at St Philip Church in Nashua NH
DESCRIPTION:
URL:https://www.greekboston.com/event/harvest-dance-nashua-nh/
LOCATION:St. Philip Greek Orthodox Church – Nashua\, NH\, 500 West Hollis Street\, Nashua\, NH\, 03062\, United States
CATEGORIES:Greek Events in Boston and the New England Area
ATTACH;FMTTYPE=image/jpeg:https://e498h76z5mp.exactdn.com/wp-content/uploads/2019/08/Family-Greek-Dance.jpg
END:VEVENT
BEGIN:VEVENT
DTSTART;VALUE=DATE:20191101
DTEND;VALUE=DATE:20191104
DTSTAMP:20260423T065627
CREATED:20140818T143910Z
LAST-MODIFIED:20191031T184748Z
UID:41983-1572566400-1572825599@www.greekboston.com
SUMMARY:Basile Greek Comedy Show in Saugus MA
DESCRIPTION:
URL:https://www.greekboston.com/event/basile-comedy-saugus/
LOCATION:Giggles Comedy Club\, 517 Broadway\, Saugus\, MA\, 01906\, United States
CATEGORIES:Greek Events in Boston and the New England Area
ATTACH;FMTTYPE=image/jpeg:https://e498h76z5mp.exactdn.com/wp-content/uploads/2014/08/0-1.jpg
END:VEVENT
BEGIN:VEVENT
DTSTART;VALUE=DATE:20191101
DTEND;VALUE=DATE:20191104
DTSTAMP:20260423T065627
CREATED:20151120T163814Z
LAST-MODIFIED:20190904T223852Z
UID:51893-1572566400-1572825599@www.greekboston.com
SUMMARY:Community Retreat At The Annunciation Of The Virgin Mary Greek Church Woburn MA
DESCRIPTION:
URL:https://www.greekboston.com/event/religious-retreat-woburn-ma/
LOCATION:Annunciation of The Virgin Mary Greek Orthodox Church  – Woburn\, MA\, 70 Montvale Avenue \, Woburn\, MA\, 01801 \, United States
CATEGORIES:Greek Events in Boston and the New England Area
ATTACH;FMTTYPE=image/png:https://e498h76z5mp.exactdn.com/wp-content/uploads/2015/11/69455629_10158962336668782_7247645050144817152_o.png
END:VEVENT
BEGIN:VEVENT
DTSTART;VALUE=DATE:20191101
DTEND;VALUE=DATE:20191102
DTSTAMP:20260423T065627
CREATED:20200928T202748Z
LAST-MODIFIED:20201028T183838Z
UID:85365-1572566400-1572652799@www.greekboston.com
SUMMARY:Greek Food Fest at St. Nectarios Greek Church Roslindale MA
DESCRIPTION:TO-GO FEST CANCELED!!!! WE REGRET TO INFORM YOU\, DUE TO THE DAILY RISE IN CORONA CASE NUMBERS\, THE CITY OF BOSTON IS NOT ALLOWING EVENTS OF THIS NATURE.
URL:https://www.greekboston.com/event/food-fest-roslindale-ma/
LOCATION:St. Nectarios Greek Orthodox Church – Roslindale\, MA\, 39 Belgrade Ave\, Roslindale\, MA\,  02131\, United States
CATEGORIES:Greek Events in Boston and the New England Area,Greek Festivals of New England
ATTACH;FMTTYPE=image/jpeg:https://e498h76z5mp.exactdn.com/wp-content/uploads/2020/09/122844230_3507915955921033_3274015185968338302_o.jpg
END:VEVENT
BEGIN:VEVENT
DTSTART;TZID=America/New_York:20191031T200000
DTEND;TZID=America/New_York:20191031T220000
DTSTAMP:20260423T065627
CREATED:20191025T141002Z
LAST-MODIFIED:20191025T141002Z
UID:79745-1572552000-1572559200@www.greekboston.com
SUMMARY:Post WWII Theology in Greece Lecture by Chrysostomos Stamoulis
DESCRIPTION:
URL:https://www.greekboston.com/event/lecture-chrysostomos-stamoulis/
LOCATION:Hellenic College Holy Cross – Brookline MA\, 50 Goddard Ave\, Brookline\, MA\, 02445\, United States
CATEGORIES:Greek Events in Boston and the New England Area
ATTACH;FMTTYPE=image/jpeg:https://e498h76z5mp.exactdn.com/wp-content/uploads/2019/10/73495189_2852855151392959_7619005536217858048_o.jpg
END:VEVENT
BEGIN:VEVENT
DTSTART;TZID=America/New_York:20191031T200000
DTEND;TZID=America/New_York:20191031T220000
DTSTAMP:20260423T065627
CREATED:20190914T191307Z
LAST-MODIFIED:20191017T185715Z
UID:78971-1572552000-1572559200@www.greekboston.com
SUMMARY:Manos and Mikis CD Release Concert in Boston MA
DESCRIPTION:The Greek Music Ensemble is celebrating the release of its second album\, inspired by and dedicated to the music of Manos Hadjidakis and Mikis Theodorakis!\nThe concert will feature music from the two composers in new original arrangements\, performed by a 16-member orchestra.\nMikis Theodorakis and Manos Hadjidakis\, the two major figures of Greek 20th century art music successfully married poetry with music for more than 50 years. Much of this music features lyrics from the verses of renown Greek poets\, including Nobel laureates Odysseus Elytis and Giorgos Seferis. \nBuy tickets to this event here:\nhttps://www.etix.com/ticket/p/6967785/greek-music-ensemble-cd-release-concert-boston-berklee-performance-center
URL:https://www.greekboston.com/event/manos-mikis-cd-release-concert/
LOCATION:Berklee Performance Center\, 136 Massachusetts Avenue\, Boston\, MA\, 02115\, United States
CATEGORIES:Greek Events in Boston and the New England Area
ATTACH;FMTTYPE=image/jpeg:https://e498h76z5mp.exactdn.com/wp-content/uploads/2019/09/70306426_1373624596119666_8362349154067808256_n.jpg
END:VEVENT
BEGIN:VEVENT
DTSTART;TZID=America/New_York:20191030T190000
DTEND;TZID=America/New_York:20191030T210000
DTSTAMP:20260423T065627
CREATED:20140922T165729Z
LAST-MODIFIED:20191013T130835Z
UID:42826-1572462000-1572469200@www.greekboston.com
SUMMARY:Boston Lykeion Ellinidon Annual Open House
DESCRIPTION:
URL:https://www.greekboston.com/event/lykeion-ellinidon-open-house/
LOCATION:Greek American Political Club\, 288 Green Street\, Cambridge\, 02139\, United States
CATEGORIES:Greek Events in Boston and the New England Area
ATTACH;FMTTYPE=image/jpeg:https://e498h76z5mp.exactdn.com/wp-content/uploads/2014/09/72045597_10157540068633609_4296100797998956544_n.jpg
END:VEVENT
BEGIN:VEVENT
DTSTART;VALUE=DATE:20191027
DTEND;VALUE=DATE:20191028
DTSTAMP:20260423T065627
CREATED:20150919T183108Z
LAST-MODIFIED:20191016T133753Z
UID:51080-1572134400-1572220799@www.greekboston.com
SUMMARY:Fall Festival at Annunciation Cathedral Of New England
DESCRIPTION:
URL:https://www.greekboston.com/event/fall-festival-cathedral/
LOCATION:Annunciation Cathedral of New England\, 514 Parker Street\, Boston\, MA\, 02120\, United States
CATEGORIES:Greek Events in Boston and the New England Area,Greek Festivals of New England
ATTACH;FMTTYPE=image/jpeg:https://e498h76z5mp.exactdn.com/wp-content/uploads/2015/09/72471188_2962929623737109_2724873972960198656_o.jpg
END:VEVENT
BEGIN:VEVENT
DTSTART;TZID=America/New_York:20191026T213000
DTEND;TZID=America/New_York:20191027T020000
DTSTAMP:20260423T065627
CREATED:20151028T163115Z
LAST-MODIFIED:20191017T111905Z
UID:51550-1572125400-1572141600@www.greekboston.com
SUMMARY:Halloween Greek Night in Cambridge MA
DESCRIPTION:
URL:https://www.greekboston.com/event/halloween-party-cambridge-ma/
LOCATION:Greek American Political Club\, 288 Green Street\, Cambridge\, 02139\, United States
CATEGORIES:Greek Events in Boston and the New England Area
ATTACH;FMTTYPE=image/jpeg:https://e498h76z5mp.exactdn.com/wp-content/uploads/2015/10/PCSIMG-6871116fb1b0b511398111da854f00a0_508945033634086.jpg
END:VEVENT
BEGIN:VEVENT
DTSTART;TZID=America/New_York:20191026T210000
DTEND;TZID=America/New_York:20191027T020000
DTSTAMP:20260423T065627
CREATED:20160906T173208Z
LAST-MODIFIED:20190924T114818Z
UID:57679-1572123600-1572141600@www.greekboston.com
SUMMARY:Spasta Halloween Greek Night in Salem MA
DESCRIPTION:
URL:https://www.greekboston.com/event/spasta-halloween/
LOCATION:Stella’s Restaurant and Wine Bar\, 94 Lafayette Street\, Salem\, MA\, 01970\, United States
CATEGORIES:Greek Events in Boston and the New England Area
ATTACH;FMTTYPE=image/jpeg:https://e498h76z5mp.exactdn.com/wp-content/uploads/2016/09/70691514_1862322913914347_8330905200277585920_o.jpg
END:VEVENT
BEGIN:VEVENT
DTSTART;VALUE=DATE:20191026
DTEND;VALUE=DATE:20191028
DTSTAMP:20260423T065627
CREATED:20161008T123312Z
LAST-MODIFIED:20191009T133006Z
UID:58249-1572048000-1572220799@www.greekboston.com
SUMMARY:Autumn Bazaar at Assumption Greek Church Manchester  NH
DESCRIPTION:
URL:https://www.greekboston.com/event/autumn-bazaar-manchester-nh/
LOCATION:Assumption Church – Manchester\, NH\, 111 Island Pond Road\, Manchester\, NH\, 03103\, United States
CATEGORIES:Greek Events in Boston and the New England Area,Greek Festivals of New England
ATTACH;FMTTYPE=image/jpeg:https://e498h76z5mp.exactdn.com/wp-content/uploads/2016/10/2019-flyer.jpg
END:VEVENT
BEGIN:VEVENT
DTSTART;VALUE=DATE:20191026
DTEND;VALUE=DATE:20191027
DTSTAMP:20260423T065627
CREATED:20151003T222720Z
LAST-MODIFIED:20191014T204721Z
UID:51248-1572048000-1572134399@www.greekboston.com
SUMMARY:Hellenic Arts Society Greek Dance Gala St Spyridon Greek Church Worcester MA
DESCRIPTION:
URL:https://www.greekboston.com/event/hellenic-arts-society-gala/
LOCATION:St. Spyridon Greek Orthodox Cathedral – Worcester\, 102 Russell Street\, Worcester\, MA\, 01609\, United States
CATEGORIES:Greek Events in Boston and the New England Area
ATTACH;FMTTYPE=image/jpeg:https://e498h76z5mp.exactdn.com/wp-content/uploads/2015/10/IMG_20191014_0001.jpg
END:VEVENT
BEGIN:VEVENT
DTSTART;TZID=America/New_York:20191024T193000
DTEND;TZID=America/New_York:20191024T210000
DTSTAMP:20260423T065627
CREATED:20191021T215003Z
LAST-MODIFIED:20191021T215040Z
UID:79724-1571945400-1571950800@www.greekboston.com
SUMMARY:A Conversation with Consul General Stratos Efhtymiou in Cambridge MA
DESCRIPTION:The Greek Institute is very pleased to present the Consul General of Greece in Boston Stratos Efthymiou\, who will engage the audience in a conversation about some of the initiatives he has undertaken to benefit the Greek-American community here in Boston. One of these initiatives includes creating a non-stop flight from Boston to Athens. Reception to follow.\nAbout Stratos Efthymiou: https://www.mfa.gr/usa/en/consulate-general-in-boston/head-of-mission/curriculum-vitae.html
URL:https://www.greekboston.com/event/stratos-efhtymiou/
LOCATION:The Greek Institute\, 1038 Massachusetts Avenue\, Cambridge\, MA\, 02138\, United States
CATEGORIES:Greek Events in Boston and the New England Area
ATTACH;FMTTYPE=image/jpeg:https://e498h76z5mp.exactdn.com/wp-content/uploads/2019/10/75380400_10157789338354529_10524572545712128_o.jpg
END:VEVENT
BEGIN:VEVENT
DTSTART;TZID=America/New_York:20191021T183000
DTEND;TZID=America/New_York:20191021T200000
DTSTAMP:20260423T065627
CREATED:20191019T143311Z
LAST-MODIFIED:20191019T143311Z
UID:79704-1571682600-1571688000@www.greekboston.com
SUMMARY:Bible Study at St Spyridon Greek Cathedral Worcester MA
DESCRIPTION:
URL:https://www.greekboston.com/event/bible-study-worcester-ma/
LOCATION:St. Spyridon Greek Orthodox Cathedral – Worcester\, 102 Russell Street\, Worcester\, MA\, 01609\, United States
CATEGORIES:Greek Events in Boston and the New England Area
ATTACH;FMTTYPE=image/jpeg:https://e498h76z5mp.exactdn.com/wp-content/uploads/2019/10/72461937_10157706723087359_1332253212601745408_n.jpg
END:VEVENT
BEGIN:VEVENT
DTSTART;TZID=America/New_York:20191020T120000
DTEND;TZID=America/New_York:20191020T150000
DTSTAMP:20260423T065627
CREATED:20191003T224208Z
LAST-MODIFIED:20191003T224208Z
UID:79273-1571572800-1571583600@www.greekboston.com
SUMMARY:Community Apple Picking for St Spyridon Greek Cathedral Worcester MA
DESCRIPTION:
URL:https://www.greekboston.com/event/apple-picking-st-spyridon/
LOCATION:Tougas Family Farm\, 234 Ball Street\, Northborough\, MA\, 01532\, United States
CATEGORIES:Greek Events in Boston and the New England Area
ATTACH;FMTTYPE=image/jpeg:https://e498h76z5mp.exactdn.com/wp-content/uploads/2019/10/72530791_10157658716887359_7848496045548896256_o.jpg
END:VEVENT
BEGIN:VEVENT
DTSTART;TZID=America/New_York:20191019T170000
DTEND;TZID=America/New_York:20191019T200000
DTSTAMP:20260423T065627
CREATED:20180917T163528Z
LAST-MODIFIED:20191007T214653Z
UID:73392-1571504400-1571515200@www.greekboston.com
SUMMARY:Family Fun Night at Holy Apostles Greek Church Haverhill MA
DESCRIPTION:
URL:https://www.greekboston.com/event/family-fun-night-haverhill-ma/
LOCATION:Holy Apostles Saints Peter & Paul Greek Orthodox Church\, 154-156 Winter Street\, Haverhill\, MA\, 01830\, United States
CATEGORIES:Greek Events in Boston and the New England Area
ATTACH;FMTTYPE=image/jpeg:https://e498h76z5mp.exactdn.com/wp-content/uploads/2018/09/71725581_1887285244751267_9038899257301532672_o.jpg
END:VEVENT
BEGIN:VEVENT
DTSTART;VALUE=DATE:20191018
DTEND;VALUE=DATE:20191019
DTSTAMP:20260423T065627
CREATED:20190909T171001Z
LAST-MODIFIED:20190909T171001Z
UID:78846-1571356800-1571443199@www.greekboston.com
SUMMARY:Boston Greek Student Host Event
DESCRIPTION:
URL:https://www.greekboston.com/event/student-host/
LOCATION:MA
CATEGORIES:Greek Events in Boston and the New England Area
ATTACH;FMTTYPE=image/jpeg:https://e498h76z5mp.exactdn.com/wp-content/uploads/2019/09/Mindspace-Trip-2019-Church-Poster-9-days-Boston-1.jpg
END:VEVENT
BEGIN:VEVENT
DTSTART;VALUE=DATE:20191018
DTEND;VALUE=DATE:20191021
DTSTAMP:20260423T065627
CREATED:20180914T134208Z
LAST-MODIFIED:20190924T113726Z
UID:73352-1571356800-1571615999@www.greekboston.com
SUMMARY:OPA Kouzina Mini Fall Greek Festival at St. Athanasius Greek Church Arlington MA
DESCRIPTION:
URL:https://www.greekboston.com/event/opa-kouzina-festival-arlington-ma/
LOCATION:St. Athanasius the Great Greek Orthodox Church – Arlington\, MA\, 4 Appleton St\, Arlington\, MA\, 02476\, United States
CATEGORIES:Greek Events in Boston and the New England Area,Greek Festivals of New England
ATTACH;FMTTYPE=image/jpeg:https://e498h76z5mp.exactdn.com/wp-content/uploads/2018/09/70344968_2629273293772525_1939806586075611136_n.jpg
END:VEVENT
BEGIN:VEVENT
DTSTART;TZID=America/New_York:20191016T180000
DTEND;TZID=America/New_York:20191016T210000
DTSTAMP:20260423T065627
CREATED:20191010T140438Z
LAST-MODIFIED:20191010T140438Z
UID:79422-1571248800-1571259600@www.greekboston.com
SUMMARY:Mediterranean at Fenway Film Series
DESCRIPTION:
URL:https://www.greekboston.com/event/mediterranean-fenway-film-series/
LOCATION:Emmanuel College Boston – Notre Dame Campus\, 17 Highland Park Street\, Boston\, MA\, 02119\, United States
CATEGORIES:Greek Events in Boston and the New England Area
ATTACH;FMTTYPE=image/jpeg:https://e498h76z5mp.exactdn.com/wp-content/uploads/2019/10/72474916_3049147605102417_6583973827254943744_n.jpg
END:VEVENT
BEGIN:VEVENT
DTSTART;TZID=America/New_York:20191013T110000
DTEND;TZID=America/New_York:20191013T130000
DTSTAMP:20260423T065627
CREATED:20160926T111806Z
LAST-MODIFIED:20191008T191335Z
UID:57974-1570964400-1570971600@www.greekboston.com
SUMMARY:Grandparents Sunday at the Annunciation Greek Cathedral of New England Boston MA
DESCRIPTION:
URL:https://www.greekboston.com/event/grandparents-sunday-cathedral/
LOCATION:Annunciation Cathedral of New England\, 514 Parker Street\, Boston\, MA\, 02120\, United States
CATEGORIES:Greek Events in Boston and the New England Area
ATTACH;FMTTYPE=image/jpeg:https://e498h76z5mp.exactdn.com/wp-content/uploads/2016/09/69814330_2893846867312052_1992102537368436736_o.jpg
END:VEVENT
BEGIN:VEVENT
DTSTART;TZID=America/New_York:20191012T180000
DTEND;TZID=America/New_York:20191012T210000
DTSTAMP:20260423T065627
CREATED:20191004T220509Z
LAST-MODIFIED:20191004T220509Z
UID:79351-1570903200-1570914000@www.greekboston.com
SUMMARY:Spaghetti Dinner Benefit at St. Nicholas Greek Church Portsmouth NH
DESCRIPTION:
URL:https://www.greekboston.com/event/spaghetti-dinner-benefit-portsmouth-nh/
LOCATION:St. Nicholas Greek Orthodox Church – Portsmouth\, NH\, 40 Andrew Jarvis Drive\, Portsmouth\, NH\, 03801\, United States
CATEGORIES:Greek Events in Boston and the New England Area
ATTACH;FMTTYPE=image/jpeg:https://e498h76z5mp.exactdn.com/wp-content/uploads/2019/10/72466932_2922722547742958_2078161351129169920_o.jpg
END:VEVENT
BEGIN:VEVENT
DTSTART;TZID=America/New_York:20191012T110000
DTEND;TZID=America/New_York:20191012T130000
DTSTAMP:20260423T065627
CREATED:20191009T212508Z
LAST-MODIFIED:20191009T212508Z
UID:79417-1570878000-1570885200@www.greekboston.com
SUMMARY:Live Reptile Show at Greek 4 Kids Greek School Newton MA
DESCRIPTION:
URL:https://www.greekboston.com/event/reptile-show-newton-ma/
LOCATION:Greek 4 Kids Newton MA\, 1345 Centre Street\, Newton \, MA\, 02459\, United States
CATEGORIES:Greek Events in Boston and the New England Area
ATTACH;FMTTYPE=image/jpeg:https://e498h76z5mp.exactdn.com/wp-content/uploads/2019/10/72281690_10156780968712781_1002389497951813632_o.jpg
END:VEVENT
BEGIN:VEVENT
DTSTART;TZID=America/New_York:20191012T100000
DTEND;TZID=America/New_York:20191012T130000
DTSTAMP:20260423T065627
CREATED:20190927T211912Z
LAST-MODIFIED:20190927T211926Z
UID:79206-1570874400-1570885200@www.greekboston.com
SUMMARY:Music Open House at the Dormition Greek Church‎ Somerville MA
DESCRIPTION:Monthly open invitation to interested past\, present\, and future church musicians at Dormition. Open to all regardless of age or experience\, focusing on learning by ear the fixed and repetitive parts of Orthros\, Divine Liturgy\, and other services to help instill and build confidence and skills across the group. Plus there will be coffee and doughnuts you get there\, and pizza for lunch!\nAt the first one\, we had a great morning with kids and adults alike. We learned some concrete ways that newcomers can participate right off the bat\, and we sang some of the common hymns of Orthros in both Greek and English. Food also helped bring everybody together and put everybody in the mood for singing!\nPlan to come to the next one — you’ll have fun\, and you’ll learn ways\, not just to *get* more out of our services\, but how to *give* more as well!
URL:https://www.greekboston.com/event/music-open-house-somerville-ma/
LOCATION:Dormition of the Virgin Mary Greek Orthodox Church\, 29 Central Street\, Somerville\, MA\, 02143\, United States
CATEGORIES:Greek Events in Boston and the New England Area
ATTACH;FMTTYPE=image/jpeg:https://e498h76z5mp.exactdn.com/wp-content/uploads/2019/09/71028335_2273646159526954_8657755454203494400_o.jpg
END:VEVENT
BEGIN:VEVENT
DTSTART;VALUE=DATE:20191011
DTEND;VALUE=DATE:20191014
DTSTAMP:20260423T065627
CREATED:20191004T213548Z
LAST-MODIFIED:20191004T213548Z
UID:79343-1570752000-1571011199@www.greekboston.com
SUMMARY:Greek Rock Revolution Movie Film Screening
DESCRIPTION:Greek Rock Revolution (Doc – Spain) 1:35:43\nThis music documentary features seven bands from the flourishing Greek Rock Scene\, speaking about their music and the context ‘inspiring’ this movement: a long-lasting unstable social situation boosting artistic expression through a common feeling of non-conformity. Dir. Miguel Cano.\nScreening time & Screening Section name:\nRock N’ Roll All Night\, Block #2 Fri\, Oct 11 @7:15-10:00 PM\nThere will be a party at the Regent Theatre immediately after the Greek Rock Revolution screening\, and FRIDAY DAY PASS and FESTIVAL PASS HOLDERS are welcome to join us at the Party.\nWe would greatly appreciate you getting the word out to your membership regarding this screening. In doing so\, we have arranged for a 20% discount for this film\, or for a daily pass and festival pass.\nThe 20% off discount code is GREEKROCK20.\nYour discount code can be used at the Regent Theatre Box Office or online at www.regenttheatre.com.\nYou can also call the Regent Theatre box office (781) 646-4849.\nAdditionally\, you can also purchase tickets at:\nhttps://lonelysealfestival.com/2019-tickets-and-passes/\nThe Greek Rock Revolution Film is in ROCK N’ ROLL ALL NIGHT – BLOCK #2 on Friday\, October 11 at 7:15 PM.\nPut in the GREEKROCK20 – 20% off code for any ticket or pass(es).
URL:https://www.greekboston.com/event/rock-revolution-movie/
LOCATION:Regent Theatre Arlington MA\, 7 Medford Street\, Arlington\, MA\, 02474\, United States
CATEGORIES:Greek Events in Boston and the New England Area
ATTACH;FMTTYPE=image/jpeg:https://e498h76z5mp.exactdn.com/wp-content/uploads/2019/10/Greek-Rock-Revolution-Poster-2.jpg
END:VEVENT
BEGIN:VEVENT
DTSTART;TZID=America/New_York:20191009T190000
DTEND;TZID=America/New_York:20191009T210000
DTSTAMP:20260423T065627
CREATED:20160124T130538Z
LAST-MODIFIED:20190917T214238Z
UID:52476-1570647600-1570654800@www.greekboston.com
SUMMARY:Coffee Talks with Fr. Ted in Mansfield MA
DESCRIPTION:
URL:https://www.greekboston.com/event/coffee-talk-mansfield-ma/
LOCATION:St. Gregory the Theologian Greek Orthodox Church – Mansfield\, MA\, 1007 West St\, Mansfield\, MA\, 02048\, United States
CATEGORIES:Greek Events in Boston and the New England Area
ATTACH;FMTTYPE=image/jpeg:https://e498h76z5mp.exactdn.com/wp-content/uploads/2016/01/70526773_2977437242270504_2100218997491367936_o.jpg
END:VEVENT
END:VCALENDAR