BEGIN:VCALENDAR
VERSION:2.0
PRODID:-// - ECPv6.15.20//NONSGML v1.0//EN
CALSCALE:GREGORIAN
METHOD:PUBLISH
X-ORIGINAL-URL:https://www.greekboston.com
X-WR-CALDESC:Events for 
REFRESH-INTERVAL;VALUE=DURATION:PT1H
X-Robots-Tag:noindex
X-PUBLISHED-TTL:PT1H
BEGIN:VTIMEZONE
TZID:America/New_York
BEGIN:DAYLIGHT
TZOFFSETFROM:-0500
TZOFFSETTO:-0400
TZNAME:EDT
DTSTART:20210314T070000
END:DAYLIGHT
BEGIN:STANDARD
TZOFFSETFROM:-0400
TZOFFSETTO:-0500
TZNAME:EST
DTSTART:20211107T060000
END:STANDARD
BEGIN:DAYLIGHT
TZOFFSETFROM:-0500
TZOFFSETTO:-0400
TZNAME:EDT
DTSTART:20220313T070000
END:DAYLIGHT
BEGIN:STANDARD
TZOFFSETFROM:-0400
TZOFFSETTO:-0500
TZNAME:EST
DTSTART:20221106T060000
END:STANDARD
BEGIN:DAYLIGHT
TZOFFSETFROM:-0500
TZOFFSETTO:-0400
TZNAME:EDT
DTSTART:20230312T070000
END:DAYLIGHT
BEGIN:STANDARD
TZOFFSETFROM:-0400
TZOFFSETTO:-0500
TZNAME:EST
DTSTART:20231105T060000
END:STANDARD
END:VTIMEZONE
BEGIN:VEVENT
DTSTART;VALUE=DATE:20221029
DTEND;VALUE=DATE:20221030
DTSTAMP:20260422T235527
CREATED:20200928T201106Z
LAST-MODIFIED:20221010T121233Z
UID:85361-1667001600-1667087999@www.greekboston.com
SUMMARY:Greek Food Fest at Assumption Greek Church Manchester NH
DESCRIPTION:
URL:https://www.greekboston.com/event/food-fest-manchester-nh/
LOCATION:Assumption Greek Church Manchester NH\, 111 Island Pond Road\, Manchester\, 03103
CATEGORIES:Greek Events in Boston and the New England Area,Greek Festivals of New England
ATTACH;FMTTYPE=image/jpeg:https://e498h76z5mp.exactdn.com/wp-content/uploads/2020/09/311443371_8091032807605812_2777669794981047223_n.jpeg
END:VEVENT
BEGIN:VEVENT
DTSTART;VALUE=DATE:20221029
DTEND;VALUE=DATE:20221031
DTSTAMP:20260422T235527
CREATED:20220927T184616Z
LAST-MODIFIED:20220927T184616Z
UID:89256-1667001600-1667174399@www.greekboston.com
SUMMARY:Frost On The Pumpkin Bazaar at Assumption of the Virgin Mary Greek Church Pawtucket RI
DESCRIPTION:
URL:https://www.greekboston.com/event/frost-pumpkin-bazaar-pawtucket-ri/
LOCATION:Assumption of the Virgin Mary Church -Pawtucket\, RI\, 97 Walcott Street\, Pawtucket\, RI\, United States
CATEGORIES:Greek Events in Boston and the New England Area,Greek Festivals of New England
ATTACH;FMTTYPE=image/jpeg:https://e498h76z5mp.exactdn.com/wp-content/uploads/2022/09/309050822_5704797876210275_480703118834820723_n.jpeg
END:VEVENT
BEGIN:VEVENT
DTSTART;VALUE=DATE:20221030
DTEND;VALUE=DATE:20221031
DTSTAMP:20260422T235527
CREATED:20160928T183521Z
LAST-MODIFIED:20221012T215957Z
UID:58023-1667088000-1667174399@www.greekboston.com
SUMMARY:OXI Day Celebration Event in Brookline MA
DESCRIPTION:
URL:https://www.greekboston.com/event/oxi-day-brookline-ma/
LOCATION:Maliotis Cultural Center\, 50 Goddard Avenue\, Brookline\, MA\, 02130\, United States
CATEGORIES:Greek Events in Boston and the New England Area
ATTACH;FMTTYPE=image/jpeg:https://e498h76z5mp.exactdn.com/wp-content/uploads/2016/09/OXI-Day-Celebration-2022-1-scaled.jpg
END:VEVENT
BEGIN:VEVENT
DTSTART;VALUE=DATE:20221101
DTEND;VALUE=DATE:20221102
DTSTAMP:20260422T235527
CREATED:20231019T194640Z
LAST-MODIFIED:20231108T164104Z
UID:91137-1667260800-1667347199@www.greekboston.com
SUMMARY:Parish Community Night at Taxiarchae Greek Orthodox Church Watertown MA
DESCRIPTION:THIS EVENT HAS BEEN CANCELLED.
URL:https://www.greekboston.com/event/parish-community-night-watertown-ma/
LOCATION:Taxiarchae Greek Orthodox Church Watertown MA\, 25 Bigelow Ave\, Watertown\, MA\, 02472\, United States
CATEGORIES:Greek Events in Boston and the New England Area
END:VEVENT
BEGIN:VEVENT
DTSTART;VALUE=DATE:20221104
DTEND;VALUE=DATE:20221105
DTSTAMP:20260422T235527
CREATED:20220927T185729Z
LAST-MODIFIED:20220927T185729Z
UID:89259-1667520000-1667606399@www.greekboston.com
SUMMARY:First Annual Gala for the Greats at Assumption of the Virgin Mary Greek Church Pawtucket RI
DESCRIPTION:
URL:https://www.greekboston.com/event/annual-gala-pawtucket-ri/
LOCATION:Coachmen’s Lodge\, 273 Wrentham Rd\, Bellingham\, MA\, 02019\, United States
CATEGORIES:Greek Events in Boston and the New England Area
ATTACH;FMTTYPE=image/jpeg:https://e498h76z5mp.exactdn.com/wp-content/uploads/2022/09/308966597_5705018499521546_3648731856496071457_n.jpeg
END:VEVENT
BEGIN:VEVENT
DTSTART;VALUE=DATE:20221105
DTEND;VALUE=DATE:20221106
DTSTAMP:20260422T235527
CREATED:20221025T210203Z
LAST-MODIFIED:20221025T210203Z
UID:89450-1667606400-1667692799@www.greekboston.com
SUMMARY:St. George Library Grand Reopening Manchester NH
DESCRIPTION:St. George Library\nGrand Reopening Ceremony\nSaturday\, November 5th\, 2022\n2:00 pm to 5:00 pm\nGUEST SPEAKERS – RIBBON CUTTING – BLESSING OF THE LIBRARY – OPEN HOUSE\nLight refreshments provided.\nFree admission!\nSt. George Greek Orthodox Cathedral\n650 Hanover St.\, Manchester\, NH 03104\n603-622-9113
URL:https://www.greekboston.com/event/library-grand-reopening-manchester-nh/
LOCATION:St. George Greek Orthodox Cathedral – Manchester\, NH\, 650 Hanover Street\, Manchester\, NH\, 03104\, United States
CATEGORIES:Greek Events in Boston and the New England Area
ATTACH;FMTTYPE=image/jpeg:https://e498h76z5mp.exactdn.com/wp-content/uploads/2022/10/St-George-Library-Nov-5th.jpg
END:VEVENT
BEGIN:VEVENT
DTSTART;VALUE=DATE:20221105
DTEND;VALUE=DATE:20221106
DTSTAMP:20260422T235527
CREATED:20221026T134022Z
LAST-MODIFIED:20221026T134022Z
UID:89466-1667606400-1667692799@www.greekboston.com
SUMMARY:GOYA Bowling Party for Annunciation Greek Cathedral of New England
DESCRIPTION:
URL:https://www.greekboston.com/event/goya-bowling-party-cathedral/
LOCATION:Needham Bowlaway\, 16 Chestnut Street\, Needham\, MA\, 02492\, United States
CATEGORIES:Greek Events in Boston and the New England Area
ATTACH;FMTTYPE=image/jpeg:https://e498h76z5mp.exactdn.com/wp-content/uploads/2022/10/306990519_456642049889962_853067220598153768_n.jpeg
END:VEVENT
BEGIN:VEVENT
DTSTART;VALUE=DATE:20221105
DTEND;VALUE=DATE:20221106
DTSTAMP:20260422T235527
CREATED:20221101T221957Z
LAST-MODIFIED:20221101T221957Z
UID:89526-1667606400-1667692799@www.greekboston.com
SUMMARY:Boston University Hellenic Association Basketball Tournament
DESCRIPTION:
URL:https://www.greekboston.com/event/hellenic-association-basketball-tournament/
LOCATION:Boston University Fitness and Recreation Center\, 915 Commonwealth Ave\, Boston\, MA\, 02215\, United States
CATEGORIES:Greek Events in Boston and the New England Area
ATTACH;FMTTYPE=image/jpeg:https://e498h76z5mp.exactdn.com/wp-content/uploads/2022/11/313397435_618276703329069_7501873188697967270_n.jpeg
END:VEVENT
BEGIN:VEVENT
DTSTART;VALUE=DATE:20221105
DTEND;VALUE=DATE:20221106
DTSTAMP:20260422T235527
CREATED:20190924T114359Z
LAST-MODIFIED:20221027T191600Z
UID:79100-1667606400-1667692799@www.greekboston.com
SUMMARY:Pet Blessing at St. Demetrios Greek Church Weston MA
DESCRIPTION:
URL:https://www.greekboston.com/event/pet-blessing-weston-ma/
LOCATION:Greek Orthodox St. Demetrios Church in Weston MA\, 57 Brown Street\, Weston\, MA\, 02493\, United States
CATEGORIES:Greek Events in Boston and the New England Area
ATTACH;FMTTYPE=image/jpeg:https://e498h76z5mp.exactdn.com/wp-content/uploads/2019/09/313179062_10162019131533572_6156533435554354427_n.jpeg
END:VEVENT
BEGIN:VEVENT
DTSTART;VALUE=DATE:20221105
DTEND;VALUE=DATE:20221106
DTSTAMP:20260422T235527
CREATED:20181115T214237Z
LAST-MODIFIED:20220928T190755Z
UID:74477-1667606400-1667692799@www.greekboston.com
SUMMARY:St. Catherine's Name Day Celebration Greek Dance in Braintree MA
DESCRIPTION:
URL:https://www.greekboston.com/event/name-day-dance-braintree-ma/
LOCATION:Saint Catherine Greek Orthodox Church\, 119 Common Street\, Braintree\, MA\, 02184\, United States
CATEGORIES:Greek Events in Boston and the New England Area
ATTACH;FMTTYPE=image/png:https://e498h76z5mp.exactdn.com/wp-content/uploads/2018/11/Invite-Front.png
END:VEVENT
BEGIN:VEVENT
DTSTART;VALUE=DATE:20221105
DTEND;VALUE=DATE:20221106
DTSTAMP:20260422T235527
CREATED:20140915T204625Z
LAST-MODIFIED:20221101T212145Z
UID:42649-1667606400-1667692799@www.greekboston.com
SUMMARY:Hellenic College Holy Cross Open House
DESCRIPTION:
URL:https://www.greekboston.com/event/hellenic-college-open-house/
LOCATION:Hellenic College Holy Cross – Brookline MA\, 50 Goddard Ave\, Brookline\, MA\, 02445\, United States
CATEGORIES:Greek Events in Boston and the New England Area
ATTACH;FMTTYPE=image/jpeg:https://e498h76z5mp.exactdn.com/wp-content/uploads/2014/09/313437503_532816835518616_1802275554070545693_n.jpeg
END:VEVENT
BEGIN:VEVENT
DTSTART;VALUE=DATE:20221105
DTEND;VALUE=DATE:20221106
DTSTAMP:20260422T235527
CREATED:20220926T213702Z
LAST-MODIFIED:20220926T213721Z
UID:89243-1667606400-1667692799@www.greekboston.com
SUMMARY:Dinner Fundraiser for Nativity-Assumption of the Virgin Mary Greek Church Cohasset
DESCRIPTION:
URL:https://www.greekboston.com/event/dinner-fundraiser-for-nativity-assumption-of-the-virgin-mary-greek-church-cohasset/
LOCATION:Barker Tavern\, 21 Barker Rd\, Scituate\, MA\, 02066\, United States
CATEGORIES:Greek Events in Boston and the New England Area
ATTACH;FMTTYPE=image/jpeg:https://e498h76z5mp.exactdn.com/wp-content/uploads/2022/09/308669492_5646871538682923_5776137193690305187_n.jpeg
END:VEVENT
BEGIN:VEVENT
DTSTART;VALUE=DATE:20221106
DTEND;VALUE=DATE:20221107
DTSTAMP:20260422T235527
CREATED:20161024T205121Z
LAST-MODIFIED:20221027T191713Z
UID:58549-1667692800-1667779199@www.greekboston.com
SUMMARY:Pot Luck Dinner for Sts. Constantine & Helen Greek Church Andover MA
DESCRIPTION:
URL:https://www.greekboston.com/event/pot-luck-dinner-andover-ma/
LOCATION:Sts Constantine and Helen Greek Orthodox Church – Andover\, MA\, 71 Chandler Road\, Andover\, MA\, 01810\, United States
CATEGORIES:Greek Events in Boston and the New England Area
ATTACH;FMTTYPE=image/jpeg:https://e498h76z5mp.exactdn.com/wp-content/uploads/2016/10/312379520_6175952252418244_2524403015664010654_n.jpeg
END:VEVENT
BEGIN:VEVENT
DTSTART;VALUE=DATE:20221108
DTEND;VALUE=DATE:20221109
DTSTAMP:20260422T235527
CREATED:20221103T140706Z
LAST-MODIFIED:20221103T140748Z
UID:89542-1667865600-1667951999@www.greekboston.com
SUMMARY:Election Day Greek Bake Sale in Watertown MA
DESCRIPTION:
URL:https://www.greekboston.com/event/election-bake-sale-watertown-ma/
LOCATION:Taxiarchae Greek Orthodox Church Watertown MA\, 25 Bigelow Ave\, Watertown\, MA\, 02472\, United States
CATEGORIES:Greek Events in Boston and the New England Area
ATTACH;FMTTYPE=image/jpeg:https://e498h76z5mp.exactdn.com/wp-content/uploads/2022/11/313173883_5853609808002639_1234458866832879340_n.jpeg
END:VEVENT
BEGIN:VEVENT
DTSTART;VALUE=DATE:20221110
DTEND;VALUE=DATE:20221111
DTSTAMP:20260422T235527
CREATED:20221021T153514Z
LAST-MODIFIED:20221021T153514Z
UID:89425-1668038400-1668124799@www.greekboston.com
SUMMARY:Hellenic Professional Women Cocktails and Connect Event Boston MA
DESCRIPTION:
URL:https://www.greekboston.com/event/hellenic-professional-women-event/
LOCATION:Trade\, 540 Atlantic Ave\, Boston\, MA\, 02210\, United States
CATEGORIES:Greek Events in Boston and the New England Area
ATTACH;FMTTYPE=image/jpeg:https://e498h76z5mp.exactdn.com/wp-content/uploads/2022/10/312160077_10160243257977628_3469436684675681458_n.jpeg
END:VEVENT
BEGIN:VEVENT
DTSTART;VALUE=DATE:20221111
DTEND;VALUE=DATE:20221114
DTSTAMP:20260422T235527
CREATED:20220930T133731Z
LAST-MODIFIED:20221011T221938Z
UID:89288-1668124800-1668383999@www.greekboston.com
SUMMARY:An Indelible Memory: Commemorating the Greeks of Asia Minor Event in Watertown MA
DESCRIPTION:
URL:https://www.greekboston.com/event/commemorating-asia-minor-watertown-ma/
LOCATION:Taxiarchae Greek Orthodox Church Watertown MA\, 25 Bigelow Ave\, Watertown\, MA\, 02472\, United States
CATEGORIES:Greek Events in Boston and the New England Area
ATTACH;FMTTYPE=image/jpeg:https://e498h76z5mp.exactdn.com/wp-content/uploads/2022/09/An-Indelible-Memory-Commemorating-the-Greeks-of-Asia-Minor-November-11-13-2022-Postcard-Flyer-Portrait-Poster-Portrait-1-scaled.jpg
END:VEVENT
BEGIN:VEVENT
DTSTART;VALUE=DATE:20221112
DTEND;VALUE=DATE:20221113
DTSTAMP:20260422T235527
CREATED:20221027T210847Z
LAST-MODIFIED:20221027T210847Z
UID:89476-1668211200-1668297599@www.greekboston.com
SUMMARY:Luncheon Event with Author Yvette Manessis Corporon in Weston MA
DESCRIPTION:
URL:https://www.greekboston.com/event/luncheon-yvette-manessis-corporon-weston-ma/
LOCATION:St. Demetrios Greek Orthodox Church Weston MA\, 57 Brown Street\, Weston\, MA\, 02493\, United States
CATEGORIES:Greek Events in Boston and the New England Area
ATTACH;FMTTYPE=image/jpeg:https://e498h76z5mp.exactdn.com/wp-content/uploads/2022/10/22MB012_ManessisLuncheon_proof-3-1.jpg
END:VEVENT
BEGIN:VEVENT
DTSTART;VALUE=DATE:20221113
DTEND;VALUE=DATE:20221114
DTSTAMP:20260422T235527
CREATED:20221007T131534Z
LAST-MODIFIED:20221007T131534Z
UID:89329-1668297600-1668383999@www.greekboston.com
SUMMARY:Food Drive at Holy Apostles Greek Church Haverhill MA
DESCRIPTION:
URL:https://www.greekboston.com/event/food-drive-haverhill-ma/
LOCATION:Holy Apostles Greek Orthodox Church\, 156 Winter Street\, Haverhill\, MA\, 01830\, United States
CATEGORIES:Greek Events in Boston and the New England Area
ATTACH;FMTTYPE=image/jpeg:https://e498h76z5mp.exactdn.com/wp-content/uploads/2022/10/310741707_481483570690267_7445161266880749655_n.jpeg
END:VEVENT
BEGIN:VEVENT
DTSTART;VALUE=DATE:20221113
DTEND;VALUE=DATE:20221114
DTSTAMP:20260422T235527
CREATED:20221026T132900Z
LAST-MODIFIED:20221026T132900Z
UID:89462-1668297600-1668383999@www.greekboston.com
SUMMARY:Preparing Financially for College Seminar by Vasilis Izanidis
DESCRIPTION:
URL:https://www.greekboston.com/event/preparing-financially-college-vasilis-izanidis/
LOCATION:Assumption of the Virgin Mary Church -Pawtucket\, RI\, 97 Walcott Street\, Pawtucket\, RI\, United States
CATEGORIES:Greek Events in Boston and the New England Area
ATTACH;FMTTYPE=image/jpeg:https://e498h76z5mp.exactdn.com/wp-content/uploads/2022/10/312911380_5793566200666775_6432058543261297058_n.jpeg
END:VEVENT
BEGIN:VEVENT
DTSTART;VALUE=DATE:20221113
DTEND;VALUE=DATE:20221114
DTSTAMP:20260422T235527
CREATED:20221109T195532Z
LAST-MODIFIED:20221109T195532Z
UID:89681-1668297600-1668383999@www.greekboston.com
SUMMARY:spaghetti lunch at Assumption Greek Church Manchester NH
DESCRIPTION:
URL:https://www.greekboston.com/event/spaghetti-lunch-manchester-nh/
LOCATION:Assumption Greek Church Manchester NH\, 111 Island Pond Road\, Manchester\, 03103
CATEGORIES:Greek Events in Boston and the New England Area
ATTACH;FMTTYPE=image/jpeg:https://e498h76z5mp.exactdn.com/wp-content/uploads/2022/11/314719495_8226714697370955_6091654056166660368_n.jpeg
END:VEVENT
BEGIN:VEVENT
DTSTART;VALUE=DATE:20221113
DTEND;VALUE=DATE:20221114
DTSTAMP:20260422T235527
CREATED:20150921T140448Z
LAST-MODIFIED:20221028T130723Z
UID:51091-1668297600-1668383999@www.greekboston.com
SUMMARY:Daughters of Penelope Tea Party in Brookline MA
DESCRIPTION:
URL:https://www.greekboston.com/event/daughters-penelope-tea-party-brookline-ma/
LOCATION:Maliotis Cultural Center\, 50 Goddard Avenue\, Brookline\, MA\, 02130\, United States
CATEGORIES:Greek Events in Boston and the New England Area
ATTACH;FMTTYPE=image/jpeg:https://e498h76z5mp.exactdn.com/wp-content/uploads/2015/09/Tea-Party-Flyer-3-1-1-2-1-scaled.jpg
END:VEVENT
BEGIN:VEVENT
DTSTART;VALUE=DATE:20221115
DTEND;VALUE=DATE:20221116
DTSTAMP:20260422T235527
CREATED:20221108T214739Z
LAST-MODIFIED:20221108T214739Z
UID:89673-1668470400-1668556799@www.greekboston.com
SUMMARY:Evening with Award winning Cypriot Poet\, Writer Actor Kyriacos Efthymiou
DESCRIPTION:
URL:https://www.greekboston.com/event/kyriacos-efthymiou/
LOCATION:Maliotis Cultural Center\, 50 Goddard Avenue\, Brookline\, MA\, 02130\, United States
CATEGORIES:Greek Events in Boston and the New England Area
ATTACH;FMTTYPE=image/jpeg:https://e498h76z5mp.exactdn.com/wp-content/uploads/2022/11/314949579_457347099862384_183815022308626694_n.jpeg
END:VEVENT
BEGIN:VEVENT
DTSTART;VALUE=DATE:20221118
DTEND;VALUE=DATE:20221119
DTSTAMP:20260422T235527
CREATED:20221103T200537Z
LAST-MODIFIED:20221103T200537Z
UID:89556-1668729600-1668815999@www.greekboston.com
SUMMARY:Family Fun Night at the Cathedral Center in Brookline MA
DESCRIPTION:
URL:https://www.greekboston.com/event/family-fun-night-brookline-ma/
LOCATION:Cathedral Center\, 162 Goddard Ave\, Brookline\, 02445
CATEGORIES:Greek Events in Boston and the New England Area
ATTACH;FMTTYPE=image/png:https://e498h76z5mp.exactdn.com/wp-content/uploads/2022/11/Family-Fun-Night-2022.png
END:VEVENT
BEGIN:VEVENT
DTSTART;VALUE=DATE:20221118
DTEND;VALUE=DATE:20221119
DTSTAMP:20260422T235527
CREATED:20221111T131928Z
LAST-MODIFIED:20221111T131928Z
UID:89692-1668729600-1668815999@www.greekboston.com
SUMMARY:Pre-Thanksgiving Party at Taxiarchae Greek Church Watertown MA
DESCRIPTION:
URL:https://www.greekboston.com/event/pre-thanksgiving-party-watertown-ma/
LOCATION:Taxiarchae Greek Orthodox Church Watertown MA\, 25 Bigelow Ave\, Watertown\, MA\, 02472\, United States
CATEGORIES:Greek Events in Boston and the New England Area
ATTACH;FMTTYPE=image/png:https://e498h76z5mp.exactdn.com/wp-content/uploads/2022/11/20221020_123451_0000.png
END:VEVENT
BEGIN:VEVENT
DTSTART;VALUE=DATE:20221119
DTEND;VALUE=DATE:20221120
DTSTAMP:20260422T235527
CREATED:20171105T121557Z
LAST-MODIFIED:20221117T222101Z
UID:67441-1668816000-1668902399@www.greekboston.com
SUMMARY:Holiday Fair at St George Greek Church Dartmouth MA
DESCRIPTION:
URL:https://www.greekboston.com/event/holiday-fair-dartmouth-ma/
LOCATION:St. George Greek Orthodox Church – N. Dartmouth\, MA\, 186 Cross Road \, North Dartmouth\, MA\, 02747\, United States
CATEGORIES:Greek Events in Boston and the New England Area
ATTACH;FMTTYPE=image/jpeg:https://e498h76z5mp.exactdn.com/wp-content/uploads/2017/11/315641828_5522757051142334_7464887035462329139_n.jpeg
END:VEVENT
BEGIN:VEVENT
DTSTART;VALUE=DATE:20221119
DTEND;VALUE=DATE:20221120
DTSTAMP:20260422T235527
CREATED:20221020T194638Z
LAST-MODIFIED:20221020T194638Z
UID:89412-1668816000-1668902399@www.greekboston.com
SUMMARY:AHEPA Chapter 406 Watertown MA Pre-Thanksgiving Glendi
DESCRIPTION:
URL:https://www.greekboston.com/event/ahepa-chapter-406-pre-thanksgiving-glendi/
LOCATION:Taxiarchae Greek Orthodox Church Watertown MA\, 25 Bigelow Ave\, Watertown\, MA\, 02472\, United States
CATEGORIES:Greek Events in Boston and the New England Area
ATTACH;FMTTYPE=image/jpeg:https://e498h76z5mp.exactdn.com/wp-content/uploads/2022/10/AHEPA-Flier-1.jpg
END:VEVENT
BEGIN:VEVENT
DTSTART;VALUE=DATE:20221119
DTEND;VALUE=DATE:20221120
DTSTAMP:20260422T235527
CREATED:20221108T214515Z
LAST-MODIFIED:20221108T214515Z
UID:89670-1668816000-1668902399@www.greekboston.com
SUMMARY:Friendsgiving Party at St Luke Greek Church at East Longmeadow MA
DESCRIPTION:
URL:https://www.greekboston.com/event/friendsgiving-party-east-longmeadow-ma/
LOCATION:Greek Orthodox Church of St Luke East Longmeadow MA\, 400 Prospect Street\, East Longmeadow\, MA 01028-3154\, MA\, 01028-3154\, United States
CATEGORIES:Greek Events in Boston and the New England Area
ATTACH;FMTTYPE=image/jpeg:https://e498h76z5mp.exactdn.com/wp-content/uploads/2022/11/314562873_501230925365596_4009084682302392227_n.jpeg
END:VEVENT
BEGIN:VEVENT
DTSTART;VALUE=DATE:20221120
DTEND;VALUE=DATE:20221121
DTSTAMP:20260422T235527
CREATED:20221107T204247Z
LAST-MODIFIED:20221107T204247Z
UID:89578-1668902400-1668988799@www.greekboston.com
SUMMARY:GOYA Friendsgiving Get Together in Woburn MA
DESCRIPTION:
URL:https://www.greekboston.com/event/goya-friendsgiving-woburn-ma/
LOCATION:Annunciation of The Virgin Mary Greek Orthodox Church  – Woburn\, MA\, 70 Montvale Avenue \, Woburn\, MA\, 01801 \, United States
CATEGORIES:Greek Events in Boston and the New England Area
ATTACH;FMTTYPE=image/jpeg:https://e498h76z5mp.exactdn.com/wp-content/uploads/2022/11/313425202_10162318891048782_2659998891478601385_n.jpeg
END:VEVENT
BEGIN:VEVENT
DTSTART;VALUE=DATE:20221122
DTEND;VALUE=DATE:20221123
DTSTAMP:20260422T235527
CREATED:20151102T130837Z
LAST-MODIFIED:20221114T225746Z
UID:51703-1669075200-1669161599@www.greekboston.com
SUMMARY:Turkey Basketball Shoot at St. Vasilios Greek Church Peabody MA
DESCRIPTION:
URL:https://www.greekboston.com/event/basketball-shoot-peabody-ma/
LOCATION:Saint Vasilios Greek Orthodox Church\, 5 Paleologos Street\, Peabody\, MA\, 01960\, United States
CATEGORIES:Greek Events in Boston and the New England Area
ATTACH;FMTTYPE=image/jpeg:https://e498h76z5mp.exactdn.com/wp-content/uploads/2015/11/315529709_2510255002447415_2416077688186067559_n.jpeg
END:VEVENT
BEGIN:VEVENT
DTSTART;VALUE=DATE:20221124
DTEND;VALUE=DATE:20221125
DTSTAMP:20260422T235527
CREATED:20221122T235452Z
LAST-MODIFIED:20221122T235452Z
UID:89857-1669248000-1669334399@www.greekboston.com
SUMMARY:Thanksgiving Dinner at Maliotis Cultural Center of Hellenic College Holy Cross
DESCRIPTION:
URL:https://www.greekboston.com/event/thanksgiving-dinner-maliotis-cultural-center/
LOCATION:Maliotis Cultural Center\, 50 Goddard Avenue\, Brookline\, MA\, 02130\, United States
CATEGORIES:Greek Events in Boston and the New England Area
ATTACH;FMTTYPE=image/jpeg:https://e498h76z5mp.exactdn.com/wp-content/uploads/2022/11/316257751_465483042382123_2500860038709470072_n.jpeg
END:VEVENT
END:VCALENDAR