BEGIN:VCALENDAR
VERSION:2.0
PRODID:-// - ECPv6.15.20//NONSGML v1.0//EN
CALSCALE:GREGORIAN
METHOD:PUBLISH
X-ORIGINAL-URL:https://www.greekboston.com
X-WR-CALDESC:Events for 
REFRESH-INTERVAL;VALUE=DURATION:PT1H
X-Robots-Tag:noindex
X-PUBLISHED-TTL:PT1H
BEGIN:VTIMEZONE
TZID:America/New_York
BEGIN:DAYLIGHT
TZOFFSETFROM:-0500
TZOFFSETTO:-0400
TZNAME:EDT
DTSTART:20130310T070000
END:DAYLIGHT
BEGIN:STANDARD
TZOFFSETFROM:-0400
TZOFFSETTO:-0500
TZNAME:EST
DTSTART:20131103T060000
END:STANDARD
BEGIN:DAYLIGHT
TZOFFSETFROM:-0500
TZOFFSETTO:-0400
TZNAME:EDT
DTSTART:20140309T070000
END:DAYLIGHT
BEGIN:STANDARD
TZOFFSETFROM:-0400
TZOFFSETTO:-0500
TZNAME:EST
DTSTART:20141102T060000
END:STANDARD
BEGIN:DAYLIGHT
TZOFFSETFROM:-0500
TZOFFSETTO:-0400
TZNAME:EDT
DTSTART:20150308T070000
END:DAYLIGHT
BEGIN:STANDARD
TZOFFSETFROM:-0400
TZOFFSETTO:-0500
TZNAME:EST
DTSTART:20151101T060000
END:STANDARD
END:VTIMEZONE
BEGIN:VEVENT
DTSTART;TZID=America/New_York:20141121T180000
DTEND;TZID=America/New_York:20141121T200000
DTSTAMP:20260422T230630
CREATED:20141110T223243Z
LAST-MODIFIED:20141111T123923Z
UID:44568-1416592800-1416600000@www.greekboston.com
SUMMARY:Potluck Dinner at Saint Athanasius the Great Greek Orthodox Church in Arlington MA
DESCRIPTION:
URL:https://www.greekboston.com/event/potluck-arlington-ma/
LOCATION:St. Athanasius the Great Greek Orthodox Church – Arlington\, MA\, 4 Appleton St\, Arlington\, MA\, 02476\, United States
CATEGORIES:Greek Events in Boston and the New England Area
ATTACH;FMTTYPE=image/jpeg:https://e498h76z5mp.exactdn.com/wp-content/uploads/2014/11/joy_thankful_flyer.jpg
END:VEVENT
BEGIN:VEVENT
DTSTART;VALUE=DATE:20141116
DTEND;VALUE=DATE:20141117
DTSTAMP:20260422T230631
CREATED:20141013T190855Z
LAST-MODIFIED:20141103T222933Z
UID:43649-1416096000-1416182399@www.greekboston.com
SUMMARY:2nd Annual Philocenia House Benefit Coffee Hour
DESCRIPTION:
URL:https://www.greekboston.com/event/philocenia-house-coffee/
LOCATION:St. John the Baptist Hellenic Orthodox Church – Boston\, MA\, 15 Union Park Street\, Boston\, MA\, 02118\, United States
CATEGORIES:Greek Events in Boston and the New England Area
ATTACH;FMTTYPE=image/jpeg:https://e498h76z5mp.exactdn.com/wp-content/uploads/2014/10/stacks_image_117.jpg
END:VEVENT
BEGIN:VEVENT
DTSTART;TZID=America/New_York:20141115T190000
DTEND;TZID=America/New_York:20141115T220000
DTSTAMP:20260422T230631
CREATED:20141016T182137Z
LAST-MODIFIED:20141016T182206Z
UID:43740-1416078000-1416088800@www.greekboston.com
SUMMARY:Sip and Shop Ladies Night Out at St. Catherine's Greek Church in Braintree MA
DESCRIPTION:Start shopping before the holiday rush!! Join the ladies from St. Catherine’s Greek Orthodox Church in Braintree MA for a Sip & Shop Night!!
URL:https://www.greekboston.com/event/ladies-night-catherines-braintree/
LOCATION:St. Catherine Greek Orthodox Church\, 119 Common Street\, Braintree\, MA\, 02184\, United States
CATEGORIES:Greek Events in Boston and the New England Area
ATTACH;FMTTYPE=image/jpeg:https://e498h76z5mp.exactdn.com/wp-content/uploads/2014/10/10636444_617035678406298_8098920232565757910_o.jpg
END:VEVENT
BEGIN:VEVENT
DTSTART;TZID=America/New_York:20141115T180000
DTEND;TZID=America/New_York:20141115T230000
DTSTAMP:20260422T230631
CREATED:20140920T141259Z
LAST-MODIFIED:20140920T141259Z
UID:42775-1416074400-1416092400@www.greekboston.com
SUMMARY:A Tribute to Orestes Demetriades Event
DESCRIPTION:
URL:https://www.greekboston.com/event/orestes-demetriades/
LOCATION:Dormition of the Virgin Mary Greek Orthodox Church\, 29 Central Street\, Somerville\, MA\, 02143\, United States
CATEGORIES:Greek Events in Boston and the New England Area
ATTACH;FMTTYPE=image/jpeg:https://e498h76z5mp.exactdn.com/wp-content/uploads/2014/09/Orestis-D-Event.jpg
END:VEVENT
BEGIN:VEVENT
DTSTART;TZID=America/New_York:20141115T110000
DTEND;TZID=America/New_York:20141115T110000
DTSTAMP:20260422T230631
CREATED:20140818T212205Z
LAST-MODIFIED:20140818T212309Z
UID:42002-1416049200-1416049200@www.greekboston.com
SUMMARY:Metropolis of Boston - Lights\, Fashion\, Philanthropy
DESCRIPTION:
URL:https://www.greekboston.com/event/lights-fashion-philanthropy/
LOCATION:Lombardo’s Randolph MA\, 6 Billings St\, Randolph\, MA\, 02368\, United States
CATEGORIES:Greek Events in Boston and the New England Area
ATTACH;FMTTYPE=image/png:https://e498h76z5mp.exactdn.com/wp-content/uploads/2014/08/Flyer_Lights_Fashion_Philan.png
END:VEVENT
BEGIN:VEVENT
DTSTART;TZID=America/New_York:20141114T200000
DTEND;TZID=America/New_York:20141122T200000
DTSTAMP:20260422T230631
CREATED:20140827T183025Z
LAST-MODIFIED:20140827T183039Z
UID:42185-1415995200-1416686400@www.greekboston.com
SUMMARY:The Trojan Women Performance in Somerville MA
DESCRIPTION:Written by Euripides Translated by Edith Hamilton Presented by special arrangement with W. W. Norton & Company In 415 B.C.E.\, Athens had just begun the Sicilian Expedition\, which would become one of its greatest military disasters. Sickened by the senseless destruction\, Euripides was moved to write what remains one of the most powerful indictments of war the world has ever known: The Trojan Women. Set only two days after the Greeks infiltrated Troy with their wooden horse\, the play explores the true reason why men go to war and who their actions affect the most. Among the once noble women who now wait to be taken to Greece as slaves are Hecuba the aging queen\, Cassandra the mad prophetess\, Andromache who was once the wife of a hero\, and the dangerously beautiful Helen of Troy herself. Location: Unity Somerville\, 6 William Street\, Somerville. Please note that parking is by permit only on William St. General parking is available on College Ave. Please read signs carefully to avoid ticketing. Performance Schedule: Friday November 14\, 2014 8 pm Saturday November 15\, 2014 8 pm Sunday November 16\, 2014 8 pm Thursday November 20\, 2014 8 pm Friday November 21\, 2014 8 pm Saturday November 22\, 2014 4 pm (matinee)
URL:https://www.greekboston.com/event/trojan-women-somerville/
LOCATION:Unity Somerville\, 6 William Street\, Somerville\, MA\, 02148\, United States
CATEGORIES:Greek Events in Boston and the New England Area
ATTACH;FMTTYPE=image/jpeg:https://e498h76z5mp.exactdn.com/wp-content/uploads/2014/08/trojan_women_logo.jpg
END:VEVENT
BEGIN:VEVENT
DTSTART;TZID=America/New_York:20141112T180000
DTEND;TZID=America/New_York:20141112T210000
DTSTAMP:20260422T230631
CREATED:20141026T113636Z
LAST-MODIFIED:20141026T113636Z
UID:43919-1415815200-1415826000@www.greekboston.com
SUMMARY:Greek Night by the Boston University Philhellenes
DESCRIPTION:
URL:https://www.greekboston.com/event/night-university-philhellenes/
LOCATION:George Sherman Union\, 775 Commonwealth Ave\, Boston\, MA\, 02215\, United States
CATEGORIES:Greek Events in Boston and the New England Area
ATTACH;FMTTYPE=image/jpeg:https://e498h76z5mp.exactdn.com/wp-content/uploads/2014/10/facebook_1414315347083.jpg
END:VEVENT
BEGIN:VEVENT
DTSTART;TZID=America/New_York:20141110T193000
DTEND;TZID=America/New_York:20141110T203000
DTSTAMP:20260422T230631
CREATED:20140908T200028Z
LAST-MODIFIED:20141104T191718Z
UID:42495-1415647800-1415651400@www.greekboston.com
SUMMARY:HarvardX for Allston: HereosX Allston Dialogue Sessions
DESCRIPTION:HarvardX for Allston: HereosX Allston Dialogue Sessions\nWebsite: http://edportal.harvard.edu/harvardx-allston-heroesx\nContact: Harvard Allston Education Portal\, 175 North Harvard St.\, Allston\, MA 02134 Phone: 617-496-5022 Email: allston_edportal@harvard.edu\n• Monday\, Nov. 10 from 7:30-8:30 p.m.- Hours 16-21 Tragedy ** With Professor Gregory Nagy\n• Thursday\, Dec. 4 from 7:15-8:15 p.m.- Hours 22-24 Plato and Beyond\nThe Harvard Allston Education Portal will host in-person “Dialogue Sessions\,” or discussion groups\, led by a Harvard teaching assistant for The Ancient Greek Hero in 24 Hours\, or HeroesX\, a free online educational project directed by Harvard Professor Gregory Nagy that introduces participants to the literature and heroes of ancient Greece.\nSimilar to a book club\, the Allston dialogue sessions will be an opportunity for interested community members to come and participate with fellow local learners\, discuss the content\, and engage in community and conversation. Explore the unique meaning of “hero” in ancient Greece and how it enriches our understanding of what it means to be human today\, from the larger-than-life contributions of solitary figures to artistic memorials and public rituals\, including poetry\, visual art\, and dramatic reenactments.\nThe dialogue sessions are intended for all audiences\, from the casually interested\, to literary enthusiasts\, to Greek history buffs. No previous knowledge of Greek history\, literature\, or language is expected. Access materials online HERE. Enrollment is free and all reading materials are available for free online. New participants are welcome throughout the duration of the project.\nFor more information please visit:\nhttp://edportal.harvard.edu/harvardx-allston-heroesx
URL:https://www.greekboston.com/event/harvardx-allston-hereosx/
LOCATION:Harvard Allston Education Portal\, 175 North Harvard Street\, Allston\, MA\, 02134 \, United States
CATEGORIES:Greek Events in Boston and the New England Area
ATTACH;FMTTYPE=image/png:https://e498h76z5mp.exactdn.com/wp-content/uploads/2014/09/harvard-allston-logo.png
END:VEVENT
BEGIN:VEVENT
DTSTART;TZID=America/New_York:20141109T130000
DTEND;TZID=America/New_York:20141109T170000
DTSTAMP:20260422T230631
CREATED:20141104T114729Z
LAST-MODIFIED:20141104T114729Z
UID:44141-1415538000-1415552400@www.greekboston.com
SUMMARY:Goya Skyzone Event for Woburn Greek Church
DESCRIPTION:
URL:https://www.greekboston.com/event/goya-skyzone/
LOCATION:Annunciation of The Virgin Mary Greek Orthodox Church  – Woburn\, MA\, 70 Montvale Avenue \, Woburn\, MA\, 01801 \, United States
CATEGORIES:Greek Events in Boston and the New England Area
ATTACH;FMTTYPE=image/jpeg:https://e498h76z5mp.exactdn.com/wp-content/uploads/2014/11/facebook_1415101023104.jpg
END:VEVENT
BEGIN:VEVENT
DTSTART;TZID=America/New_York:20141109T130000
DTEND;TZID=America/New_York:20141109T150000
DTSTAMP:20260422T230631
CREATED:20141106T172622Z
LAST-MODIFIED:20141106T172622Z
UID:44481-1415538000-1415545200@www.greekboston.com
SUMMARY:Bake Sale by the St. Spyridon Greek Orthodox Church Philoptochos
DESCRIPTION:
URL:https://www.greekboston.com/event/bake-sale-spyridon-philoptochos/
LOCATION:St. Spyridon Greek Orthodox Cathedral – Worcester\, 102 Russell Street\, Worcester\, MA\, 01609\, United States
CATEGORIES:Greek Events in Boston and the New England Area
ATTACH;FMTTYPE=image/jpeg:https://e498h76z5mp.exactdn.com/wp-content/uploads/2014/11/1404430_325174654335287_5469434494110247346_o.jpg
END:VEVENT
BEGIN:VEVENT
DTSTART;TZID=America/New_York:20141108T190000
DTEND;TZID=America/New_York:20141108T230000
DTSTAMP:20260422T230631
CREATED:20141031T115710Z
LAST-MODIFIED:20141104T115112Z
UID:43971-1415473200-1415487600@www.greekboston.com
SUMMARY:AHEPA Lord Byron Chapter 57 Greek Music Event in Brockton MA
DESCRIPTION:Live music & dancing\nSaturday\, November 8th\, 2014 7pm-11pm\nAnnunciation Greek Orthodox Church\, 457 Oak St.\, Brockton\, MA\nTickets $25 Adults\, $10 under 18\nMeze Platter/Cash Bar\n*24 South to Exit 18B\, merge onto Route 27 North\, turn right onto Oak St\, follow for .9 miles\, church will be on your left.
URL:https://www.greekboston.com/event/ahepa-music-brockton/
LOCATION:Annunciation Greek Orthodox Church – Brockton\, MA\, 457 Oak Street\, Brockton\, MA\, 02401\, United States
CATEGORIES:Greek Events in Boston and the New England Area
ATTACH;FMTTYPE=image/jpeg:https://e498h76z5mp.exactdn.com/wp-content/uploads/2014/10/facebook_1414709086745.jpg
END:VEVENT
BEGIN:VEVENT
DTSTART;TZID=America/New_York:20141108T190000
DTEND;TZID=America/New_York:20141108T230000
DTSTAMP:20260422T230631
CREATED:20141024T120651Z
LAST-MODIFIED:20141024T120651Z
UID:43832-1415473200-1415487600@www.greekboston.com
SUMMARY:Fall Greek Dance at St. George Greek Church in Keene NH
DESCRIPTION:
URL:https://www.greekboston.com/event/fall-dance-keene-nh/
LOCATION:St. George Greek Orthodox Church – Keene\, NH\, 70 West Street \, Keene\, NH\, 03431\, United States
CATEGORIES:Greek Events in Boston and the New England Area
ATTACH;FMTTYPE=image/jpeg:https://e498h76z5mp.exactdn.com/wp-content/uploads/2014/10/facebook_1414113683450.jpg
END:VEVENT
BEGIN:VEVENT
DTSTART;TZID=America/New_York:20141108T190000
DTEND;TZID=America/New_York:20141108T230000
DTSTAMP:20260422T230631
CREATED:20141012T135059Z
LAST-MODIFIED:20141021T184531Z
UID:43522-1415473200-1415487600@www.greekboston.com
SUMMARY:Holiday Dinner Dance for The Assumption of the Virgin Mary Greek Orthodox Church Dracut MA
DESCRIPTION:Mark your calendars. Holiday Dinner Dance\, Saturday\, November 8th\, 7 p.m.\, Olympia Restaurant\, Lowell\, MA Contact church office at 978-957-6051 to purchase tickets.
URL:https://www.greekboston.com/event/holiday-dinner-dance-dracut/
LOCATION:Olympia Restaurant Lowell MA\, 453 Market Street\, Lowell\, MA\, 01854\, United States
CATEGORIES:Greek Events in Boston and the New England Area
ATTACH;FMTTYPE=image/jpeg:https://e498h76z5mp.exactdn.com/wp-content/uploads/2014/10/540399_731448820241825_8271844229911485902_n.jpg
END:VEVENT
BEGIN:VEVENT
DTSTART;TZID=America/New_York:20141108T180000
DTEND;TZID=America/New_York:20141108T190000
DTSTAMP:20260422T230631
CREATED:20141027T211900Z
LAST-MODIFIED:20141027T221002Z
UID:43928-1415469600-1415473200@www.greekboston.com
SUMMARY:Greek Dinner Dance Parents Night Out at Saints Constantine & Helen Church in Webster MA
DESCRIPTION:
URL:https://www.greekboston.com/event/dinner-dance-webster/
LOCATION:Saints Constantine and Helen Greek Orthodox Church – Webster\, MA\, 37 Lake Parkway\, Webster\, MA\, 01570\, United States
CATEGORIES:Greek Events in Boston and the New England Area
ATTACH;FMTTYPE=image/jpeg:https://e498h76z5mp.exactdn.com/wp-content/uploads/2014/10/Dinner-Dance.jpg
END:VEVENT
BEGIN:VEVENT
DTSTART;TZID=America/New_York:20141108T103000
DTEND;TZID=America/New_York:20141108T123000
DTSTAMP:20260422T230631
CREATED:20141024T125021Z
LAST-MODIFIED:20141024T125021Z
UID:43842-1415442600-1415449800@www.greekboston.com
SUMMARY:A Children's Workshop II:  Ancient Greek Mythology\, Language and Art at the Greek Institute of Cambridge MA
DESCRIPTION:
URL:https://www.greekboston.com/event/childrens-workshop-institute/
LOCATION:The Greek Institute\, 1038 Massachusetts Avenue\, Cambridge\, MA\, 02138\, United States
CATEGORIES:Greek Events in Boston and the New England Area
ATTACH;FMTTYPE=image/jpeg:https://e498h76z5mp.exactdn.com/wp-content/uploads/2014/10/childrensworkshop2.jpg
END:VEVENT
BEGIN:VEVENT
DTSTART;TZID=America/New_York:20141107T190000
DTEND;TZID=America/New_York:20141107T230000
DTSTAMP:20260422T230631
CREATED:20141027T214105Z
LAST-MODIFIED:20141027T221525Z
UID:43939-1415386800-1415401200@www.greekboston.com
SUMMARY:Dancing with the Greeks at St. George Greek Orthodox Church in Bangor ME
DESCRIPTION:
URL:https://www.greekboston.com/event/dancing-greeks-bangor/
LOCATION:MA
CATEGORIES:Greek Events in Boston and the New England Area
ATTACH;FMTTYPE=image/jpeg:https://e498h76z5mp.exactdn.com/wp-content/uploads/2014/10/GreekDance2014.jpg
END:VEVENT
BEGIN:VEVENT
DTSTART;TZID=America/New_York:20141107T160000
DTEND;TZID=America/New_York:20141107T190000
DTSTAMP:20260422T230631
CREATED:20141025T112139Z
LAST-MODIFIED:20141025T112139Z
UID:43912-1415376000-1415386800@www.greekboston.com
SUMMARY:Learn How to Make Prosphoro Greek Cooking Class in Woburn MA
DESCRIPTION:
URL:https://www.greekboston.com/event/prosphoro-class-woburn/
LOCATION:Annunciation of The Virgin Mary Greek Orthodox Church  – Woburn\, MA\, 70 Montvale Avenue \, Woburn\, MA\, 01801 \, United States
CATEGORIES:Greek Events in Boston and the New England Area
ATTACH;FMTTYPE=image/jpeg:https://e498h76z5mp.exactdn.com/wp-content/uploads/2014/10/facebook_1414192658115.jpg
END:VEVENT
BEGIN:VEVENT
DTSTART;VALUE=DATE:20141107
DTEND;VALUE=DATE:20141108
DTSTAMP:20260422T230631
CREATED:20141101T161154Z
LAST-MODIFIED:20141101T162021Z
UID:44034-1415318400-1415404799@www.greekboston.com
SUMMARY:Holy Trinity Annual Greek Orthodox Community Retreat
DESCRIPTION:It is that time again for our Annual Community Retreat on the beautiful grounds of St. Methodios Faith and Heritage St. Methodios Faith and Heritage Center in Contoocook\, NH.\nHere is what we should prepare for this weekend if you are coming to the retreat:\nArrival Time:\nIf you are arriving on Friday\, please plan to do so between 5:00 p.m. and 7:15 p.m. A “rolling dinner” will be provided as people arrive.\nVespers is scheduled to start at 7:30 p.m.\nIf you are arriving on Saturday\, please note that breakfast will be served from 9:00 a.m. to 10:00 a.m.; and the first session will begin at 10:30 a.m.\nDeparture Time:\nThe Divine Liturgy will be celebrated at 9:30 a.m. on Sunday. Brunch will follow at 11:00 a.m.\nCheck-out is at noon.\nThe following is a check list of what to bring:\n–toiletries\, including soap\n–hair blow dryer for anyone who needs/wants one\n–any special snacks you might want to bring along (but not necessary).\nMeals are provided. (The Retreat Center is equipped with a refrigerator and microwave oven if you need them).\nBed and bath linens are provided; but for those who are staying in the cabins\, please bring sleeping blankets\, etc.\n–Dress for Fri/Sat is casual.\n–Dress for the Divine Liturgy on Sunday is more casual than on Sundays at home; but please be mindful and respectful of the service nonetheless.\n— We will be inside and outside throughout the weekend; so please plan accordingly.\nWe look forward to seeing all of you at the Retreat!\nInterested? Take a look at the what to offer at the retreat center: http://boston.goarch.org/assets/files/SMFHC/SMFHC_Brochure.pdf
URL:https://www.greekboston.com/event/holy-trinity-retreat/
LOCATION:Saint Methodios Faith and Heritage Center – Contoocook NH\, 329 Merrimac Road\, Contoocook\, NH\, 03229\, United States
CATEGORIES:Greek Events in Boston and the New England Area
ATTACH;FMTTYPE=image/jpeg:https://e498h76z5mp.exactdn.com/wp-content/uploads/2014/11/971308_10151927008496020_1028031085_n.jpg
END:VEVENT
BEGIN:VEVENT
DTSTART;TZID=America/New_York:20141103T170000
DTEND;TZID=America/New_York:20141103T200000
DTSTAMP:20260422T230631
CREATED:20140929T183055Z
LAST-MODIFIED:20140929T185151Z
UID:43182-1415034000-1415044800@www.greekboston.com
SUMMARY:St. Vasilios Men's Club Fundraiser at Stonewood Tavern Peabody MA
DESCRIPTION:St. Vasilios Greek Orthodox Church Men’s Club Fundraiser\n\nMonday\, November 3\, 2014\nStonewood Tavern\n139 Lynnfield Street\nPeabody\, MA\nHave dinner with us between 5:00PM and 8:00PM at the Stonewood Tavern in Peabody\, MA.\nThe Stone Wood Tavern will donate 20 percent of your meal check to the Men’s Club Accessibility Fund.  If you are unable to attend donations are welcome.\nFor more information please contact Chairman Bill Stephanides at 781-854-6751.
URL:https://www.greekboston.com/event/st-vasilios-fundraiser-peabody/
LOCATION:MA
CATEGORIES:Greek Events in Boston and the New England Area
ATTACH;FMTTYPE=image/png:https://e498h76z5mp.exactdn.com/wp-content/uploads/2014/09/St-Vals-Mens-Club.png
END:VEVENT
BEGIN:VEVENT
DTSTART;TZID=America/New_York:20141101T200000
DTEND;TZID=America/New_York:20141101T234500
DTSTAMP:20260422T230631
CREATED:20140801T195208Z
LAST-MODIFIED:20140801T195208Z
UID:41690-1414872000-1414885500@www.greekboston.com
SUMMARY:Saint Athanasius Arlington MA Greek Orthodox Church:  50th Anniversary Gala Dinner Dance Event
DESCRIPTION:
URL:https://www.greekboston.com/event/50th-anniversary-gala/
LOCATION:St. Athanasius the Great Greek Orthodox Church – Arlington\, MA\, 4 Appleton St\, Arlington\, MA\, 02476\, United States
CATEGORIES:Greek Events in Boston and the New England Area
ATTACH;FMTTYPE=image/jpeg:https://e498h76z5mp.exactdn.com/wp-content/uploads/2014/08/50th-Gala-5-x-7-Save-the-date-Postcard-5-4-14.pdf-1.jpg
END:VEVENT
BEGIN:VEVENT
DTSTART;TZID=America/New_York:20141101T180000
DTEND;TZID=America/New_York:20141101T180000
DTSTAMP:20260422T230631
CREATED:20141020T210255Z
LAST-MODIFIED:20141021T115240Z
UID:43817-1414864800-1414864800@www.greekboston.com
SUMMARY:Speaker's Forum:  Reverend Alkiviadis Calivas at Peabody MA Greek Church
DESCRIPTION:
URL:https://www.greekboston.com/event/forum-alkiviadis-calivas/
LOCATION:Saint Vasilios Greek Orthodox Church\, 5 Paleologos Street\, Peabody\, MA\, 01960\, United States
CATEGORIES:Greek Events in Boston and the New England Area
ATTACH;FMTTYPE=image/jpeg:https://e498h76z5mp.exactdn.com/wp-content/uploads/2014/10/fr-calivas-splash-photoshop-w-vespers.jpg
END:VEVENT
BEGIN:VEVENT
DTSTART;TZID=America/New_York:20141101T170000
DTEND;TZID=America/New_York:20141101T220000
DTSTAMP:20260422T230631
CREATED:20140928T121453Z
LAST-MODIFIED:20140928T121511Z
UID:43157-1414861200-1414879200@www.greekboston.com
SUMMARY:Lynn MA St George Senior Goya Reunion
DESCRIPTION:Lynn MA St George Senior Goya Reunion will be held on Saturday November 1st at 5:pm at the Ole Tyme Restaurant on Boston Street in Lynn. Cost is $20.00 per person. We will have Greek Music and a full Greek Italian Buffet. Please bring a desert for our pastry table. We will also have some fun with a Yankee Swap. Items should not exceed $20.00. We will also raffle off some great Items. Any extra money will be donated to the Heart fund in Memory of fellow Senior Goyan Greg Brown. Bring Spouses\, partners and friends. You need to call John Chipouras at 1-781-690-1274 to reserve.
URL:https://www.greekboston.com/event/lynn-goya-reunion/
LOCATION:Old Tyme Italian Cuisine Lynn\, 612 Boston Street\, Lynn\, MA\, 01905\, United States
CATEGORIES:Greek Events in Boston and the New England Area
ATTACH;FMTTYPE=image/jpeg:https://e498h76z5mp.exactdn.com/wp-content/uploads/2014/09/church4.jpg
END:VEVENT
BEGIN:VEVENT
DTSTART;VALUE=DATE:20141026
DTEND;VALUE=DATE:20141027
DTSTAMP:20260422T230631
CREATED:20141013T190022Z
LAST-MODIFIED:20141013T190022Z
UID:43645-1414281600-1414367999@www.greekboston.com
SUMMARY:A Breakfast to Benefit the Parish of St. John
DESCRIPTION:
URL:https://www.greekboston.com/event/breakfast-parish-st-john/
LOCATION:St. John the Baptist Hellenic Orthodox Church – Boston\, MA\, 15 Union Park Street\, Boston\, MA\, 02118\, United States
CATEGORIES:Greek Events in Boston and the New England Area
ATTACH;FMTTYPE=image/jpeg:https://e498h76z5mp.exactdn.com/wp-content/uploads/2014/10/Parish-of-St-John-Breakfast.jpg
END:VEVENT
BEGIN:VEVENT
DTSTART;TZID=America/New_York:20141025T183000
DTEND;TZID=America/New_York:20141025T230000
DTSTAMP:20260422T230631
CREATED:20140915T205855Z
LAST-MODIFIED:20140929T185307Z
UID:42654-1414261800-1414278000@www.greekboston.com
SUMMARY:St. Gregory's Annual Dinner Dance at Demetri's in Foxboro
DESCRIPTION:St. Gregory Theologian Dinner Dance\nSaturday\, October 25\, 2014\n6:30 – 11:00pm\nDemetri’s\, Route 1 in Foxboro\, MA\nBeginning on September 7th\, the committee will be taking dinner dance reservations in the Church hall during Sunday coffee hour. Seating preferences and full table reservations are appreciated.\n$ 90.00 – adults 19 and older\n$ 60.00 – children 16-18\n$ 30.00 – children under 16\nIn the past\, we have been fortunate that generosities have allowed us to keep the prices lower. If this year’s prices make it difficult for you to join us\, please speak with a committee member and we will try and make accommodations.\nFinal reservations and full payment must be received by October 19th. Additionally\, we will not have the flexibility for added seats or refunds after this date.\nDemetri’s will serve a wonderful assortment of hot and cold hors d’eurves. Our buffet meal will include choices of beef\, chicken\, fish\, and chicken fingers. Dan Chrisis\, DJ of Alphawave Production\, once again will provide music for our dancing pleasure.\nPlease consider inviting extended family and friends to share in our St. Gregory’s festivities.
URL:https://www.greekboston.com/event/st-gregorys-dinner/
LOCATION:Demetri’s Functions – Foxborough\, MA\, 2 Washington Street\, Foxborough\, MA\, 02035\, United States
CATEGORIES:Greek Events in Boston and the New England Area
ATTACH;FMTTYPE=image/jpeg:https://e498h76z5mp.exactdn.com/wp-content/uploads/2014/09/St-Gregory-Dinner-Dance-2014.jpg
END:VEVENT
BEGIN:VEVENT
DTSTART;TZID=America/New_York:20141025T093000
DTEND;TZID=America/New_York:20141025T160000
DTSTAMP:20260422T230631
CREATED:20141004T122130Z
LAST-MODIFIED:20141004T122130Z
UID:43329-1414229400-1414252800@www.greekboston.com
SUMMARY:Be The Bee Goya of Woburn MA Retreat
DESCRIPTION:
URL:https://www.greekboston.com/event/goya-woburn-retreat/
LOCATION:Annunciation of The Virgin Mary Greek Orthodox Church  – Woburn\, MA\, 70 Montvale Avenue \, Woburn\, MA\, 01801 \, United States
CATEGORIES:Greek Events in Boston and the New England Area
ATTACH;FMTTYPE=image/jpeg:https://e498h76z5mp.exactdn.com/wp-content/uploads/2014/10/facebook_1412375332028.jpg
END:VEVENT
BEGIN:VEVENT
DTSTART;TZID=America/New_York:20141024T183000
DTEND;TZID=America/New_York:20141024T203000
DTSTAMP:20260422T230631
CREATED:20141006T213819Z
LAST-MODIFIED:20141006T213819Z
UID:43373-1414175400-1414182600@www.greekboston.com
SUMMARY:Family Fall Festival at Taxiarchae/Archangels
DESCRIPTION:
URL:https://www.greekboston.com/event/family-fall-festival/
LOCATION:Taxiarchae Greek Orthodox Church Watertown MA\, 25 Bigelow Ave\, Watertown\, MA\, 02472\, United States
CATEGORIES:Greek Events in Boston and the New England Area
ATTACH;FMTTYPE=image/jpeg:https://e498h76z5mp.exactdn.com/wp-content/uploads/2014/10/Family-Fall-Fest.jpg
END:VEVENT
BEGIN:VEVENT
DTSTART;TZID=America/New_York:20141024T183000
DTEND;TZID=America/New_York:20141024T203000
DTSTAMP:20260422T230631
CREATED:20141001T183744Z
LAST-MODIFIED:20141013T181419Z
UID:43227-1414175400-1414182600@www.greekboston.com
SUMMARY:Fall Family FunFest at Lowell MA Greek Church
DESCRIPTION:This is a free HOPE/JOY Family Fun Night event\, open to all who wish to attend. Goodwill offerings the night of the event are greatly appreciated.
URL:https://www.greekboston.com/event/fall-family-funfest/
LOCATION:Transfiguration Greek Orthodox Church – Lowell\, MA\, 25 Fr. John Sarantos Way\, Lowell\, 01854\, United States
CATEGORIES:Greek Events in Boston and the New England Area
ATTACH;FMTTYPE=image/jpeg:https://e498h76z5mp.exactdn.com/wp-content/uploads/2014/10/facebook_1412182172556.jpg
END:VEVENT
BEGIN:VEVENT
DTSTART;TZID=America/New_York:20141024T180000
DTEND;TZID=America/New_York:20141024T200000
DTSTAMP:20260422T230631
CREATED:20141006T212028Z
LAST-MODIFIED:20141006T212038Z
UID:43365-1414173600-1414180800@www.greekboston.com
SUMMARY:Saint Athanasius the Great Joy Harvest Fest
DESCRIPTION:
URL:https://www.greekboston.com/event/joy-harvest-fest/
LOCATION:St. Athanasius the Great Greek Orthodox Church – Arlington\, MA\, 4 Appleton St\, Arlington\, MA\, 02476\, United States
CATEGORIES:Greek Events in Boston and the New England Area
ATTACH;FMTTYPE=image/jpeg:https://e498h76z5mp.exactdn.com/wp-content/uploads/2014/10/Harvest-Festival.jpg
END:VEVENT
BEGIN:VEVENT
DTSTART;VALUE=DATE:20141024
DTEND;VALUE=DATE:20141026
DTSTAMP:20260422T230631
CREATED:20141010T185014Z
LAST-MODIFIED:20141010T185014Z
UID:43508-1414108800-1414281599@www.greekboston.com
SUMMARY:Icon Workshop at St. George Greek Orthodox Church in Springfield MA
DESCRIPTION:Icon Workshop: Christopher Gosey\, the iconographer\, is coming on October 24-26. If you are interested\, please let us know by this week.
URL:https://www.greekboston.com/event/icon-springfield-ma/
LOCATION:St. George Greek Orthodox Cathedral – Springfield\, MA\, 22 St. George Road\, Springfield\, MA\, 02720\, United States
CATEGORIES:Greek Events in Boston and the New England Area
ATTACH;FMTTYPE=image/jpeg:https://e498h76z5mp.exactdn.com/wp-content/uploads/2014/10/icon-workshop-springfield.jpg
END:VEVENT
BEGIN:VEVENT
DTSTART;TZID=America/New_York:20141021T180000
DTEND;TZID=America/New_York:20141021T220000
DTSTAMP:20260422T230631
CREATED:20141007T160830Z
LAST-MODIFIED:20141007T160830Z
UID:43381-1413914400-1413928800@www.greekboston.com
SUMMARY:Parish Leadership Seminar "Creating Vibrant Orthodox Parishes- A Framework for Renewal"
DESCRIPTION:The Metropolis of Boston presents\nParish Leadership Seminar\n“Creating Vibrant Orthodox Parishes-\nA Framework for Renewal”\n\nTuesday\, October 21\nSt. Gregory the Theologian\n1007 West Street\nMansfield\, MA 02048\nFor the parishes of District 8:\nBraintree\, Brockton\, Centerville\, Cohasset\nand Mansfield\nFr. Jonathan Ivanoff\nDirector\, ONCD America Certified NCD\nand CoachNet Coach\nSeminar begins with:\n6:00 pm Dinner\n7:00 pm Presentation
URL:https://www.greekboston.com/event/leadership-seminar/
LOCATION:St. Gregory the Theologian Greek Orthodox Church – Mansfield\, MA\, 1007 West St\, Mansfield\, MA\, 02048\, United States
CATEGORIES:Greek Events in Boston and the New England Area
ATTACH;FMTTYPE=image/jpeg:https://e498h76z5mp.exactdn.com/wp-content/uploads/2014/10/10708532_932613060086276_3437183510482689549_o.jpg
END:VEVENT
END:VCALENDAR