BEGIN:VCALENDAR
VERSION:2.0
PRODID:-// - ECPv6.15.20//NONSGML v1.0//EN
CALSCALE:GREGORIAN
METHOD:PUBLISH
X-ORIGINAL-URL:https://www.greekboston.com
X-WR-CALDESC:Events for 
REFRESH-INTERVAL;VALUE=DURATION:PT1H
X-Robots-Tag:noindex
X-PUBLISHED-TTL:PT1H
BEGIN:VTIMEZONE
TZID:America/New_York
BEGIN:DAYLIGHT
TZOFFSETFROM:-0500
TZOFFSETTO:-0400
TZNAME:EDT
DTSTART:20130310T070000
END:DAYLIGHT
BEGIN:STANDARD
TZOFFSETFROM:-0400
TZOFFSETTO:-0500
TZNAME:EST
DTSTART:20131103T060000
END:STANDARD
BEGIN:DAYLIGHT
TZOFFSETFROM:-0500
TZOFFSETTO:-0400
TZNAME:EDT
DTSTART:20140309T070000
END:DAYLIGHT
BEGIN:STANDARD
TZOFFSETFROM:-0400
TZOFFSETTO:-0500
TZNAME:EST
DTSTART:20141102T060000
END:STANDARD
BEGIN:DAYLIGHT
TZOFFSETFROM:-0500
TZOFFSETTO:-0400
TZNAME:EDT
DTSTART:20150308T070000
END:DAYLIGHT
BEGIN:STANDARD
TZOFFSETFROM:-0400
TZOFFSETTO:-0500
TZNAME:EST
DTSTART:20151101T060000
END:STANDARD
END:VTIMEZONE
BEGIN:VEVENT
DTSTART;TZID=America/New_York:20140502T190000
DTEND;TZID=America/New_York:20140502T220000
DTSTAMP:20260423T132036
CREATED:20140423T103442Z
LAST-MODIFIED:20140423T104007Z
UID:38636-1399057200-1399068000@www.greekboston.com
SUMMARY:JOY Ladies Night Out at Arlington Greek Church
DESCRIPTION:James Bouboulis AuditoriumPlease join us for a painting party fundraiser to help raise money for the St. Athanasius JOY program. It will be a fun night of painting demonstrated by our very own Katerina Delegas. You can find her on www.artbykaterina.com and also on Facebook at Art by Katerina.Wine and appetizers will be served. $55 per person. Seats are limited so call and reserve your seat now.\nTickets: Angie Tsiaras: atsiaras@partners.org (617) 817-9016\nOlga Patoucheas: Olgaluckystar@gmail.com (617) 678-6499\nDemetra Awad: jakjaha@yahoo.com (978) 799-8978\nLoula Boretos: gboretos@verizon.net (617) 605-7213
URL:https://www.greekboston.com/event/joy-ladies-arlington/
LOCATION:St. Athanasius the Great Greek Orthodox Church – Arlington\, MA\, 4 Appleton St\, Arlington\, MA\, 02476\, United States
CATEGORIES:Greek Events in Boston and the New England Area
ATTACH;FMTTYPE=image/jpeg:https://e498h76z5mp.exactdn.com/wp-content/uploads/2014/04/1606910_640257332689744_585240714843475152_n.jpg
END:VEVENT
BEGIN:VEVENT
DTSTART;TZID=America/New_York:20140503T220000
DTEND;TZID=America/New_York:20140504T020000
DTSTAMP:20260423T132036
CREATED:20140401T114127Z
LAST-MODIFIED:20140429T114556Z
UID:37753-1399154400-1399168800@www.greekboston.com
SUMMARY:Greek Rebetiko Trio Show
DESCRIPTION:THIS SATURDAY\, THE GREEK REBETIKO TRIO LIVE AT THE GREEK AMERICAN POLITICAL CLUB IN CAMBRIDGE MA. AS ALWAYS\, FREE ADMISSION. SHOW BEGINS AT 930PM. PLENTY OF PARKING IN NEARBY PUBLIC LOT. 288 GREEN STREET CAMBRIDGE MA (CENTRAL SQ) FOR MORE INFO CALL (617) 354-8178
URL:https://www.greekboston.com/event/rebetiko-trio-show/
LOCATION:Greek American Political Club\, 288 Green Street\, Cambridge\, 02139\, United States
CATEGORIES:Greek Events in Boston and the New England Area
END:VEVENT
BEGIN:VEVENT
DTSTART;TZID=America/New_York:20140503T230000
DTEND;TZID=America/New_York:20140504T010000
DTSTAMP:20260423T132036
CREATED:20140423T104246Z
LAST-MODIFIED:20140423T104246Z
UID:38638-1399158000-1399165200@www.greekboston.com
SUMMARY:DJ MANOLO @ CURE Lounge in Boston MA
DESCRIPTION:PAREA BOSTON: JIMMY K\, PAUL Y\, THALIA\, GEORGE ROULA SOFIA AND MARIA CORDIALLY INVITES YOU TO OUR MONTHLY LEGENDS SERIES AT CURE BOUTIQUE!!THIS MONTH WE HAVE DJ MANOLO FROM FROM THE GOOD OLD DAYS OF AVALON\,ROXY\, EMBASSY\, M8O\, DESTINATION!!! TABLE RESERVATION OR GUEST LIST IS STRONGLY ENCOURAGE ! \nTEXTS US @\nJIMMY K 617-599-8380\nPAUL Y 857-453-0154
URL:https://www.greekboston.com/event/dj-manolo-cure-lounge/
LOCATION:Cure Lounge\, 246 Tremont Street\, Boston\, MA\, 02115\, United States
CATEGORIES:Greek Events in Boston and the New England Area
END:VEVENT
BEGIN:VEVENT
DTSTART;TZID=America/New_York:20140506T060000
DTEND;TZID=America/New_York:20140506T220000
DTSTAMP:20260423T132036
CREATED:20140427T233707Z
LAST-MODIFIED:20140427T233707Z
UID:38687-1399356000-1399413600@www.greekboston.com
SUMMARY:Saint Spyridon Ladies of Philoptochos Annual Year End Dinner Worcester MA
DESCRIPTION:
URL:https://www.greekboston.com/event/philoptochos-annual-dinner-worcester/
LOCATION:St. Spyridon Greek Orthodox Cathedral – Worcester\, 102 Russell Street\, Worcester\, MA\, 01609\, United States
CATEGORIES:Greek Events in Boston and the New England Area
ATTACH;FMTTYPE=image/jpeg:https://e498h76z5mp.exactdn.com/wp-content/uploads/2014/04/facebook_460654587-1.jpg
END:VEVENT
BEGIN:VEVENT
DTSTART;TZID=America/New_York:20140510T183000
DTEND;TZID=America/New_York:20140510T230000
DTSTAMP:20260423T132036
CREATED:20140314T203517Z
LAST-MODIFIED:20140314T203645Z
UID:37229-1399746600-1399762800@www.greekboston.com
SUMMARY:The 25th Anniversary Celebration of The Metropolis of Boston Youth Dance Group
DESCRIPTION:Raffle Prizes and Silent Auction\nAll Levels from All Churches will perform \nQuestions? Email greekdance@greekfolkdance.com
URL:https://www.greekboston.com/event/boston-greek-dance/
LOCATION:The Newton Marriott\, 2345 Commonwealth Ave\, Newton\, MA\, 02466\, United States
CATEGORIES:Greek Events in Boston and the New England Area
ATTACH;FMTTYPE=image/gif:https://e498h76z5mp.exactdn.com/wp-content/uploads/2014/03/Metropolis-Dance.gif
END:VEVENT
BEGIN:VEVENT
DTSTART;TZID=America/New_York:20140512T190000
DTEND;TZID=America/New_York:20140512T203000
DTSTAMP:20260423T132036
CREATED:20140330T120251Z
LAST-MODIFIED:20140330T120431Z
UID:37676-1399921200-1399926600@www.greekboston.com
SUMMARY:Monday Evening Lecture Series – Meletios Pouliopoulos
DESCRIPTION:“Greek Music in America – Preserving the Past\,” Instructor: Meletios Pouliopoulos – $45 Per Person\nApril 28\, May 5\,12\, 7-8:30PM –“Greek Music in America – Preserving the Past\,” Instructor: Meletios Pouliopoulos\, Archivist.\nOverview of Greek music and the recording industry 1900-1960\, a special focus on the music of the early Greeks of the Brickbottom community in Somerville\, MA\, and the crossover of music among the Greek\, Armenian and Turkish communities in New England.\nThroughout students will listen to rare performances\, view videos\, all drawn from the private collections of Mr.Pouliopoulos.
URL:https://www.greekboston.com/event/lecture-meletios-pouliopoulos-2014-05-12/
LOCATION:The Greek Institute\, 1038 Massachusetts Avenue\, Cambridge\, MA\, 02138\, United States
CATEGORIES:Greek Events in Boston and the New England Area
ATTACH;FMTTYPE=image/png:https://e498h76z5mp.exactdn.com/wp-content/uploads/2014/03/Greek-Institute.png
END:VEVENT
BEGIN:VEVENT
DTSTART;TZID=America/New_York:20140515T190000
DTEND;TZID=America/New_York:20140515T220000
DTSTAMP:20260423T132036
CREATED:20140513T150025Z
LAST-MODIFIED:20140513T150025Z
UID:39179-1400180400-1400191200@www.greekboston.com
SUMMARY:Bid N Buy Auction for Pallas Chapter 330 Daughters of Penelope
DESCRIPTION:Chinese auction Thursday\, May 14. Michael’s 6 Alpha Street\, Haverhill given by Pallas Chapter 330 Daughters of Penelope.
URL:https://www.greekboston.com/event/bid-n-buy-auction-penelope/
LOCATION:Michael’s at the Phoenician in Haverhill MA\, 6 Alpha Street\, Haverhill\, MA\, 02830\, United States
CATEGORIES:Greek Events in Boston and the New England Area
END:VEVENT
BEGIN:VEVENT
DTSTART;TZID=America/New_York:20140517T090000
DTEND;TZID=America/New_York:20140517T140000
DTSTAMP:20260423T132036
CREATED:20140415T000943Z
LAST-MODIFIED:20140415T001122Z
UID:38227-1400317200-1400335200@www.greekboston.com
SUMMARY:Philanthropy on the Run at Saint Demetrios Greek Church Weston MA
DESCRIPTION:Philanthropy on the Run- The Saint Demetrios Philoptochos is sponsoring a 5K Road Rae/Walk on Saturday\, May 17\, 2014.  The course will start and end at the Church. Registration: 7:45 a.m. – 8:45 a.m. Race begins at 9:00 a.m.\nClick on the link to register on-line at\nhttp://www.active.com/weston-ma/running/distance-running-races/philanthropy-on-the-run-the-5k-with-the-biggest-heart-2014\nAdults: $25.00/Youth (under 18): $15.00.\nFor more information on participating in the event\, please contact Eugenia Kourlos at Philoptochos@stdemetriosweston.org .
URL:https://www.greekboston.com/event/philanthropy-run-weston-ma/
LOCATION:Greek Orthodox St. Demetrios Church in Weston MA\, 57 Brown Street\, Weston\, MA\, 02493\, United States
CATEGORIES:Greek Events in Boston and the New England Area
ATTACH;FMTTYPE=image/gif:https://e498h76z5mp.exactdn.com/wp-content/uploads/2014/04/Road_Race_Poster.gif
END:VEVENT
BEGIN:VEVENT
DTSTART;TZID=America/New_York:20140518T150000
DTEND;TZID=America/New_York:20140518T150000
DTSTAMP:20260423T132036
CREATED:20140505T191606Z
LAST-MODIFIED:20140505T193716Z
UID:38946-1400425200-1400425200@www.greekboston.com
SUMMARY:Coast Into Summer Fashion Show at Newburyport Greek Church
DESCRIPTION:Annunciation Greek Orthodox Church Presents – “Coast into Summer” Fashion Show\n– Featuring the latest summer fashions from local boutiques modeled live on stage.\n– $25 per ticket includes Greek luncheon\n– Tickets may be reserved by calling 978-363-5377 or emailing jillargyrople@verizon.net\nHandicapped Accessible
URL:https://www.greekboston.com/event/fashion-show-newburyport-ma/
LOCATION:Annunciation Greek Orthodox Church – Newburyport\, MA\, 7 Harris St \, Newburyport\, MA\, 01950\, United States
CATEGORIES:Greek Events in Boston and the New England Area
ATTACH;FMTTYPE=image/jpeg:https://e498h76z5mp.exactdn.com/wp-content/uploads/2014/05/Fashion_Show_Final_2014.jpg
END:VEVENT
BEGIN:VEVENT
DTSTART;TZID=America/New_York:20140531T183000
DTEND;TZID=America/New_York:20140531T230000
DTSTAMP:20260423T132036
CREATED:20140509T211957Z
LAST-MODIFIED:20140509T212021Z
UID:39016-1401561000-1401577200@www.greekboston.com
SUMMARY:Ahepa Convention Dinner Dance at Catamount Country Club in Williston VT
DESCRIPTION:Please join us at the AHEPA convention dinner dance on Saturday May 31 Cocktails at 6:30 pm – Dinner/ Dance 7:00 pm – 11:00 pm. Everyone is invited\, you don’t need to be an Ahepan to come and no business is done at the event.\nWe will have a great meal put on by Bobby Kourkoulis at Catamount Country Club. Live Greek music by Melodia\, our group that plays at the festival!\nDiner and Greek dancing for only $60.00 per person. Please contact any Ahepan for tickets\, or email Greg at glambesis@hotmail.com\, or call 802-524-3840. Please reply by May 18th\, 2014.
URL:https://www.greekboston.com/event/ahepa-dance-williston-vt/
LOCATION:Catamount Country Club\, 1400 Mountain View Road\, Williston\, VT\, 05495\, United States
CATEGORIES:Greek Events in Boston and the New England Area
ATTACH;FMTTYPE=image/jpeg:https://e498h76z5mp.exactdn.com/wp-content/uploads/2014/05/img-banquets.jpg
END:VEVENT
BEGIN:VEVENT
DTSTART;TZID=America/New_York:20140531T200000
DTEND;TZID=America/New_York:20140531T220000
DTSTAMP:20260423T132036
CREATED:20140502T190319Z
LAST-MODIFIED:20140502T190354Z
UID:38906-1401566400-1401573600@www.greekboston.com
SUMMARY:The Greek Music Ensemble Concert at Brockton MA Greek Orthodox Church
DESCRIPTION:
URL:https://www.greekboston.com/event/music-ensemble-concert-brockton/
LOCATION:Annunciation Greek Orthodox Church – Brockton\, MA\, 457 Oak Street\, Brockton\, MA\, 02401\, United States
CATEGORIES:Greek Events in Boston and the New England Area
ATTACH;FMTTYPE=image/jpeg:https://e498h76z5mp.exactdn.com/wp-content/uploads/2014/05/greek-music-ensemble-brockton.jpg
END:VEVENT
END:VCALENDAR