BEGIN:VCALENDAR
VERSION:2.0
PRODID:-// - ECPv6.15.20//NONSGML v1.0//EN
CALSCALE:GREGORIAN
METHOD:PUBLISH
X-ORIGINAL-URL:https://www.greekboston.com
X-WR-CALDESC:Events for 
REFRESH-INTERVAL;VALUE=DURATION:PT1H
X-Robots-Tag:noindex
X-PUBLISHED-TTL:PT1H
BEGIN:VTIMEZONE
TZID:America/New_York
BEGIN:DAYLIGHT
TZOFFSETFROM:-0500
TZOFFSETTO:-0400
TZNAME:EDT
DTSTART:20130310T070000
END:DAYLIGHT
BEGIN:STANDARD
TZOFFSETFROM:-0400
TZOFFSETTO:-0500
TZNAME:EST
DTSTART:20131103T060000
END:STANDARD
BEGIN:DAYLIGHT
TZOFFSETFROM:-0500
TZOFFSETTO:-0400
TZNAME:EDT
DTSTART:20140309T070000
END:DAYLIGHT
BEGIN:STANDARD
TZOFFSETFROM:-0400
TZOFFSETTO:-0500
TZNAME:EST
DTSTART:20141102T060000
END:STANDARD
BEGIN:DAYLIGHT
TZOFFSETFROM:-0500
TZOFFSETTO:-0400
TZNAME:EDT
DTSTART:20150308T070000
END:DAYLIGHT
BEGIN:STANDARD
TZOFFSETFROM:-0400
TZOFFSETTO:-0500
TZNAME:EST
DTSTART:20151101T060000
END:STANDARD
END:VTIMEZONE
BEGIN:VEVENT
DTSTART;TZID=America/New_York:20140531T183000
DTEND;TZID=America/New_York:20140531T230000
DTSTAMP:20260422T223038
CREATED:20140509T211957Z
LAST-MODIFIED:20140509T212021Z
UID:39016-1401561000-1401577200@www.greekboston.com
SUMMARY:Ahepa Convention Dinner Dance at Catamount Country Club in Williston VT
DESCRIPTION:Please join us at the AHEPA convention dinner dance on Saturday May 31 Cocktails at 6:30 pm – Dinner/ Dance 7:00 pm – 11:00 pm. Everyone is invited\, you don’t need to be an Ahepan to come and no business is done at the event.\nWe will have a great meal put on by Bobby Kourkoulis at Catamount Country Club. Live Greek music by Melodia\, our group that plays at the festival!\nDiner and Greek dancing for only $60.00 per person. Please contact any Ahepan for tickets\, or email Greg at glambesis@hotmail.com\, or call 802-524-3840. Please reply by May 18th\, 2014.
URL:https://www.greekboston.com/event/ahepa-dance-williston-vt/
LOCATION:Catamount Country Club\, 1400 Mountain View Road\, Williston\, VT\, 05495\, United States
CATEGORIES:Greek Events in Boston and the New England Area
ATTACH;FMTTYPE=image/jpeg:https://e498h76z5mp.exactdn.com/wp-content/uploads/2014/05/img-banquets.jpg
END:VEVENT
END:VCALENDAR