BEGIN:VCALENDAR
VERSION:2.0
PRODID:-// - ECPv6.15.20//NONSGML v1.0//EN
CALSCALE:GREGORIAN
METHOD:PUBLISH
X-ORIGINAL-URL:https://www.greekboston.com
X-WR-CALDESC:Events for 
REFRESH-INTERVAL;VALUE=DURATION:PT1H
X-Robots-Tag:noindex
X-PUBLISHED-TTL:PT1H
BEGIN:VTIMEZONE
TZID:America/New_York
BEGIN:DAYLIGHT
TZOFFSETFROM:-0500
TZOFFSETTO:-0400
TZNAME:EDT
DTSTART:20130310T070000
END:DAYLIGHT
BEGIN:STANDARD
TZOFFSETFROM:-0400
TZOFFSETTO:-0500
TZNAME:EST
DTSTART:20131103T060000
END:STANDARD
BEGIN:DAYLIGHT
TZOFFSETFROM:-0500
TZOFFSETTO:-0400
TZNAME:EDT
DTSTART:20140309T070000
END:DAYLIGHT
BEGIN:STANDARD
TZOFFSETFROM:-0400
TZOFFSETTO:-0500
TZNAME:EST
DTSTART:20141102T060000
END:STANDARD
BEGIN:DAYLIGHT
TZOFFSETFROM:-0500
TZOFFSETTO:-0400
TZNAME:EDT
DTSTART:20150308T070000
END:DAYLIGHT
BEGIN:STANDARD
TZOFFSETFROM:-0400
TZOFFSETTO:-0500
TZNAME:EST
DTSTART:20151101T060000
END:STANDARD
END:VTIMEZONE
BEGIN:VEVENT
DTSTART;TZID=America/New_York:20140601T120000
DTEND;TZID=America/New_York:20140601T210000
DTSTAMP:20260423T113528
CREATED:20140611T194702Z
LAST-MODIFIED:20150518T202035Z
UID:40008-1401624000-1401656400@www.greekboston.com
SUMMARY:Annual Family Fun Day - Dormition of the Virgin Mary Church
DESCRIPTION:Family Fun Day (Panigyri)\nNoon – 9 pm\nLots of Food\, Greek Music\, and Plenty of Dancing\nFree Amusement Rides for the Children!\nRain or Shine!
URL:https://www.greekboston.com/event/family-fun-day/
LOCATION:Dormition of the Virgin Mary Greek Orthodox Church\, 29 Central Street\, Somerville\, MA\, 02143\, United States
CATEGORIES:Greek Events in Boston and the New England Area
ATTACH;FMTTYPE=image/jpeg:https://e498h76z5mp.exactdn.com/wp-content/uploads/2014/06/Family-Fun-Day.jpg
END:VEVENT
BEGIN:VEVENT
DTSTART;TZID=America/New_York:20140601T190000
DTEND;TZID=America/New_York:20140601T210000
DTSTAMP:20260423T113528
CREATED:20150429T163703Z
LAST-MODIFIED:20150611T210858Z
UID:47750-1401649200-1401656400@www.greekboston.com
SUMMARY:Greece vs Portugal Legends Cup Soccer Match in Lawrence MA
DESCRIPTION:WE JUST RECEIVED NOTICE THAT THIS SOCCER GAME/EVENT HAS BEEN CANCELLED\, FOR INFORMATION\, PLEASE CALL 800-514-3849.
URL:https://www.greekboston.com/event/greece-portugal-soccer-lawrence-ma/
LOCATION:Veterans Memorial Stadium Lawrence MA\, 70-71 N Parish Road\, Lawrence\, MA\, 01843\, United States
CATEGORIES:Greek Events in Boston and the New England Area
ATTACH;FMTTYPE=image/jpeg:https://e498h76z5mp.exactdn.com/wp-content/uploads/2015/04/portugal-vs-greece-legends-poster.jpg
END:VEVENT
BEGIN:VEVENT
DTSTART;TZID=America/New_York:20140604T190000
DTEND;TZID=America/New_York:20140604T203000
DTSTAMP:20260423T113528
CREATED:20140531T112119Z
LAST-MODIFIED:20140531T122057Z
UID:39659-1401908400-1401913800@www.greekboston.com
SUMMARY:Preserving The Past: Greek Music in the USA\, 1900-1960
DESCRIPTION:Encore Presentation! Preserving the Past: Greek Music in the USA from 1900-1960. A survey of the Greek music industry and Greek Music in America presented by Meletios Pouliopoulos\, Greek music historian and archivist. The presentation is FREE and open to the public\, and is brought to you through the generosity of the Maliotis Cultural Center.
URL:https://www.greekboston.com/event/preserving-past-music/
LOCATION:Maliotis Cultural Center\, 50 Goddard Avenue\, Brookline\, MA\, 02130\, United States
CATEGORIES:Greek Events in Boston and the New England Area
ATTACH;FMTTYPE=image/jpeg:https://e498h76z5mp.exactdn.com/wp-content/uploads/2014/05/inside_banner_a.jpg
END:VEVENT
BEGIN:VEVENT
DTSTART;TZID=America/New_York:20140608T160000
DTEND;TZID=America/New_York:20140608T170000
DTSTAMP:20260423T113528
CREATED:20140523T175617Z
LAST-MODIFIED:20140601T140243Z
UID:39544-1402243200-1402246800@www.greekboston.com
SUMMARY:SECRET LIFE-Lyrics and Music by Makis Emmanouilidis inspired by the works of Angelos Terzakis
DESCRIPTION:Original compositions by Makis Emmanouilidis based on the novels of Angelos Terzakis\, a prolific Greek writer (1907-1979). Terzakis\, a major novelist\, playwright and essayist was a member of the so called “1930s generation” that brought an air of renewal to Greek letters.\nTickets at the door: $20 general admission\, $10 students
URL:https://www.greekboston.com/event/makis-emmanouilidis-angelos-terzakis/
LOCATION:Lexington Depot\, 13 Depot Square\, Lexington\, MA\, 02420\, United States
CATEGORIES:Greek Events in Boston and the New England Area
ATTACH;FMTTYPE=image/jpeg:https://e498h76z5mp.exactdn.com/wp-content/uploads/2014/05/flyer213.jpg
END:VEVENT
BEGIN:VEVENT
DTSTART;TZID=America/New_York:20140612T170000
DTEND;TZID=America/New_York:20140612T200000
DTSTAMP:20260423T113528
CREATED:20140522T145520Z
LAST-MODIFIED:20140522T145612Z
UID:39370-1402592400-1402603200@www.greekboston.com
SUMMARY:Senior Guild Barbecue at Cathedral Center Brookline MA
DESCRIPTION:
URL:https://www.greekboston.com/event/barbecue-cathedral/
LOCATION:Cathedral Center\, 162 Goddard Ave\, Brookline\, 02445
CATEGORIES:Greek Events in Boston and the New England Area
ATTACH;FMTTYPE=image/jpeg:https://e498h76z5mp.exactdn.com/wp-content/uploads/2014/05/facebook_-1970169825.jpg
END:VEVENT
BEGIN:VEVENT
DTSTART;TZID=America/New_York:20140617T183000
DTEND;TZID=America/New_York:20140617T203000
DTSTAMP:20260423T113528
CREATED:20140604T103501Z
LAST-MODIFIED:20140604T103554Z
UID:39714-1403029800-1403037000@www.greekboston.com
SUMMARY:Bouzouki Greek Event for Clay Pell
DESCRIPTION:Ted and Alexis Demetriades invite you to meet  Clay Pell & Michelle Kwan for an evening of Bouzouki\, guitar\, and Greek delicacies.\nTuesday June 17\, 2014\n6:30 pm – 8:30 pm\nDesfina Restaurant\n202 Third Street\nCambridge\, MA 02141\nSuggested contribution $125 per person\nRSVP www.claypell.com or by contacting Amy Gabarra at amy@claypell.com or 401-996-3365\nClay Pell is a Rhode Island gubernatorial candidate with Greek roots. He is the grandson of the late Senator Claiborne Pell who established the Pell Grant program so all students can go to college. Clay previously served as an officer in the U.S. Coast Guard\, Director for Strategic Planning on the National Security Council and a Deputy Assistant Secretary at the U.S. Department of Education. Clay’s wife\, Michelle Kwan\, is America’s most decorated figure skater.
URL:https://www.greekboston.com/event/clay-pell/
LOCATION:Desfina Restaurant\, 202 Third Street\, Cambridge\, 02141\, United States
CATEGORIES:Greek Events in Boston and the New England Area
ATTACH;FMTTYPE=image/jpeg:https://e498h76z5mp.exactdn.com/wp-content/uploads/2014/06/clay-pell.jpeg
END:VEVENT
BEGIN:VEVENT
DTSTART;TZID=America/New_York:20140620T190000
DTEND;TZID=America/New_York:20140621T220000
DTSTAMP:20260423T113528
CREATED:20140610T105743Z
LAST-MODIFIED:20140610T105755Z
UID:39943-1403290800-1403388000@www.greekboston.com
SUMMARY:Divine Compassion and Women of the Church: Theological Perspectives
DESCRIPTION:Divine Compassion and Women of the Church:\nTheological Perspectives\nat\nHoly Cross Greek Orthodox School of Theology\nMaliotis Cultural Center\n\nThis conference\, sponsored by Holy Cross Greek Orthodox School of Theology\, the Metropolis of Boston\, and Saint Catherine’s Vision seeks to cultivate a deeper theological appreciation regarding ways Divine Compassion\, the eleos of God\, affects the participation of women and men in the life of the Church today. The conference builds upon the work of last year’s inaugural conference Divine Compassion: Orthodox Christians in Service of Perfect Love.\nFRIDAY\, JUNE 20th 7:00 PM\nHoly Cross Bookstore Will Open from 4-7PM\n10% Discount Offered to Conference Participants\n(On almost everything EXCEPT art and liturgical books.)\nKeynote Address by\n \nHis Eminence Metropolitan Kallistos Ware\n\n“Divine Compassion and the Ministry of Women”\nSATURDAY\, JUNE 21st \n8:00 AM-5:00 PM\nSpeakers & Discussions\nDr. Despina Prassas and Iulia Curtright\, Ph.D. cand.\nEncountering Divine Compassion: Incarnated Mercy\, the Theotokos and Women Saints\nFather Robert and Mathushka Susan Arida\nEncountering Divine Compassion: The Healing of Relationships\nBetween “Adam & Eve\,” Today\nDr. George Stavros and Kh. Christina Reimann\, M.A.\, M.Ed.\, CADAII\nEncountering Divine Compassion through Everyday Relationships:\nHome\, Community and the Workplace\nDr. Fotini Kapsalis and Dr. Kyriaki FitzGerald\nEncountering Divine Compassion: Women\, Worship and Ministry\n\nPresb. Athanasia M. Kostakis M.Div\, MSW\, D.Min cand.\nResilience in Lay Ministry from an Orthodox Perspective
URL:https://www.greekboston.com/event/women-church-theological-perspectives/
LOCATION:Maliotis Cultural Center\, 50 Goddard Avenue\, Brookline\, MA\, 02130\, United States
CATEGORIES:Greek Events in Boston and the New England Area
ATTACH;FMTTYPE=image/jpeg:https://e498h76z5mp.exactdn.com/wp-content/uploads/2014/06/facebook_-879395246.jpg
END:VEVENT
BEGIN:VEVENT
DTSTART;TZID=America/New_York:20140621T220000
DTEND;TZID=America/New_York:20140622T020000
DTSTAMP:20260423T113528
CREATED:20140529T144730Z
LAST-MODIFIED:20140617T171940Z
UID:39603-1403388000-1403402400@www.greekboston.com
SUMMARY:Mykonos Greek Beach Party at Cure Boston
DESCRIPTION:Mykonos Greek Beach Party at Cure Lounge in Boston Massachusetts on June 21\, 2014 at 10PM\, Featuring DJ George Adamakis!
URL:https://www.greekboston.com/event/mykonos-greek-beach-party/
LOCATION:Cure Lounge\, 246 Tremont Street\, Boston\, MA\, 02115\, United States
CATEGORIES:Greek Events in Boston and the New England Area
ATTACH;FMTTYPE=image/jpeg:https://e498h76z5mp.exactdn.com/wp-content/uploads/2014/05/facebook_1631555759.jpg
END:VEVENT
BEGIN:VEVENT
DTSTART;TZID=America/New_York:20140626T133000
DTEND;TZID=America/New_York:20140626T143000
DTSTAMP:20260423T113528
CREATED:20140625T103538Z
LAST-MODIFIED:20140625T103608Z
UID:40467-1403789400-1403793000@www.greekboston.com
SUMMARY:Theological Foundations of Leadership - Very Rev. Thomas Hopko at HCHC
DESCRIPTION:In our day and age\, reading books about how to be more effective leaders in the workplace is common practice. When reflecting on contemporary leadership theories\, an Orthodox Christian may recognize some overlaps with fundamental tenets of our faith. What does the Orthodox tradition have to teach us about leadership\, broadly speaking\, for all people in the Church? What does it mean to be leaders in the workplace and people of Orthodox Christian faith? \nFr. Tom is a renowned Orthodox theologian and Dean Emeritus of St Vladimir’s Orthodox Theological Seminary. He travels very little now in his retirement\, but makes the trip to Hellenic College Holy Cross every summer to serve as a professor at the CrossRoad Summer Institute. During his upcoming visit\, he will give a public address on “The Theological Foundations of Leadership\,” as part of an ongoing initiative for Emerging Leaders sponsored by a Leadership 100 grant to the Greek Orthodox Metropolis of Boston.\nThe lecture is free and open to the wider Orthodox community. Conversations and refreshments to follow. Please RSVP at the registration link below:\nhttp://www.eventbrite.com/e/theological-foundations-of-leadership-very-rev-thomas-hopko-at-hchc-tickets-12028937877?aff=mcivte
URL:https://www.greekboston.com/event/rev-thomas-hopko/
LOCATION:Hellenic College Holy Cross – Brookline MA\, 50 Goddard Ave\, Brookline\, MA\, 02445\, United States
CATEGORIES:Greek Events in Boston and the New England Area
ATTACH;FMTTYPE=image/jpeg:https://e498h76z5mp.exactdn.com/wp-content/uploads/2014/06/logoccc.jpg
END:VEVENT
END:VCALENDAR