BEGIN:VCALENDAR
VERSION:2.0
PRODID:-// - ECPv6.15.20//NONSGML v1.0//EN
CALSCALE:GREGORIAN
METHOD:PUBLISH
X-ORIGINAL-URL:https://www.greekboston.com
X-WR-CALDESC:Events for 
REFRESH-INTERVAL;VALUE=DURATION:PT1H
X-Robots-Tag:noindex
X-PUBLISHED-TTL:PT1H
BEGIN:VTIMEZONE
TZID:America/New_York
BEGIN:DAYLIGHT
TZOFFSETFROM:-0500
TZOFFSETTO:-0400
TZNAME:EDT
DTSTART:20140309T070000
END:DAYLIGHT
BEGIN:STANDARD
TZOFFSETFROM:-0400
TZOFFSETTO:-0500
TZNAME:EST
DTSTART:20141102T060000
END:STANDARD
BEGIN:DAYLIGHT
TZOFFSETFROM:-0500
TZOFFSETTO:-0400
TZNAME:EDT
DTSTART:20150308T070000
END:DAYLIGHT
BEGIN:STANDARD
TZOFFSETFROM:-0400
TZOFFSETTO:-0500
TZNAME:EST
DTSTART:20151101T060000
END:STANDARD
BEGIN:DAYLIGHT
TZOFFSETFROM:-0500
TZOFFSETTO:-0400
TZNAME:EDT
DTSTART:20160313T070000
END:DAYLIGHT
BEGIN:STANDARD
TZOFFSETFROM:-0400
TZOFFSETTO:-0500
TZNAME:EST
DTSTART:20161106T060000
END:STANDARD
END:VTIMEZONE
BEGIN:VEVENT
DTSTART;TZID=America/New_York:20150601T200000
DTEND;TZID=America/New_York:20150601T220000
DTSTAMP:20260422T124242
CREATED:20150320T182654Z
LAST-MODIFIED:20150608T205348Z
UID:47468-1433188800-1433196000@www.greekboston.com
SUMMARY:Sons and Daughters of Alexander the Great Monday Night Dancing at St. Athanasius Greek Orthodox Church in Arlington MA
DESCRIPTION:
URL:https://www.greekboston.com/event/monday-dancing-arlington-ma-2015-06-01/
LOCATION:St. Athanasius the Great Greek Orthodox Church – Arlington\, MA\, 4 Appleton St\, Arlington\, MA\, 02476\, United States
CATEGORIES:Greek Events in Boston and the New England Area
ATTACH;FMTTYPE=image/jpeg:https://e498h76z5mp.exactdn.com/wp-content/uploads/2015/03/SD-greekboston-ad.jpg
END:VEVENT
BEGIN:VEVENT
DTSTART;TZID=America/New_York:20150604T160000
DTEND;TZID=America/New_York:20150604T190000
DTSTAMP:20260422T124242
CREATED:20150504T154119Z
LAST-MODIFIED:20150504T154119Z
UID:47848-1433433600-1433444400@www.greekboston.com
SUMMARY:Senior Guild Barbecure at Cathedral Center Brookline MA
DESCRIPTION:
URL:https://www.greekboston.com/event/senior-barbecure-brookline-ma/
LOCATION:Cathedral Center\, 162 Goddard Ave\, Brookline\, 02445
CATEGORIES:Greek Events in Boston and the New England Area
ATTACH;FMTTYPE=image/jpeg:https://e498h76z5mp.exactdn.com/wp-content/uploads/2015/05/facebook_1430749501763.jpg
END:VEVENT
BEGIN:VEVENT
DTSTART;VALUE=DATE:20150606
DTEND;VALUE=DATE:20150607
DTSTAMP:20260422T124242
CREATED:20150331T191646Z
LAST-MODIFIED:20150606T120209Z
UID:47107-1433548800-1433635199@www.greekboston.com
SUMMARY:Areti Ketime Live Concert in Boston MA
DESCRIPTION:
URL:https://www.greekboston.com/event/areti-ketime/
LOCATION:Maliotis Cultural Center\, 50 Goddard Avenue\, Brookline\, MA\, 02130\, United States
CATEGORIES:Greek Events in Boston and the New England Area
ATTACH;FMTTYPE=image/png:https://e498h76z5mp.exactdn.com/wp-content/uploads/2015/03/Screen-Shot-2015-04-16-at-9.44.48-AM.png
END:VEVENT
BEGIN:VEVENT
DTSTART;VALUE=DATE:20150606
DTEND;VALUE=DATE:20150608
DTSTAMP:20260422T124242
CREATED:20150601T183442Z
LAST-MODIFIED:20160226T170935Z
UID:48338-1433548800-1433721599@www.greekboston.com
SUMMARY:Danielsen\, CT Greek Festival at Holy Trinity Greek Orthodox Church
DESCRIPTION:
URL:https://www.greekboston.com/event/danielsen-ct-festival/
LOCATION:Holy Trinity Greek Orthodox Church\, 80 Water Street\, Lowell\, MA\, 06239\, United States
CATEGORIES:Greek Events in Boston and the New England Area,Greek Festivals of New England
ATTACH;FMTTYPE=image/jpeg:https://e498h76z5mp.exactdn.com/wp-content/uploads/2015/06/Trinity.jpg
END:VEVENT
BEGIN:VEVENT
DTSTART;TZID=America/New_York:20150606T183000
DTEND;TZID=America/New_York:20150606T223000
DTSTAMP:20260422T124242
CREATED:20140402T214009Z
LAST-MODIFIED:20150307T174934Z
UID:37806-1433615400-1433629800@www.greekboston.com
SUMMARY:St. Vasilios Greek Orthodox Church of Peabody MA Men's Club Ladies Night Event
DESCRIPTION:Members and General Public Invited\n$45.00 per Person\n6:30 Cocktails & Hors d’oeuvres\n7:30 Dinner\nChoice of Prime Rib or Boston Scrod\nDance Music by the Ellas Orchestra\nFor Reservations call and mail checks to\nJohn Stavropoulos\n9 Sherwood Drive\nHookset\, NH 03106\n603 668-7057
URL:https://www.greekboston.com/event/st-vasilios-ladies-night/
LOCATION:Saint Vasilios Greek Orthodox Church\, 5 Paleologos Street\, Peabody\, MA\, 01960\, United States
CATEGORIES:Greek Events in Boston and the New England Area
ATTACH;FMTTYPE=image/jpeg:https://e498h76z5mp.exactdn.com/wp-content/uploads/2014/04/facebook_1425748078590.jpg
END:VEVENT
BEGIN:VEVENT
DTSTART;TZID=America/New_York:20150607T130000
DTEND;TZID=America/New_York:20150607T150000
DTSTAMP:20260422T124242
CREATED:20150407T163015Z
LAST-MODIFIED:20150407T163015Z
UID:47236-1433682000-1433689200@www.greekboston.com
SUMMARY:Bowling Party for Transfiguration Greek Orthodox Church Lowell MA
DESCRIPTION:Our first end-of-year event\, aimed to celebrate another  successful year of Sunday School!\nAll grades and family members are welcome. 2 hours of free bowling in an alley reserved entirely for us!  RSVP BY MAY 31ST!
URL:https://www.greekboston.com/event/bowling-party-lowell-ma/
LOCATION:Collins Bowladrome Billerica MA\, 325 Boston Road\, Billerica\, MA\, 01821\, United States
CATEGORIES:Greek Events in Boston and the New England Area
ATTACH;FMTTYPE=image/png:https://e498h76z5mp.exactdn.com/wp-content/uploads/2015/04/11129636_1028315467197678_953832086503218100_n-1.png
END:VEVENT
BEGIN:VEVENT
DTSTART;VALUE=DATE:20150610
DTEND;VALUE=DATE:20150611
DTSTAMP:20260422T124242
CREATED:20150526T144037Z
LAST-MODIFIED:20150526T144037Z
UID:48194-1433894400-1433980799@www.greekboston.com
SUMMARY:Saints Anargyroi Greek Orthodox Church Golf Classic
DESCRIPTION:June 10\, 2015: Juniper Hill Riverside Golf Course Northborough\, MA (508-393-2444)\nEntry Fee: $120.00 Per Golfer *ADVANCED REGISTRATION REQUIRED* $140.00 Per Golfer ** IF PAID AT THE DOOR** (Includes green fees\, cart\, dinner)\nDinner Only: $30.00. Registration: 8:00 A.M. Shotgun: 9:00 A.M.\nTo register for the Golf Classic\, download the register form.\nTo sign up as a sponsor for the event\, download the sponsorship form.
URL:https://www.greekboston.com/event/saints-anargyroi-greek-orthodox-golf-classic/
LOCATION:Juniper Hill Golf Course\, 202 Brigham Street\, Northborough\, MA\, 01532\, United States
CATEGORIES:Greek Events in Boston and the New England Area
ATTACH;FMTTYPE=image/jpeg:https://e498h76z5mp.exactdn.com/wp-content/uploads/2015/05/Golf1.jpg
END:VEVENT
BEGIN:VEVENT
DTSTART;TZID=America/New_York:20150620T083000
DTEND;TZID=America/New_York:20150620T103000
DTSTAMP:20260422T124242
CREATED:20150520T104956Z
LAST-MODIFIED:20150520T105055Z
UID:48128-1434789000-1434796200@www.greekboston.com
SUMMARY:His Eminence METROPOLITAN KALLISTOS WARE OF DIOKLEIA on "Divine Compassion"
DESCRIPTION:Metropolitan Kallistos of Diokleia to offer Keynote at\nSt. Catherine’s Vision Distinguished Lectureship Series at HCHC\nHis Eminence Metropolitan Kallistos (Ware) of Diokleia will offer the keynote on “Divine Compassion and Restoring the Human Icon” for the Divine Compassion Distinguished Lectureship at HCHC Saturday June 20\, 2015 from 8:30 a.m. to about 12:30 p.m. This event is being presented by Saint Catherine’s Vision (SCV). Saint Catherine’s Vision is an international Pan-Orthodox organization of women theologians and other lay servant-leaders addressing contemporary concerns of the Orthodox Church. SCV recently announced their new initiative engaging the issue of “Divine Compassion and Human Trafficking”. From this event\, a donation will be made by SCV from the net proceeds towards this new initiative. SCV will begin encouraging theological and spiritual reflection on this issue\, by initiating educational programing and promoting various ways members of the Church may respond. A fall/winter of 2016 consultation on this topic is presently being considered by SCV.\nThis Distinguished Lectureship and Brunch is co-sponsored by Holy Cross Greek Orthodox School of Theology and the Greek Orthodox Metropolis of Boston. This event will take place at the Maliotis Center of Hellenic College. A brief discussion-group opportunity related to the “Divine Compassion and Human Trafficking” initiative will be offered as a supplemental option at the end of the event. Donation for the brunch is $35.00 per person with additional sponsorship opportunities available.\nSCV is a 501(c)(3) non-profit organization and all donations are tax-deductible to the full extent allowable by law.\nOrder tickets via Eventbrite:\nhttp://www.eventbrite.com/e/his-eminence-metropolitan-kallistos-ware-of-diokleia-on-divine-compassion-and-restoring-the-human-tickets-16837432213?aff=efbevent
URL:https://www.greekboston.com/event/metropolitan-kallistos-ware-diokleia/
LOCATION:Maliotis Cultural Center\, 50 Goddard Avenue\, Brookline\, MA\, 02130\, United States
CATEGORIES:Greek Events in Boston and the New England Area
ATTACH;FMTTYPE=image/jpeg:https://e498h76z5mp.exactdn.com/wp-content/uploads/2015/05/11200892_588188984657585_9139121911043596964_n.jpg
END:VEVENT
BEGIN:VEVENT
DTSTART;TZID=America/New_York:20150622T120000
DTEND;TZID=America/New_York:20150622T160000
DTSTAMP:20260422T124242
CREATED:20140513T151254Z
LAST-MODIFIED:20140721T122821Z
UID:39184-1434974400-1434988800@www.greekboston.com
SUMMARY:Holy Trinity Centennial Picnic in Fitchburg MA
DESCRIPTION:Holy Trinity Greek Orthodox Church is celebrating its 100 year anniversary with our Centennial Picnic. Come listen to the music by none other than the disc jockeys\, The Salonika Boys. Music\, homemade food\, wonderful desserts and great fun are all waiting for you. For more information\, please call the Church office at 978-342-1216
URL:https://www.greekboston.com/event/centenial-picnic-fitchburg/
LOCATION:Holy Trinity Greek Orthodox Church – Fitchburg\, MA\, 1319 Main Street\, Fitchburg\, MA\, 01420\, United States
CATEGORIES:Greek Events in Boston and the New England Area
END:VEVENT
BEGIN:VEVENT
DTSTART;VALUE=DATE:20150625
DTEND;VALUE=DATE:20150629
DTSTAMP:20260422T124242
CREATED:20150320T183304Z
LAST-MODIFIED:20150608T205928Z
UID:46950-1435190400-1435535999@www.greekboston.com
SUMMARY:Annual Pan Macedonian Convention in Boston MA
DESCRIPTION:The Pan Macedonian Association is very excited to bring the 69th Convention to Boston. Join us for a 4 day event\, Thursday June 25th – 28th at the Newton Marriott.\nThursday June 25th: We kick off our convention on with Archeologist Lena Mendoni who is speaking about Macedonia: Yesterday and Today\, 7pm Boston University and a reception to follow.\nFriday June 26th : The Boston Harbor Boat Cruise embarking at 8:45pm and sailing at 9pm. Dance the night away with Greek DJ and cash bar. Tickets purchased before June 25\, are $35 but will increase to $40 the day of. For Tickets please: https://www.eventbrite.com/e/pan-macedonia-association-69th-convention-boston-harbor-cruise-tickets-17290079092\nSaturday June 27th : The Gala Banquet at the Grand Ballroom of the Newton Marriott from 8pm-1am. There will be performances by the Sons & Daughters of Alexander the Great of Arlington\, MA. Tickets for this event are $100.\nSunday June 28th : The Convention concludes with the Divine Liturgy at the Taxiarchae Greek Church in Watertown followed by a farewell lunch at the Annual Food Festival.   There will be another performance by the Sons & Daughters of Alexander the Great.\nFor Further Information on the 69th Convention Please Contact Convention Chairperson: George Papadopoulos (781)944-2187\nCo-Chairman: Themis Karatzas (978)979-9845\, Haralampos Stathopoulos (339)368-0551
URL:https://www.greekboston.com/event/annual-pan-macedonian-convention-in-boston-ma/
LOCATION:The Newton Marriott\, 2345 Commonwealth Ave\, Newton\, MA\, 02466\, United States
CATEGORIES:Greek Events in Boston and the New England Area
ATTACH;FMTTYPE=image/jpeg:https://e498h76z5mp.exactdn.com/wp-content/uploads/2015/03/pan-mac-convention-flier.pdf-1.jpg
END:VEVENT
BEGIN:VEVENT
DTSTART;TZID=America/New_York:20150626T180000
DTEND;TZID=America/New_York:20150626T180000
DTSTAMP:20260422T124242
CREATED:20150612T215003Z
LAST-MODIFIED:20150612T215003Z
UID:48637-1435341600-1435341600@www.greekboston.com
SUMMARY:Greek Movie "Little England" Premiere in Portland ME
DESCRIPTION:Award winning Greek film LITTLE ENGLAND is making its Portland premiere on June 26-28 at the Portland Museum of Art’s “PMA Movies”. LITTLE ENGLAND was the official Greek submission for the Academy Award for Best Foreign Film.\n \nThis gorgeously shot drama\, staged at an idyllic coastal town in Greece\, explores the lives of women with uncommon depth. Set in the 1930s\, the story centers on two young sisters who fall for the same ship captain. When the captain goes away for some time\, he returns to find that the sisters’ mother has married both of them off into unhappy relationships. The affairs then turn as choppy and unpredictable as the waves that crash against the town’s rocky beaches.\n“A woman’s picture in the most positive sense of the word . . . a handsomely mounted and impeccably acted film . . . the trio of female protagonists is never less than mesmerizing.” —Boyd van Hoeil\, The Hollywood Reporter\nDirected by Pantelis Voulgaris\n132 minutes\nIn Greek with subtitles
URL:https://www.greekboston.com/event/movie-little-england/
LOCATION:Portland Museum of Art – Portland ME\, 7 Congress Square\, Portland\, ME\, 04101\, United States
CATEGORIES:Greek Events in Boston and the New England Area
ATTACH;FMTTYPE=image/jpeg:https://e498h76z5mp.exactdn.com/wp-content/uploads/2015/06/littleengland_poster.jpg
END:VEVENT
BEGIN:VEVENT
DTSTART;TZID=America/New_York:20150626T204500
DTEND;TZID=America/New_York:20150626T224500
DTSTAMP:20260422T124242
CREATED:20150526T133036Z
LAST-MODIFIED:20150608T210045Z
UID:48186-1435351500-1435358700@www.greekboston.com
SUMMARY:Pan Macedonian Convention Boston Harbor Cruise
DESCRIPTION:Join us on the Pan Macedonian Convention Boat Cruise!\nThe cruise will embark from Boston’s Long Wharf for an evening of dancing aboard the Majesty around the Boston Harbor Skyline\, with Greek DJ and cash bar.\nTickets are $35.00 if they are bought prior to the Cruise on June 26\, through the link provided below.\nAt the time of embarkation ticket prices will go up to $40.\nFor Further Information on the Convention Boston Harbor Cruise\nPlease Contact Convention Chairperson:\nGeorge Papadopoulos (781)944-2187\nCo-Chairman:\nThemis Karatzas (978)979-9845\,\nHaralampos Stathopoulos (339)368-0551
URL:https://www.greekboston.com/event/pan-macedonian-convention-cruise/
LOCATION:Boston Harbor Cruises\, 1 Long Wharf\, Boston\, 02110\, United States
CATEGORIES:Greek Events in Boston and the New England Area
ATTACH;FMTTYPE=image/jpeg:https://e498h76z5mp.exactdn.com/wp-content/uploads/2015/05/boat-cruise-flier.jpg
END:VEVENT
END:VCALENDAR