BEGIN:VCALENDAR
VERSION:2.0
PRODID:-// - ECPv6.15.18//NONSGML v1.0//EN
CALSCALE:GREGORIAN
METHOD:PUBLISH
X-ORIGINAL-URL:https://www.greekboston.com
X-WR-CALDESC:Events for 
REFRESH-INTERVAL;VALUE=DURATION:PT1H
X-Robots-Tag:noindex
X-PUBLISHED-TTL:PT1H
BEGIN:VTIMEZONE
TZID:America/New_York
BEGIN:DAYLIGHT
TZOFFSETFROM:-0500
TZOFFSETTO:-0400
TZNAME:EDT
DTSTART:20140309T070000
END:DAYLIGHT
BEGIN:STANDARD
TZOFFSETFROM:-0400
TZOFFSETTO:-0500
TZNAME:EST
DTSTART:20141102T060000
END:STANDARD
BEGIN:DAYLIGHT
TZOFFSETFROM:-0500
TZOFFSETTO:-0400
TZNAME:EDT
DTSTART:20150308T070000
END:DAYLIGHT
BEGIN:STANDARD
TZOFFSETFROM:-0400
TZOFFSETTO:-0500
TZNAME:EST
DTSTART:20151101T060000
END:STANDARD
BEGIN:DAYLIGHT
TZOFFSETFROM:-0500
TZOFFSETTO:-0400
TZNAME:EDT
DTSTART:20160313T070000
END:DAYLIGHT
BEGIN:STANDARD
TZOFFSETFROM:-0400
TZOFFSETTO:-0500
TZNAME:EST
DTSTART:20161106T060000
END:STANDARD
END:VTIMEZONE
BEGIN:VEVENT
DTSTART;TZID=America/New_York:20150716T170000
DTEND;TZID=America/New_York:20150716T180000
DTSTAMP:20260421T200324
CREATED:20150706T161114Z
LAST-MODIFIED:20150706T161128Z
UID:48812-1437066000-1437069600@www.greekboston.com
SUMMARY:Boston Lykeion Ellinidon and Greek Music Ensemble Featured at the Outside The Box Boston Performing Arts Festival
DESCRIPTION:On Thursday\, July 16\, at 5:00 PM\, at the Park Venue\, two Greek groups will be featured. Panos Liaropoulos and the Greek Music Ensemble\, which he directs and will include other highly talented local musicians\, will be playing a variety of Greek music. Appearing with them will be the Boston Lykeion Ellinidon dance troupe. Accompanied by live Greek music\, the troupe will be authentically attired in regional dress and display dances from several areas of Greece.
URL:https://www.greekboston.com/event/outside-box-arts-festival/
LOCATION:Boston Common\, 139 Tremont Street\, Boston\, MA\, 02116\, United States
CATEGORIES:Greek Events in Boston and the New England Area
ATTACH;FMTTYPE=image/png:https://e498h76z5mp.exactdn.com/wp-content/uploads/2015/07/8h_o-nm4.png
END:VEVENT
END:VCALENDAR