BEGIN:VCALENDAR
VERSION:2.0
PRODID:-// - ECPv6.15.20//NONSGML v1.0//EN
CALSCALE:GREGORIAN
METHOD:PUBLISH
X-ORIGINAL-URL:https://www.greekboston.com
X-WR-CALDESC:Events for 
REFRESH-INTERVAL;VALUE=DURATION:PT1H
X-Robots-Tag:noindex
X-PUBLISHED-TTL:PT1H
BEGIN:VTIMEZONE
TZID:America/New_York
BEGIN:DAYLIGHT
TZOFFSETFROM:-0500
TZOFFSETTO:-0400
TZNAME:EDT
DTSTART:20140309T070000
END:DAYLIGHT
BEGIN:STANDARD
TZOFFSETFROM:-0400
TZOFFSETTO:-0500
TZNAME:EST
DTSTART:20141102T060000
END:STANDARD
BEGIN:DAYLIGHT
TZOFFSETFROM:-0500
TZOFFSETTO:-0400
TZNAME:EDT
DTSTART:20150308T070000
END:DAYLIGHT
BEGIN:STANDARD
TZOFFSETFROM:-0400
TZOFFSETTO:-0500
TZNAME:EST
DTSTART:20151101T060000
END:STANDARD
BEGIN:DAYLIGHT
TZOFFSETFROM:-0500
TZOFFSETTO:-0400
TZNAME:EDT
DTSTART:20160313T070000
END:DAYLIGHT
BEGIN:STANDARD
TZOFFSETFROM:-0400
TZOFFSETTO:-0500
TZNAME:EST
DTSTART:20161106T060000
END:STANDARD
END:VTIMEZONE
BEGIN:VEVENT
DTSTART;TZID=America/New_York:20150815T083000
DTEND;TZID=America/New_York:20150815T110000
DTSTAMP:20260422T092132
CREATED:20150811T170943Z
LAST-MODIFIED:20150811T171257Z
UID:50199-1439627400-1439636400@www.greekboston.com
SUMMARY:Feast of the Dormition Luncheon at Dormition of the Virgin Mary Greek Orthodox Church Somerville MA
DESCRIPTION:The Dormition of the Virgin Mary Greek Orthodox Church in Somerville\, invites the faithful to celebrate the great Feast of the Dormition.\nOn Saturday August 15th\, the Divine Liturgy will take place from 8:30 to 11 am.\, at the conclusion of which a festive meal will be served to all the faithful.
URL:https://www.greekboston.com/event/dormition-luncheon-somerville-ma/
LOCATION:Dormition of the Virgin Mary Greek Orthodox Church\, 29 Central Street\, Somerville\, MA\, 02143\, United States
CATEGORIES:Greek Events in Boston and the New England Area
ATTACH;FMTTYPE=image/jpeg:https://e498h76z5mp.exactdn.com/wp-content/uploads/2015/08/DORMITION-ICON.jpg
END:VEVENT
BEGIN:VEVENT
DTSTART;TZID=America/New_York:20150827T090000
DTEND;TZID=America/New_York:20150829T150000
DTSTAMP:20260422T092132
CREATED:20150810T165905Z
LAST-MODIFIED:20150810T172222Z
UID:50191-1440666000-1440860400@www.greekboston.com
SUMMARY:Attic Treasures Sale at the Saint Vasilios Greek Orthodox Church of Peabody MA
DESCRIPTION:Attic Treasures Sale\, August 27-29\, 2015\nBack by popular demand! Our Philoptochos is once again planning our Attic Treasures sale and asking for your old and new treasures. All proceeds from the sale will be donated to the much-needed Accessibility Fund.\nDates of Operation\n\n\nThursday\, August 27 – Saturday\, August 29 from 9:00 AM – 3:00 PM\n\n\nI Have Items that I Would Like to Donate:\nItems may be brought to the Parlor Room* downstairs in the Educational Center on any of the following days: \n\n\nTuesday and Thursday from 9:30-11:30 AM\n\n\nOn August 4\, 6\, 11\, 13\, 18\, and 20\n\n\n*Please do not bring in anything before these dates and please do not leave items in the Church office! \nTreasures may include: \n\n\nAll types of household items\n\n\nClothing – Women’s\, Men’s\, and Children’s\n\n\nJewelry and other accessories\n\n\nBicycles\, exercise/sports equipment\, tools\n\n\nSmall electrical appliances in good working order\n\n\nBooks (no text books please)\, CDs\, DVDs\n\n\nLinens\, bedding\, rugs\, craft items\n\n\nSmall furniture\, luggage\, leather goods\n\n\nPlease do not donate items that are in poor condition\, as we cannot sell them\, and it takes time and effort to dispose of them. \nFor More Information\nPlease feel free to call any of the following people: \n\n\nMaria Collins – (978) 531-6832\n\n\nTess Miragias – (978) 532-1858\n\n\nRuth Morfis – (978) 531-8655\n\n\nPaula Raftopoulos – (781) 254-4102
URL:https://www.greekboston.com/event/attic-treasures-sale-peabody-ma/
LOCATION:Saint Vasilios Greek Orthodox Church\, 5 Paleologos Street\, Peabody\, MA\, 01960\, United States
CATEGORIES:Greek Events in Boston and the New England Area
ATTACH;FMTTYPE=image/jpeg:https://e498h76z5mp.exactdn.com/wp-content/uploads/2015/08/banner_welcome_default.jpg
END:VEVENT
END:VCALENDAR