BEGIN:VCALENDAR
VERSION:2.0
PRODID:-// - ECPv6.15.18//NONSGML v1.0//EN
CALSCALE:GREGORIAN
METHOD:PUBLISH
X-ORIGINAL-URL:https://www.greekboston.com
X-WR-CALDESC:Events for 
REFRESH-INTERVAL;VALUE=DURATION:PT1H
X-Robots-Tag:noindex
X-PUBLISHED-TTL:PT1H
BEGIN:VTIMEZONE
TZID:America/New_York
BEGIN:DAYLIGHT
TZOFFSETFROM:-0500
TZOFFSETTO:-0400
TZNAME:EDT
DTSTART:20150308T070000
END:DAYLIGHT
BEGIN:STANDARD
TZOFFSETFROM:-0400
TZOFFSETTO:-0500
TZNAME:EST
DTSTART:20151101T060000
END:STANDARD
BEGIN:DAYLIGHT
TZOFFSETFROM:-0500
TZOFFSETTO:-0400
TZNAME:EDT
DTSTART:20160313T070000
END:DAYLIGHT
BEGIN:STANDARD
TZOFFSETFROM:-0400
TZOFFSETTO:-0500
TZNAME:EST
DTSTART:20161106T060000
END:STANDARD
BEGIN:DAYLIGHT
TZOFFSETFROM:-0500
TZOFFSETTO:-0400
TZNAME:EDT
DTSTART:20170312T070000
END:DAYLIGHT
BEGIN:STANDARD
TZOFFSETFROM:-0400
TZOFFSETTO:-0500
TZNAME:EST
DTSTART:20171105T060000
END:STANDARD
END:VTIMEZONE
BEGIN:VEVENT
DTSTART;TZID=America/New_York:20160906T183000
DTEND;TZID=America/New_York:20160906T200000
DTSTAMP:20260421T085855
CREATED:20160831T185528Z
LAST-MODIFIED:20160831T185604Z
UID:57643-1473186600-1473192000@www.greekboston.com
SUMMARY:St. Spyridon Philoptochos Annual Welcome Back Event in Worcester MA
DESCRIPTION:St. Spyridon Annual Welcome Back Event\nSpeaker: Anita Baglaneas Devlin\nAuthor of “S.O.B.E.R. A Story of Addiction Told By a Mother & Her Son”\nA compelling account of drug addiction and then hope of individual & family recovery.\n$5.00 Donation\nLimited books available for purchase $18.00/ book & signing by the author\nAll are welcome. This event is open to all members of our Cathedral & Friends.
URL:https://www.greekboston.com/event/st-spyridon-welcome-worcester-ma/
LOCATION:St. Spyridon Greek Orthodox Cathedral – Worcester\, 102 Russell Street\, Worcester\, MA\, 01609\, United States
CATEGORIES:Greek Events in Boston and the New England Area
ATTACH;FMTTYPE=image/jpeg:https://e498h76z5mp.exactdn.com/wp-content/uploads/2016/08/13988048_566966306822786_1260410510448624558_o.jpg
END:VEVENT
BEGIN:VEVENT
DTSTART;TZID=America/New_York:20160911T140000
DTEND;TZID=America/New_York:20160911T180000
DTSTAMP:20260421T085855
CREATED:20160808T184947Z
LAST-MODIFIED:20160808T184947Z
UID:57298-1473602400-1473616800@www.greekboston.com
SUMMARY:Vassara Society Picnic in Watertown MA
DESCRIPTION:
URL:https://www.greekboston.com/event/vassara-society-picnic/
LOCATION:Arsenal Park\, Watertown\, MA\, United States
ATTACH;FMTTYPE=image/jpeg:https://e498h76z5mp.exactdn.com/wp-content/uploads/2016/08/13606699_1014468865303595_5769013797086292107_n.jpg
END:VEVENT
BEGIN:VEVENT
DTSTART;TZID=America/New_York:20160912T190000
DTEND;TZID=America/New_York:20160912T210000
DTSTAMP:20260421T085855
CREATED:20160907T114734Z
LAST-MODIFIED:20160907T114734Z
UID:57692-1473706800-1473714000@www.greekboston.com
SUMMARY:Bible Study at Greek Orthodox Church of St Luke East Longmeadow MA
DESCRIPTION:
URL:https://www.greekboston.com/event/bible-study-east-longmeadow-ma/
LOCATION:Greek Orthodox Church of St Luke\, 400 Prospect Street \, East Longmeadow\, MA\, 01028\, United States
CATEGORIES:Greek Events in Boston and the New England Area
ATTACH;FMTTYPE=image/jpeg:https://e498h76z5mp.exactdn.com/wp-content/uploads/2016/09/14263983_1336339556384028_8938415701433921471_n.jpg
END:VEVENT
BEGIN:VEVENT
DTSTART;TZID=America/New_York:20160913T180000
DTEND;TZID=America/New_York:20160913T210000
DTSTAMP:20260421T085855
CREATED:20160907T115208Z
LAST-MODIFIED:20160907T115208Z
UID:57695-1473789600-1473800400@www.greekboston.com
SUMMARY:Greek Music Event at the Consulate General of Greece in Boston
DESCRIPTION:
URL:https://www.greekboston.com/event/music-consulate-general/
LOCATION:Consulate General of Greece in Boston\, 86 Beacon Street\, Boston\, Massachusetts 02108\, MA\, 02108\, United States
CATEGORIES:Greek Events in Boston and the New England Area
ATTACH;FMTTYPE=image/jpeg:https://e498h76z5mp.exactdn.com/wp-content/uploads/2016/09/14237714_600713250107709_5415760255212588386_n.jpg
END:VEVENT
BEGIN:VEVENT
DTSTART;VALUE=DATE:20160917
DTEND;VALUE=DATE:20160918
DTSTAMP:20260421T085855
CREATED:20160811T193208Z
LAST-MODIFIED:20160811T193208Z
UID:57354-1474070400-1474156799@www.greekboston.com
SUMMARY:Annual Sonia’s Run 5K Run/Walk West Roxbury MA
DESCRIPTION:Eighth Annual Sonia’s Run – 2016 Online Registration\nEvent Date: Saturday\, September 17\, 2016\, Event Time: 9 am\nOnline registration ends: 9/14/2016 at Midnight\, EST\nEighth Annual Sonia’s Run – Saturday\, September 17\, 2016\nThis challenging 5K course begins and ends at Sonia’s home parish church\, St. George Orthodox Church\, 55 Emmonsdale St.\, West Roxbury. This family-friendly day includes a kids’ fun run\, bouncy house\, face-painting\, and cookout.\nStart Time: 9 am\nRace Fee: $25 for the 5K\, $30 on Race Day\nParking: Available in the church lot as well as nearby streets.\nTeam Competition: Join a team for the Team Challenge. Teams are made up of 5 or more members. Team place will be determined by combining all 5 team members times. All team members MUST have the same exact Team Name when registering.\nFamily Fun Day\nKids’ 50m fun run at 8:30am with medals for all participants\, bouncy house\, cotton candy\, balloon animals\, cookout\, raffles\nPrizes\nCash Prizes for top three male and female finishers overall\nMedals for top three in each age category\, 19 and under\, 20-29\, 30-39\, 40-49\, 50-59\, 60+\nTheophany School Alum\nFOR MORE INFORMATION AND REGISTRATION INFORMATION\, PLEASE VISIT:\nhttp://www.soniasrun.org/
URL:https://www.greekboston.com/event/sonias-run-5k-runwalk/
LOCATION:St. George Antiochian Orthodox Church\, 55 Emmonsdale Road\, West Roxbury\, MA\, 02132\, United States
CATEGORIES:Greek Events in Boston and the New England Area
ATTACH;FMTTYPE=image/jpeg:https://e498h76z5mp.exactdn.com/wp-content/uploads/2016/08/Sonias-Run-Logo.jpg
END:VEVENT
BEGIN:VEVENT
DTSTART;VALUE=DATE:20160917
DTEND;VALUE=DATE:20160918
DTSTAMP:20260421T085855
CREATED:20160815T122325Z
LAST-MODIFIED:20160815T122325Z
UID:57387-1474070400-1474156799@www.greekboston.com
SUMMARY:Open House at the St. Methodios Faith and Heritage Center
DESCRIPTION:
URL:https://www.greekboston.com/event/open-house-methodios-center/
LOCATION:Saint Methodios Faith and Heritage Center – Contoocook NH\, 329 Merrimac Road\, Contoocook\, NH\, 03229\, United States
CATEGORIES:Greek Events in Boston and the New England Area
ATTACH;FMTTYPE=image/jpeg:https://e498h76z5mp.exactdn.com/wp-content/uploads/2016/08/facebook_1471260661213.jpg
END:VEVENT
BEGIN:VEVENT
DTSTART;TZID=America/New_York:20160917T180000
DTEND;TZID=America/New_York:20160917T210000
DTSTAMP:20260421T085855
CREATED:20160303T140141Z
LAST-MODIFIED:20160303T140141Z
UID:54239-1474135200-1474146000@www.greekboston.com
SUMMARY:An Evening with Noted Author Foti Fotiu
DESCRIPTION:Spend an evening with noted author Foti Fotiu who will offer a presentation on his book; Constantinople\, the beautiful city and the destruction of the Greek\, Armenian and Jewish ethic communities.
URL:https://www.greekboston.com/event/foti-fotiu/
LOCATION:Greek Orthodox Saint Sophia Church in New London\, CT\, 200 Hempstead Street\, New London\, CT\, 06320\, United States
CATEGORIES:Greek Events in Boston and the New England Area
ATTACH;FMTTYPE=image/jpeg:https://e498h76z5mp.exactdn.com/wp-content/uploads/2016/03/12814138_10153881441295549_9185681847053030626_n.jpg
END:VEVENT
BEGIN:VEVENT
DTSTART;TZID=America/New_York:20160918T130000
DTEND;TZID=America/New_York:20160918T130000
DTSTAMP:20260421T085855
CREATED:20160916T130758Z
LAST-MODIFIED:20160916T130758Z
UID:57821-1474203600-1474203600@www.greekboston.com
SUMMARY:Annunciation Greek Church of Woburn MA Joy and Hope Family Farm Trip
DESCRIPTION:JOY AND HOPE FAMILIES\nAfter church this coming Sunday September 18th we will be going to Connor’s Farm. This will be our third year going and we always have a great time! The cost is $13.99 per/person.\nWe will meet during coffee hour and give everyone time to change into comfy clothes and grab a snack. You may want to consider packing a lunch\, but there is food for sale at the farm. We can also try and figure out car pooling for anyone who would like to do that.\n\nIf you have any questions or concerns\, please don’t hesitate reaching out!\nHave a wonderful week!\nGod Bless\,\nThe JOY & Hope Advisors
URL:https://www.greekboston.com/event/joy-farm-trip-woburn-ma/
LOCATION:Annunciation of The Virgin Mary Greek Orthodox Church  – Woburn\, MA\, 70 Montvale Avenue \, Woburn\, MA\, 01801 \, United States
ATTACH;FMTTYPE=image/png:https://e498h76z5mp.exactdn.com/wp-content/uploads/2016/09/b78aaf_7aeb1d8a22374c8d9a66a527450ddf6a.png
END:VEVENT
BEGIN:VEVENT
DTSTART;VALUE=DATE:20160924
DTEND;VALUE=DATE:20160925
DTSTAMP:20260421T085855
CREATED:20160203T145058Z
LAST-MODIFIED:20160922T111433Z
UID:52600-1474675200-1474761599@www.greekboston.com
SUMMARY:Keene NH Greek Festival at St. George Greek Church
DESCRIPTION:Save the date… September 24\, 2016. OPA! Keene’s Greek Festival. To catch a glimpse of what’s being planned\, go to\nhttp://stgeorgekeene.org/greek-festival/
URL:https://www.greekboston.com/event/festival-keene-nh/
LOCATION:St. George Greek Orthodox Church – Keene\, NH\, 70 West Street \, Keene\, NH\, 03431\, United States
CATEGORIES:Greek Events in Boston and the New England Area,Greek Festivals of New England
ATTACH;FMTTYPE=image/jpeg:https://e498h76z5mp.exactdn.com/wp-content/uploads/2016/02/14433020_1174125842651620_2633511098034972695_n.jpg
END:VEVENT
BEGIN:VEVENT
DTSTART;TZID=America/New_York:20160924T180000
DTEND;TZID=America/New_York:20160924T220000
DTSTAMP:20260421T085855
CREATED:20150415T234046Z
LAST-MODIFIED:20160913T223928Z
UID:47394-1474740000-1474754400@www.greekboston.com
SUMMARY:Paint Night at St. Nectarios Greek Orthodox Church Roslindale MA
DESCRIPTION:
URL:https://www.greekboston.com/event/paint-night-roslindale-ma/
LOCATION:St. Nectarios Greek Orthodox Church – Roslindale\, MA\, 39 Belgrade Ave\, Roslindale\, MA\,  02131\, United States
CATEGORIES:Greek Events in Boston and the New England Area
ATTACH;FMTTYPE=image/jpeg:https://e498h76z5mp.exactdn.com/wp-content/uploads/2015/04/Paint-Night-Flyer_9-2016-4.jpg
END:VEVENT
BEGIN:VEVENT
DTSTART;TZID=America/New_York:20160924T190000
DTEND;TZID=America/New_York:20160924T213000
DTSTAMP:20260421T085855
CREATED:20160906T174056Z
LAST-MODIFIED:20160906T174056Z
UID:57687-1474743600-1474752600@www.greekboston.com
SUMMARY:Oinos in Concert in Arlington MA
DESCRIPTION:
URL:https://www.greekboston.com/event/oinos-arlington-ma/
LOCATION:Arlington Center for the Arts\, 41 Foster Street\, Arlington\, MA\, 02474\, United States
CATEGORIES:Greek Events in Boston and the New England Area
ATTACH;FMTTYPE=image/jpeg:https://e498h76z5mp.exactdn.com/wp-content/uploads/2016/09/14212577_1591197177850241_3024490750289037566_n.jpg
END:VEVENT
BEGIN:VEVENT
DTSTART;TZID=America/New_York:20160925T150000
DTEND;TZID=America/New_York:20160926T010000
DTSTAMP:20260421T085855
CREATED:20160909T151342Z
LAST-MODIFIED:20160914T180337Z
UID:57716-1474815600-1474851600@www.greekboston.com
SUMMARY:Panagiotis Lalezas Lecture & Greek Night in Cambridge MA
DESCRIPTION:“Perhaps the best [Greek] musician I have encountered in recent years.” -George Dalaras\nListen\, learn\, and enjoy as acclaimed vocalist Panayotis Lalezas guides you on a Greek musical journey featuring traditional styles from the entire mainland as well as the Cyclades\, Asia Minor\, and even early rebetiko. Joined by Vasilis Kostas on laouto\, Stavros Pappas on clarinet\, and Lefteris Kordis on keys\, this rare infusion of lecture and performance comes to Cambridge on September 25.\nFrom 3-5 p.m.\, Lalezas will conduct a lecture/demonstration on Greek music\, with instrumental accompaniment.\nThe dance begins at 7 p.m. on the 2nd floor of the GAPC\, featuring cash bar and a huge dance floor – bring all your family & friends!\nTICKETS\n$20 lecture\, $20 dance\, $35 for both events\n$25 dance tickets at door\nBuy online at https://www.eventbrite.com/e/boston-lykeion-ellinidon-presents-panagiotis-lalezas-tickets-27666368854\nYou may also send a check payable to “Boston Lykeion Ellinidon” to P.O. Box 653\, Northborough\, MA 01532\, noting the number and types of tickets you are purchasing. Contact Sandy at 978-764-4810 to reserve a table or with any questions.
URL:https://www.greekboston.com/event/panagiotis-lalezas/
LOCATION:Greek American Political Club\, 288 Green Street\, Cambridge\, 02139\, United States
CATEGORIES:Greek Events in Boston and the New England Area
ATTACH;FMTTYPE=image/jpeg:https://e498h76z5mp.exactdn.com/wp-content/uploads/2016/09/LALEZAS-8x11.jpg
END:VEVENT
BEGIN:VEVENT
DTSTART;TZID=America/New_York:20160928T190000
DTEND;TZID=America/New_York:20160928T210000
DTSTAMP:20260421T085855
CREATED:20160921T204954Z
LAST-MODIFIED:20160921T205007Z
UID:57896-1475089200-1475096400@www.greekboston.com
SUMMARY:St. Gregory's Book Club: The Mountain of Silence Mansfield MA
DESCRIPTION:Father Ted will be starting up a new group that will meet for 6 weeks\, starting on Wednesday\, September 28th at 7PM.\nThe first book that we will be discussing is “The Mountain of Silence” by Kyriacos Makrides. It is available in our bookstore.
URL:https://www.greekboston.com/event/book-club-mansfield-ma/
LOCATION:St. Gregory the Theologian Greek Orthodox Church – Mansfield\, MA\, 1007 West St\, Mansfield\, MA\, 02048\, United States
CATEGORIES:Greek Events in Boston and the New England Area
ATTACH;FMTTYPE=image/jpeg:https://e498h76z5mp.exactdn.com/wp-content/uploads/2016/09/14370042_1483199768360933_5047222482355149681_n.jpg
END:VEVENT
BEGIN:VEVENT
DTSTART;VALUE=DATE:20160930
DTEND;VALUE=DATE:20161002
DTSTAMP:20260421T085855
CREATED:20160606T134503Z
LAST-MODIFIED:20160914T153108Z
UID:56597-1475193600-1475366399@www.greekboston.com
SUMMARY:Gyro Fest at St. Athanasius the Great Greek Church Arlington MA
DESCRIPTION:
URL:https://www.greekboston.com/event/gyro-fest-arlington-ma/
LOCATION:St. Athanasius the Great Greek Orthodox Church – Arlington\, MA\, 4 Appleton St\, Arlington\, MA\, 02476\, United States
CATEGORIES:Greek Events in Boston and the New England Area,Greek Festivals of New England
ATTACH;FMTTYPE=image/jpeg:https://e498h76z5mp.exactdn.com/wp-content/uploads/2016/06/facebook_1473808085891.jpg
END:VEVENT
END:VCALENDAR