BEGIN:VCALENDAR
VERSION:2.0
PRODID:-// - ECPv6.15.18//NONSGML v1.0//EN
CALSCALE:GREGORIAN
METHOD:PUBLISH
X-ORIGINAL-URL:https://www.greekboston.com
X-WR-CALDESC:Events for 
REFRESH-INTERVAL;VALUE=DURATION:PT1H
X-Robots-Tag:noindex
X-PUBLISHED-TTL:PT1H
BEGIN:VTIMEZONE
TZID:America/New_York
BEGIN:DAYLIGHT
TZOFFSETFROM:-0500
TZOFFSETTO:-0400
TZNAME:EDT
DTSTART:20150308T070000
END:DAYLIGHT
BEGIN:STANDARD
TZOFFSETFROM:-0400
TZOFFSETTO:-0500
TZNAME:EST
DTSTART:20151101T060000
END:STANDARD
BEGIN:DAYLIGHT
TZOFFSETFROM:-0500
TZOFFSETTO:-0400
TZNAME:EDT
DTSTART:20160313T070000
END:DAYLIGHT
BEGIN:STANDARD
TZOFFSETFROM:-0400
TZOFFSETTO:-0500
TZNAME:EST
DTSTART:20161106T060000
END:STANDARD
BEGIN:DAYLIGHT
TZOFFSETFROM:-0500
TZOFFSETTO:-0400
TZNAME:EDT
DTSTART:20170312T070000
END:DAYLIGHT
BEGIN:STANDARD
TZOFFSETFROM:-0400
TZOFFSETTO:-0500
TZNAME:EST
DTSTART:20171105T060000
END:STANDARD
END:VTIMEZONE
BEGIN:VEVENT
DTSTART;VALUE=DATE:20160924
DTEND;VALUE=DATE:20160925
DTSTAMP:20260420T183347
CREATED:20160203T145058Z
LAST-MODIFIED:20160922T111433Z
UID:52600-1474675200-1474761599@www.greekboston.com
SUMMARY:Keene NH Greek Festival at St. George Greek Church
DESCRIPTION:Save the date… September 24\, 2016. OPA! Keene’s Greek Festival. To catch a glimpse of what’s being planned\, go to\nhttp://stgeorgekeene.org/greek-festival/
URL:https://www.greekboston.com/event/festival-keene-nh/
LOCATION:St. George Greek Orthodox Church – Keene\, NH\, 70 West Street \, Keene\, NH\, 03431\, United States
CATEGORIES:Greek Events in Boston and the New England Area,Greek Festivals of New England
ATTACH;FMTTYPE=image/jpeg:https://e498h76z5mp.exactdn.com/wp-content/uploads/2016/02/14433020_1174125842651620_2633511098034972695_n.jpg
END:VEVENT
END:VCALENDAR