BEGIN:VCALENDAR
VERSION:2.0
PRODID:-// - ECPv6.15.18//NONSGML v1.0//EN
CALSCALE:GREGORIAN
METHOD:PUBLISH
X-ORIGINAL-URL:https://www.greekboston.com
X-WR-CALDESC:Events for 
REFRESH-INTERVAL;VALUE=DURATION:PT1H
X-Robots-Tag:noindex
X-PUBLISHED-TTL:PT1H
BEGIN:VTIMEZONE
TZID:America/New_York
BEGIN:DAYLIGHT
TZOFFSETFROM:-0500
TZOFFSETTO:-0400
TZNAME:EDT
DTSTART:20150308T070000
END:DAYLIGHT
BEGIN:STANDARD
TZOFFSETFROM:-0400
TZOFFSETTO:-0500
TZNAME:EST
DTSTART:20151101T060000
END:STANDARD
BEGIN:DAYLIGHT
TZOFFSETFROM:-0500
TZOFFSETTO:-0400
TZNAME:EDT
DTSTART:20160313T070000
END:DAYLIGHT
BEGIN:STANDARD
TZOFFSETFROM:-0400
TZOFFSETTO:-0500
TZNAME:EST
DTSTART:20161106T060000
END:STANDARD
BEGIN:DAYLIGHT
TZOFFSETFROM:-0500
TZOFFSETTO:-0400
TZNAME:EDT
DTSTART:20170312T070000
END:DAYLIGHT
BEGIN:STANDARD
TZOFFSETFROM:-0400
TZOFFSETTO:-0500
TZNAME:EST
DTSTART:20171105T060000
END:STANDARD
END:VTIMEZONE
BEGIN:VEVENT
DTSTART;TZID=America/New_York:20161004T190000
DTEND;TZID=America/New_York:20161004T220000
DTSTAMP:20260420T163811
CREATED:20160523T124608Z
LAST-MODIFIED:20160523T124608Z
UID:56438-1475607600-1475618400@www.greekboston.com
SUMMARY:“Rhetoric of the Gods: Echoes of Antiquity in 17th Century French Lute Music” – introduction and performance by Catherine Liddell
DESCRIPTION:“Rhetoric of the Gods: Echoes of Antiquity in 17th Century French Lute Music” – introduction and performance by Catherine Liddell\nCatherine Liddell is known primarily for her skill\, sensitivity and experience accompanying 16th and 17th century music on lute and theorbo. In that capacity\, she has performed with many of America’s leading period instrument ensembles\, including\, locally\, the Handel & Haydn Society and Boston Baroque. In the solo repertoire for lute\, she has a deep passion for 17th century French music and has given recitals of this rarely-heard repertoire at the Lute Society of America Summer Seminars and in fringe events at the Boston Early Music Festival. Her solo recording\, La Belle Voilée\, 17th Century French Music by Jacques Gallot and Others is available on the Centaur label and on iTunes.\nShe has also published Sacred Music for Lute\, available through Lyre Editions\, Fort Worth\, Texas. A graduate of Sarah Lawrence College\, Ms. Liddell earned the Soloist Diploma from the Schola Cantorum Basiliensis in Basel\, Switzerland. She is Lecturer in Lute in the Historical Performance Program at Boston University and recently was appointed Chairman of the Board of the Aston Magna Foundation\, which sponsors the longest running annual summer festival in America devoted to music performed on period instruments. For this program she explores the lute’s association with ancient Greek mythology which began in the 15th century and continued into the 17th century.
URL:https://www.greekboston.com/event/gods-echoes-antiquity/
LOCATION:The Greek Institute\, 1038 Massachusetts Avenue\, Cambridge\, MA\, 02138\, United States
CATEGORIES:Greek Events in Boston and the New England Area
ATTACH;FMTTYPE=image/gif:https://e498h76z5mp.exactdn.com/wp-content/uploads/2016/05/gilogo.gif
END:VEVENT
BEGIN:VEVENT
DTSTART;TZID=America/New_York:20161015T113000
DTEND;TZID=America/New_York:20161015T150000
DTSTAMP:20260420T163811
CREATED:20160517T155947Z
LAST-MODIFIED:20160921T204810Z
UID:56132-1476531000-1476543600@www.greekboston.com
SUMMARY:Festival of Tables Event at St. Spyridon Greek Orthodox Church Worcester MA
DESCRIPTION:
URL:https://www.greekboston.com/event/festival-tables-worcester-ma/
LOCATION:St. Spyridon Greek Orthodox Cathedral – Worcester\, 102 Russell Street\, Worcester\, MA\, 01609\, United States
CATEGORIES:Greek Events in Boston and the New England Area
ATTACH;FMTTYPE=image/jpeg:https://e498h76z5mp.exactdn.com/wp-content/uploads/2016/05/14441206_585074655011951_4769003838850564251_n.jpg
END:VEVENT
END:VCALENDAR