BEGIN:VCALENDAR
VERSION:2.0
PRODID:-// - ECPv6.15.18//NONSGML v1.0//EN
CALSCALE:GREGORIAN
METHOD:PUBLISH
X-ORIGINAL-URL:https://www.greekboston.com
X-WR-CALDESC:Events for 
REFRESH-INTERVAL;VALUE=DURATION:PT1H
X-Robots-Tag:noindex
X-PUBLISHED-TTL:PT1H
BEGIN:VTIMEZONE
TZID:America/New_York
BEGIN:DAYLIGHT
TZOFFSETFROM:-0500
TZOFFSETTO:-0400
TZNAME:EDT
DTSTART:20190310T070000
END:DAYLIGHT
BEGIN:STANDARD
TZOFFSETFROM:-0400
TZOFFSETTO:-0500
TZNAME:EST
DTSTART:20191103T060000
END:STANDARD
BEGIN:DAYLIGHT
TZOFFSETFROM:-0500
TZOFFSETTO:-0400
TZNAME:EDT
DTSTART:20200308T070000
END:DAYLIGHT
BEGIN:STANDARD
TZOFFSETFROM:-0400
TZOFFSETTO:-0500
TZNAME:EST
DTSTART:20201101T060000
END:STANDARD
BEGIN:DAYLIGHT
TZOFFSETFROM:-0500
TZOFFSETTO:-0400
TZNAME:EDT
DTSTART:20210314T070000
END:DAYLIGHT
BEGIN:STANDARD
TZOFFSETFROM:-0400
TZOFFSETTO:-0500
TZNAME:EST
DTSTART:20211107T060000
END:STANDARD
END:VTIMEZONE
BEGIN:VEVENT
DTSTART;VALUE=DATE:20200710
DTEND;VALUE=DATE:20200721
DTSTAMP:20260421T164449
CREATED:20200709T205805Z
LAST-MODIFIED:20200709T205805Z
UID:84578-1594339200-1595289599@www.greekboston.com
SUMMARY:Online Hellenic Film Festival
DESCRIPTION:
URL:https://www.greekboston.com/event/online-hellenic-film-festival/
CATEGORIES:Greek Events in Boston and the New England Area
ATTACH;FMTTYPE=image/jpeg:https://e498h76z5mp.exactdn.com/wp-content/uploads/2020/07/GFE_onDemand_Flyer_8.5x11_V2-FINAL-2-_2_-1.jpg
END:VEVENT
BEGIN:VEVENT
DTSTART;TZID=America/New_York:20200718T100000
DTEND;TZID=America/New_York:20200718T140000
DTSTAMP:20260421T164449
CREATED:20200708T153349Z
LAST-MODIFIED:20200708T153349Z
UID:84548-1595066400-1595080800@www.greekboston.com
SUMMARY:Never On A Ice Crean Sunday Event at Annunciation Greek Church Woburn MA
DESCRIPTION:
URL:https://www.greekboston.com/event/ice-crean-woburn-ma/
LOCATION:Annunciation of The Virgin Mary Greek Orthodox Church  – Woburn\, MA\, 70 Montvale Avenue \, Woburn\, MA\, 01801 \, United States
CATEGORIES:Greek Events in Boston and the New England Area
ATTACH;FMTTYPE=image/jpeg:https://e498h76z5mp.exactdn.com/wp-content/uploads/2020/07/never-on-a-sundae-final.jpg
END:VEVENT
BEGIN:VEVENT
DTSTART;VALUE=DATE:20200719
DTEND;VALUE=DATE:20200727
DTSTAMP:20260421T164449
CREATED:20200720T181424Z
LAST-MODIFIED:20200720T181441Z
UID:84653-1595116800-1595807999@www.greekboston.com
SUMMARY:Taste and Art of Greece - Benefit for Annunciation Greek Church Newburyport MA
DESCRIPTION:One week only! Sunday\, July 19 – Sunday\, July 26\nTo Benefit Annunciation Greek Orthodox Church – Newburyport\, MA\nWe are pleased to announce that Taste and Art of Greece\, an online boutique providing made in Greece products\, in conjunction with Yoleni’s Providence\, whose flagship store and cafe is in Kolanaki\, Athens\, and now a location in Providence RI providing food imports from Greece right here in New England\, have generously offered to donate\n10% of all their online sales during the period of July 19th through July 26th to our Church.\nThis is a wonderful way to support these small businesses that promote Hellenism\, buy something from Greece to enjoy or give as a gift\, but more importantly\, help our beloved Church during this time of crisis.\nAbout the suppliers:\nTaste and Art of Greece works directly with independent artisans and suppliers of Greece to bring unique and traditional products in fashion\, accessories\, handicrafts\, religious items\, and more! Jewelry\, handbags and most accessories will ship free with coupon code FREESHIP at checkout. They also ship free for all products anywhere in the USA for a minimum purchase of $65.\nVisit http://www.tasteandartofgreece.com during July 19th-26th to shop their extensive catalog and help build a donation for our Church!\nYoleni’s Providence originated in Athens\, Greece\, and is known as THE e-commerce source bringing authentic Greek flavors via their online website. Creating delicious gourmet gifts to ship worldwide and also hosting guests in their cafe in Providence\, RI\, they offer an expansive variety of food from Greece for all to enjoy. Be sure to visit them in Rhode Island\, eat in their European style cafe\, and take home some extra goodies from their Market.\nIn the meantime\, shop their website at https://providence.yolenis.com/ during July 19th-26th and bring their delicious flavors to your home or send as a gift!\n***All your online purchases in that time period will help build our donation so tell your family and friends all over the world!***\nIf you are shopping for yourself or ahead of time for any celebrations\, now is a great time to stock up at both of these fantastic retailers of authentic Greek products while helping our Church during this difficult time.\nFollow their Facebook and Instagram pages Taste and Art of Greece\, and Yolenis.Providence to get updates on their various products and offerings\, and all you have to do is shop on their websites at http://www.tasteandartofgreece.com and Greek Restaurant & Market in Providence\, RI | Yoleni’s Providence between July 19th and July 26th to help build our donation.\nSpread the word to your friends and family !\nSales from anywhere in the world will qualify towards the 10% donation!!!!
URL:https://www.greekboston.com/event/taste-art-benefit-newburyport-ma/
CATEGORIES:Greek Events in Boston and the New England Area
ATTACH;FMTTYPE=image/jpeg:https://e498h76z5mp.exactdn.com/wp-content/uploads/2020/07/109139344_627956251458933_3964352804877954562_n-1.jpg
END:VEVENT
END:VCALENDAR