BEGIN:VCALENDAR
VERSION:2.0
PRODID:-// - ECPv6.15.18//NONSGML v1.0//EN
CALSCALE:GREGORIAN
METHOD:PUBLISH
X-ORIGINAL-URL:https://www.greekboston.com
X-WR-CALDESC:Events for 
REFRESH-INTERVAL;VALUE=DURATION:PT1H
X-Robots-Tag:noindex
X-PUBLISHED-TTL:PT1H
BEGIN:VTIMEZONE
TZID:America/New_York
BEGIN:DAYLIGHT
TZOFFSETFROM:-0500
TZOFFSETTO:-0400
TZNAME:EDT
DTSTART:20190310T070000
END:DAYLIGHT
BEGIN:STANDARD
TZOFFSETFROM:-0400
TZOFFSETTO:-0500
TZNAME:EST
DTSTART:20191103T060000
END:STANDARD
BEGIN:DAYLIGHT
TZOFFSETFROM:-0500
TZOFFSETTO:-0400
TZNAME:EDT
DTSTART:20200308T070000
END:DAYLIGHT
BEGIN:STANDARD
TZOFFSETFROM:-0400
TZOFFSETTO:-0500
TZNAME:EST
DTSTART:20201101T060000
END:STANDARD
BEGIN:DAYLIGHT
TZOFFSETFROM:-0500
TZOFFSETTO:-0400
TZNAME:EDT
DTSTART:20210314T070000
END:DAYLIGHT
BEGIN:STANDARD
TZOFFSETFROM:-0400
TZOFFSETTO:-0500
TZNAME:EST
DTSTART:20211107T060000
END:STANDARD
END:VTIMEZONE
BEGIN:VEVENT
DTSTART;VALUE=DATE:20201003
DTEND;VALUE=DATE:20201004
DTSTAMP:20260421T222332
CREATED:20180719T210234Z
LAST-MODIFIED:20200921T210706Z
UID:72575-1601683200-1601769599@www.greekboston.com
SUMMARY:Annual Greek Music Festival in Brookline MA
DESCRIPTION:
URL:https://www.greekboston.com/event/music-festival-brookline-ma/
CATEGORIES:Greek Events in Boston and the New England Area,Greek Festivals of New England
ATTACH;FMTTYPE=image/jpeg:https://e498h76z5mp.exactdn.com/wp-content/uploads/2018/07/3rd-Festival.jpg
END:VEVENT
BEGIN:VEVENT
DTSTART;VALUE=DATE:20201004
DTEND;VALUE=DATE:20201005
DTSTAMP:20260421T222332
CREATED:20200916T185713Z
LAST-MODIFIED:20200916T185713Z
UID:85252-1601769600-1601855999@www.greekboston.com
SUMMARY:Gyro Sunday Event at St. Demetrios Greek Church Weston MA
DESCRIPTION:
URL:https://www.greekboston.com/event/gyro-sunday-weston-ma/
LOCATION:Greek Orthodox St. Demetrios Church in Weston MA\, 57 Brown Street\, Weston\, MA\, 02493\, United States
CATEGORIES:Greek Events in Boston and the New England Area,Greek Festivals of New England
ATTACH;FMTTYPE=image/jpeg:https://e498h76z5mp.exactdn.com/wp-content/uploads/2020/09/119079844_10160120235958572_5489371911318977236_o.jpg
END:VEVENT
BEGIN:VEVENT
DTSTART;VALUE=DATE:20201011
DTEND;VALUE=DATE:20201012
DTSTAMP:20260421T222332
CREATED:20200629T213112Z
LAST-MODIFIED:20201007T191042Z
UID:84470-1602374400-1602460799@www.greekboston.com
SUMMARY:Gyro Day at Holy Trinity Greek Church Bridgeport CT
DESCRIPTION:
URL:https://www.greekboston.com/event/gyro-day-bridgeport-ct/
LOCATION:Holy Trinity Greek Church Bridgeport CT\, 4070 Park Ave\, Bridgeport\, CT\, 06604\, United States
CATEGORIES:Greek Events in Boston and the New England Area,Greek Festivals of New England
ATTACH;FMTTYPE=image/jpeg:https://e498h76z5mp.exactdn.com/wp-content/uploads/2020/06/120955062_10223578162979068_71044063877768015_n.jpg
END:VEVENT
BEGIN:VEVENT
DTSTART;TZID=America/New_York:20201017T133000
DTEND;TZID=America/New_York:20201017T150000
DTSTAMP:20260421T222332
CREATED:20201015T213553Z
LAST-MODIFIED:20201015T213553Z
UID:85536-1602941400-1602946800@www.greekboston.com
SUMMARY:GOYA Hike for St. Gregory the Theologian Greek Church Mansfield MA
DESCRIPTION:
URL:https://www.greekboston.com/event/goya-hike-mansfield-ma/
CATEGORIES:Greek Events in Boston and the New England Area
ATTACH;FMTTYPE=image/jpeg:https://e498h76z5mp.exactdn.com/wp-content/uploads/2020/10/121175857_3995338987146986_592705933143257263_n.jpg
END:VEVENT
BEGIN:VEVENT
DTSTART;TZID=America/New_York:20201018T190000
DTEND;TZID=America/New_York:20201018T203000
DTSTAMP:20260421T222332
CREATED:20201013T220351Z
LAST-MODIFIED:20201013T220414Z
UID:85517-1603047600-1603053000@www.greekboston.com
SUMMARY:OPA! Preserving Greek Music Heritage\, with Meletios Pouliopoulos
DESCRIPTION:
URL:https://www.greekboston.com/event/preserving-music-heritage/
CATEGORIES:Greek Events in Boston and the New England Area
ATTACH;FMTTYPE=image/png:https://e498h76z5mp.exactdn.com/wp-content/uploads/2020/10/Screen-Shot-2020-10-13-at-6.02.54-PM.png
END:VEVENT
BEGIN:VEVENT
DTSTART;VALUE=DATE:20201025
DTEND;VALUE=DATE:20201026
DTSTAMP:20260421T222332
CREATED:20201009T204152Z
LAST-MODIFIED:20201009T204152Z
UID:85486-1603584000-1603670399@www.greekboston.com
SUMMARY:Annual Pastitsio Sale at Dormition of the Virgin Mary Greek Church Somerville MA
DESCRIPTION:Pre Order your Pastitsio here: https://dormitionpastitsio.square.site/home\nYour support of our fundraiser helps bring enrichment programs to the children of our community.
URL:https://www.greekboston.com/event/pastitsio-sale-somerville-ma/
LOCATION:Dormition of the Virgin Mary Greek Orthodox Church\, 29 Central Street\, Somerville\, MA\, 02143\, United States
CATEGORIES:Greek Events in Boston and the New England Area,Greek Festivals of New England
ATTACH;FMTTYPE=image/jpeg:https://e498h76z5mp.exactdn.com/wp-content/uploads/2020/10/120764528_6222213154495_5463845719580022984_n.jpg
END:VEVENT
BEGIN:VEVENT
DTSTART;VALUE=DATE:20201025
DTEND;VALUE=DATE:20201026
DTSTAMP:20260421T222332
CREATED:20201009T204411Z
LAST-MODIFIED:20201009T204411Z
UID:85489-1603584000-1603670399@www.greekboston.com
SUMMARY:Blood Drive at Taxiarchae Greek Church Watertown MA
DESCRIPTION:
URL:https://www.greekboston.com/event/blood-drive-watertown-ma/
LOCATION:Taxiarchae Greek Orthodox Church Watertown MA\, 25 Bigelow Ave\, Watertown\, MA\, 02472\, United States
CATEGORIES:Greek Events in Boston and the New England Area
ATTACH;FMTTYPE=image/jpeg:https://e498h76z5mp.exactdn.com/wp-content/uploads/2020/10/121093001_3603882566308719_4014820024475414445_o.jpg
END:VEVENT
BEGIN:VEVENT
DTSTART;VALUE=DATE:20201029
DTEND;VALUE=DATE:20201030
DTSTAMP:20260421T222332
CREATED:20201015T213840Z
LAST-MODIFIED:20201015T213840Z
UID:85539-1603929600-1604015999@www.greekboston.com
SUMMARY:Europeans in Boston During Covid Zoom Meeting
DESCRIPTION:Thursday\, October 29\, 2:30pmEST/9:30Athens\nThe German EU rotating presidency in Boston kindly organizes a science diplomacy event on Covid 19. The webinar will feature distinguished European scientists and researchers who are working in Boston and who will share their personal experiences in the scientific fight against Covid.\nOne of the 4 European scientists is Dr. George Barbastathis\, Professor for Mechanical Engineering at the MIT\, who has a major role in the designing of a model that quantifies the impact of quarantine measures on Covid-19’s spread.\nThe machine learning algorithm combines data on the disease’s spread with a neural network\, to help predict when infections will slow down in each country. We would like to personally thank Professor Barbastathis for accepting our invitation to take part in the European seminar. Thanks to Dr. Barbastathis\, Greece is present in one more important European scientific initiative in Boston.\n#ScienceDiplomacy\nhttps://www.eventbrite.com/e/europeans-in-boston-during-covid-perspectives-and-experiences-tickets-125023730343?fbclid=IwAR2xM2Kx-IV7hknzYtu_4IoqMKcAYJxzT5bvaNu0FDMHboYfu6Xk27nDyZs
URL:https://www.greekboston.com/event/europeans-during-covid/
CATEGORIES:Greek Events in Boston and the New England Area
ATTACH;FMTTYPE=image/jpeg:https://e498h76z5mp.exactdn.com/wp-content/uploads/2020/10/121635293_1594404557405235_8205364032722158776_o.jpg
END:VEVENT
END:VCALENDAR