BEGIN:VCALENDAR
VERSION:2.0
PRODID:-// - ECPv6.15.18//NONSGML v1.0//EN
CALSCALE:GREGORIAN
METHOD:PUBLISH
X-ORIGINAL-URL:https://www.greekboston.com
X-WR-CALDESC:Events for 
REFRESH-INTERVAL;VALUE=DURATION:PT1H
X-Robots-Tag:noindex
X-PUBLISHED-TTL:PT1H
BEGIN:VTIMEZONE
TZID:America/New_York
BEGIN:DAYLIGHT
TZOFFSETFROM:-0500
TZOFFSETTO:-0400
TZNAME:EDT
DTSTART:20190310T070000
END:DAYLIGHT
BEGIN:STANDARD
TZOFFSETFROM:-0400
TZOFFSETTO:-0500
TZNAME:EST
DTSTART:20191103T060000
END:STANDARD
BEGIN:DAYLIGHT
TZOFFSETFROM:-0500
TZOFFSETTO:-0400
TZNAME:EDT
DTSTART:20200308T070000
END:DAYLIGHT
BEGIN:STANDARD
TZOFFSETFROM:-0400
TZOFFSETTO:-0500
TZNAME:EST
DTSTART:20201101T060000
END:STANDARD
BEGIN:DAYLIGHT
TZOFFSETFROM:-0500
TZOFFSETTO:-0400
TZNAME:EDT
DTSTART:20210314T070000
END:DAYLIGHT
BEGIN:STANDARD
TZOFFSETFROM:-0400
TZOFFSETTO:-0500
TZNAME:EST
DTSTART:20211107T060000
END:STANDARD
END:VTIMEZONE
BEGIN:VEVENT
DTSTART;VALUE=DATE:20201206
DTEND;VALUE=DATE:20201207
DTSTAMP:20260422T022414
CREATED:20171001T115045Z
LAST-MODIFIED:20201009T204914Z
UID:66533-1607212800-1607299199@www.greekboston.com
SUMMARY:Philoptochos Benefit Christmas Tea for Transfiguration Greek Church
DESCRIPTION:For the past 66 years\, the Ladies Philoptochos of the Transfiguration Greek Orthodox Church has hosted our primary fundraiser\, a Christmas Benefit Tea\, where we have gathered together in fellowship. Unfortunately\, with the restrictions in place this year due to COVID-19\, our annual Tea\, planned for Sunday\, December 6\, 2020\, will not take place.\n\nWhat remains unchanged is the commitment of Philoptochos to reach out and support the national\, metropolis\, and local causes that are in need now more than ever before. Though the uncertainty of the pandemic has interrupted our traditional event\, we cordially invite you to participate in this year’s 67th Annual Christmas Tea Fundraiser with a donation of $50.00. All proceeds will benefit our annual ministries\, as well as several additional charities impacted by the coronavirus pandemic.\n\nThanks to the generosity of our loyal Raffle patrons\, three cash gift cards in the amounts of $250\, $300\, and a grand prize of $500.00 will be awarded as part of this year’s Fundraiser. One complimentary raffle ticket is included for each $50.00 donation. The raffle will be drawn at noon on Sunday\, December 6\, 2020\, and the winner will be notified immediately.\n\nLearn more and give online at philoptochos-tea.eventbrite.com.
URL:https://www.greekboston.com/event/christmas-tea-lowell-ma/
CATEGORIES:Greek Events in Boston and the New England Area
ATTACH;FMTTYPE=image/jpeg:https://e498h76z5mp.exactdn.com/wp-content/uploads/2017/10/121047447_3902037696492093_2556714842859434969_o.jpg
END:VEVENT
BEGIN:VEVENT
DTSTART;TZID=America/New_York:20201212T110000
DTEND;TZID=America/New_York:20201212T150000
DTSTAMP:20260422T022414
CREATED:20201204T214849Z
LAST-MODIFIED:20201204T214849Z
UID:85839-1607770800-1607785200@www.greekboston.com
SUMMARY:To Go Holiday Lunch and Pastries at Assumption Greek Church Newburyport MA
DESCRIPTION:
URL:https://www.greekboston.com/event/holiday-lunch-pastries-newburyport-ma/
LOCATION:Annunciation Greek Orthodox Church – Newburyport\, MA\, 7 Harris St \, Newburyport\, MA\, 01950\, United States
CATEGORIES:Greek Events in Boston and the New England Area
ATTACH;FMTTYPE=image/jpeg:https://e498h76z5mp.exactdn.com/wp-content/uploads/2020/12/GtGHoliday4-with-edits-page-001.jpg
END:VEVENT
BEGIN:VEVENT
DTSTART;TZID=America/New_York:20201213T113000
DTEND;TZID=America/New_York:20201213T180000
DTSTAMP:20260422T022414
CREATED:20201204T214222Z
LAST-MODIFIED:20201204T220140Z
UID:85836-1607859000-1607882400@www.greekboston.com
SUMMARY:Holiday Food Pop Up Event at St. George Greek Church Lynn MA
DESCRIPTION:PLEASE PLACE YOUR ORDER HERE:\nhttps://stgeorgelynn.smartonlineorder.com
URL:https://www.greekboston.com/event/holiday-food-pop-up-lynn-ma/
LOCATION:Greek Orthodox St. George Church in Lynn MA\, 54 South Common Street\, Lynn\, 01902\, United States
CATEGORIES:Greek Events in Boston and the New England Area
ATTACH;FMTTYPE=image/jpeg:https://e498h76z5mp.exactdn.com/wp-content/uploads/2020/12/pop-up-flyer-21024_1.jpg
END:VEVENT
BEGIN:VEVENT
DTSTART;TZID=America/New_York:20201219T120000
DTEND;TZID=America/New_York:20201219T140000
DTSTAMP:20260422T022414
CREATED:20201123T222045Z
LAST-MODIFIED:20201123T222045Z
UID:85774-1608379200-1608386400@www.greekboston.com
SUMMARY:Santa Drive Wave By at Greek International Food Market West Roxbury MA
DESCRIPTION:HoHoHo\nWe’ve made the nice list again this year! Drive by and wave to SANTA on the corner of Washington Street and Grove Street. (Please do not get our of your car)\nGreek International Food Market\n5204 Washington Street\nWest Roxbury MA 02132\nCatch our Santa calls to kids on Sunday\, December 20th from the Greek International Headquarters.\nForm below:\nhttps://greekintlmarket.wufoo.com/forms/calls-from-santa/
URL:https://www.greekboston.com/event/santa-drive-wave-west-roxbury-ma/
LOCATION:Greek International Market West Roxbury MA\, 5204 Washington Street\, West Roxbury\, MA\, 02132\, United States
CATEGORIES:Greek Events in Boston and the New England Area
ATTACH;FMTTYPE=image/jpeg:https://e498h76z5mp.exactdn.com/wp-content/uploads/2020/11/126363483_10158116573654620_7373838772362854318_o.jpg
END:VEVENT
BEGIN:VEVENT
DTSTART;TZID=America/New_York:20201220T130000
DTEND;TZID=America/New_York:20201220T160000
DTSTAMP:20260422T022414
CREATED:20201207T222744Z
LAST-MODIFIED:20201207T222744Z
UID:85860-1608469200-1608480000@www.greekboston.com
SUMMARY:GOYA Caroling Event at Greek Church of St Luke East Longmeadow MA
DESCRIPTION:
URL:https://www.greekboston.com/event/goya-caroling-east-longmeadow-ma/
LOCATION:Greek Orthodox Church of St Luke East Longmeadow MA\, 400 Prospect Street\, East Longmeadow\, MA 01028-3154\, MA\, 01028-3154\, United States
CATEGORIES:Greek Events in Boston and the New England Area
ATTACH;FMTTYPE=image/jpeg:https://e498h76z5mp.exactdn.com/wp-content/uploads/2020/12/130512315_5002364536448160_16519070343197435_n.jpg
END:VEVENT
BEGIN:VEVENT
DTSTART;VALUE=DATE:20201231
DTEND;VALUE=DATE:20210101
DTSTAMP:20260422T022414
CREATED:20141230T131207Z
LAST-MODIFIED:20211228T193751Z
UID:45443-1609372800-1609459199@www.greekboston.com
SUMMARY:New Year's Eve Celebration at St. Sophia Greek Church in New London CT
DESCRIPTION:THIS EVENT HAS BEEN CANCELLED
URL:https://www.greekboston.com/event/new-years-new-london-ct/
LOCATION:Greek Orthodox Saint Sophia Church in New London\, CT\, 200 Hempstead Street\, New London\, CT\, 06320\, United States
CATEGORIES:Greek Events in Boston and the New England Area
ATTACH;FMTTYPE=image/jpeg:https://e498h76z5mp.exactdn.com/wp-content/uploads/2014/12/270209292_10159265749720549_6901354839782630454_n.jpeg
END:VEVENT
END:VCALENDAR