BEGIN:VCALENDAR
VERSION:2.0
PRODID:-// - ECPv6.15.20//NONSGML v1.0//EN
CALSCALE:GREGORIAN
METHOD:PUBLISH
X-ORIGINAL-URL:https://www.greekboston.com
X-WR-CALDESC:Events for 
REFRESH-INTERVAL;VALUE=DURATION:PT1H
X-Robots-Tag:noindex
X-PUBLISHED-TTL:PT1H
BEGIN:VTIMEZONE
TZID:America/New_York
BEGIN:DAYLIGHT
TZOFFSETFROM:-0500
TZOFFSETTO:-0400
TZNAME:EDT
DTSTART:20200308T070000
END:DAYLIGHT
BEGIN:STANDARD
TZOFFSETFROM:-0400
TZOFFSETTO:-0500
TZNAME:EST
DTSTART:20201101T060000
END:STANDARD
BEGIN:DAYLIGHT
TZOFFSETFROM:-0500
TZOFFSETTO:-0400
TZNAME:EDT
DTSTART:20210314T070000
END:DAYLIGHT
BEGIN:STANDARD
TZOFFSETFROM:-0400
TZOFFSETTO:-0500
TZNAME:EST
DTSTART:20211107T060000
END:STANDARD
BEGIN:DAYLIGHT
TZOFFSETFROM:-0500
TZOFFSETTO:-0400
TZNAME:EDT
DTSTART:20220313T070000
END:DAYLIGHT
BEGIN:STANDARD
TZOFFSETFROM:-0400
TZOFFSETTO:-0500
TZNAME:EST
DTSTART:20221106T060000
END:STANDARD
END:VTIMEZONE
BEGIN:VEVENT
DTSTART;VALUE=DATE:20210508
DTEND;VALUE=DATE:20210509
DTSTAMP:20260422T121927
CREATED:20210422T201122Z
LAST-MODIFIED:20210422T201122Z
UID:86514-1620432000-1620518399@www.greekboston.com
SUMMARY:Greek To Go Mothers Day Annunciation Greek Church Newburyport MA
DESCRIPTION:
URL:https://www.greekboston.com/event/mothers-day-newburyport-ma/
LOCATION:Annunciation Greek Orthodox Church – Newburyport\, MA\, 7 Harris St \, Newburyport\, MA\, 01950\, United States
CATEGORIES:Greek Events in Boston and the New England Area
ATTACH;FMTTYPE=image/jpeg:https://e498h76z5mp.exactdn.com/wp-content/uploads/2021/04/GTG-Mothers-Day-FINAL-1-scaled.jpg
END:VEVENT
BEGIN:VEVENT
DTSTART;VALUE=DATE:20210508
DTEND;VALUE=DATE:20210509
DTSTAMP:20260422T121927
CREATED:20220225T220743Z
LAST-MODIFIED:20220506T192423Z
UID:88485-1620432000-1620518399@www.greekboston.com
SUMMARY:Alexandros Tsouvelas Greek Comedy Show in Braintree MA
DESCRIPTION:THIS EVENT HAS BEEN CANCELLED!
URL:https://www.greekboston.com/event/alexandros-tsouvelas-show/
LOCATION:Saint Catherine Greek Orthodox Church\, 119 Common Street\, Braintree\, MA\, 02184\, United States
CATEGORIES:Greek Events in Boston and the New England Area
ATTACH;FMTTYPE=image/jpeg:https://e498h76z5mp.exactdn.com/wp-content/uploads/2022/02/PHOTO-2022-02-25-09-31-25.jpg
END:VEVENT
BEGIN:VEVENT
DTSTART;VALUE=DATE:20210514
DTEND;VALUE=DATE:20210607
DTSTAMP:20260422T121927
CREATED:20210514T220934Z
LAST-MODIFIED:20210514T221022Z
UID:86613-1620950400-1623023999@www.greekboston.com
SUMMARY:"Yiayia Knows Best" Virtual Show by Katharine Jordan
DESCRIPTION:﻿ \n“Yiayia Knows Best” is a one-woman show about the Greek-American experience.\nPLEASE NOTE: The YouTube link for “Yiayia Knows Best” will be at the bottom of your confirmation email and will allow you to watch the show ANYTIME until June 6th at 11:00pm CDT. If you don’t know what day you can attend\, you can select tickets for any day and watch the show whenever you want and how many times you like during the month-long run of the show.\nShow Summary: A combination of storytelling and song\, “Yiayia Knows Best\,“ is told from the perspectives of Yiayia and her granddaughter\, Katie. Hear Yiayia’s story of immigration and survival\, her hopes and worries\, her struggle and success; intertwined with Katie’s perspective on growing up as “a piece of white bread dipped in olive oil” (half Greek). We hope you will join us for this world premiere\, one-woman show\, as it pays homage to the woman\, the myth\, the legend: Yiayia!\nWritten and Performed by Katharine Jordan. Directed by Kurt Steiner. Accompanists John Berst and Matthew Pollack.\nRating: PG-13 (language)\nRun Time: 50 minutes\nREGISTER FOR THIS VIRTUAL EVENT HERE:\nhttps://www.eventbrite.com/e/yiayia-knows-best-tickets-150625259205
URL:https://www.greekboston.com/event/yiayia-knows-best-katharine-jordan/
CATEGORIES:Greek Events in Boston and the New England Area
ATTACH;FMTTYPE=image/png:https://e498h76z5mp.exactdn.com/wp-content/uploads/2021/05/Yiayia-Knows-Best-Flyer.png
END:VEVENT
BEGIN:VEVENT
DTSTART;TZID=America/New_York:20210526T183000
DTEND;TZID=America/New_York:20210526T203000
DTSTAMP:20260422T121927
CREATED:20210514T173907Z
LAST-MODIFIED:20210514T173907Z
UID:86605-1622053800-1622061000@www.greekboston.com
SUMMARY:St. Val's Men's Club Outdoor BBQ
DESCRIPTION:The St. Val’s Men’s Club will be hosting a Welcome Back BBQ in the Church Courtyard on Wednesday\, May 26th\, at 6:30 PM.\nThis is an over-21 event and is FREE (Donations Accepted) and open to all men of the parish and their male friends.\nWe cordially invite you and encourage you to bring a friend or two to enjoy an evening of fun and fellowship!\nIn addition to our usual $50 raffle\, we will also be drawing the winner of the Annual $5k Grande Raffle.\nWe still have a few available. Please email us at mensclub@stvasilios.org if you would like one\nPlease RSVP by email to mensclub@stvasilios.org
URL:https://www.greekboston.com/event/st-vals-mens-club-outdoor-bbq/
LOCATION:Saint Vasilios Greek Orthodox Church\, 5 Paleologos Street\, Peabody\, MA\, 01960\, United States
CATEGORIES:Greek Events in Boston and the New England Area
ATTACH;FMTTYPE=image/png:https://e498h76z5mp.exactdn.com/wp-content/uploads/2021/05/185826796_2070637006409219_1238553823640840317_n.png
END:VEVENT
BEGIN:VEVENT
DTSTART;TZID=America/New_York:20210526T190000
DTEND;TZID=America/New_York:20210526T203000
DTSTAMP:20260422T121927
CREATED:20210513T225242Z
LAST-MODIFIED:20210513T225242Z
UID:86599-1622055600-1622061000@www.greekboston.com
SUMMARY:Changemakers: Greek Women 1821-2021 Virtual Event
DESCRIPTION:Greek women have preserved\, protected\, challenged and led in diverse domains for centuries. On the bicentennial of the Greek War of Independence\, the Consulate General of Greece in Boston and the Boston Lykeion Ellinidon announce an upcoming panel discussion spotlighting women changemakers in Greek history to the present day. The event\, titled “Changemakers: Greek Women from 1821 to 2021\,” will take place virtually via Zoom on Wednesday\, May 26th\, at 7:00 p.m. EDT\, and the working language will be English. It will include a Q&A session with the panelists. Free.\nThe event panelists are:\nDr. Ioli Kalavrezou\, Dumbarton Oaks Professor of Byzantine Art History\, Harvard University\nDr. Maria Koundoura\, Professor of Literature and Transnational Culture and Special Advisor to the Provost\, Emerson College\nMs. Marina Hatsopoulos\, Entrepreneur\, Writer\, and Board Chair\, Levitronix Technologies\nThe discussion will be moderated by Dr. Eurydice Georganteli\, Lecturer on Art History and Numismatics at Harvard University.\nRegister for the event at this link:\nhttps://harvard.zoom.us/webinar/register/WN_5Q0jpb3TQZ2-1g6FhegCvQ\nFor more information\, contact info@bostonlykeion.org.
URL:https://www.greekboston.com/event/changemakers-greek-women-1821-2021/
CATEGORIES:Greek Events in Boston and the New England Area
ATTACH;FMTTYPE=image/png:https://e498h76z5mp.exactdn.com/wp-content/uploads/2021/05/image-3.png
END:VEVENT
END:VCALENDAR