BEGIN:VCALENDAR
VERSION:2.0
PRODID:-// - ECPv6.15.20//NONSGML v1.0//EN
CALSCALE:GREGORIAN
METHOD:PUBLISH
X-ORIGINAL-URL:https://www.greekboston.com
X-WR-CALDESC:Events for 
REFRESH-INTERVAL;VALUE=DURATION:PT1H
X-Robots-Tag:noindex
X-PUBLISHED-TTL:PT1H
BEGIN:VTIMEZONE
TZID:America/New_York
BEGIN:DAYLIGHT
TZOFFSETFROM:-0500
TZOFFSETTO:-0400
TZNAME:EDT
DTSTART:20200308T070000
END:DAYLIGHT
BEGIN:STANDARD
TZOFFSETFROM:-0400
TZOFFSETTO:-0500
TZNAME:EST
DTSTART:20201101T060000
END:STANDARD
BEGIN:DAYLIGHT
TZOFFSETFROM:-0500
TZOFFSETTO:-0400
TZNAME:EDT
DTSTART:20210314T070000
END:DAYLIGHT
BEGIN:STANDARD
TZOFFSETFROM:-0400
TZOFFSETTO:-0500
TZNAME:EST
DTSTART:20211107T060000
END:STANDARD
BEGIN:DAYLIGHT
TZOFFSETFROM:-0500
TZOFFSETTO:-0400
TZNAME:EDT
DTSTART:20220313T070000
END:DAYLIGHT
BEGIN:STANDARD
TZOFFSETFROM:-0400
TZOFFSETTO:-0500
TZNAME:EST
DTSTART:20221106T060000
END:STANDARD
END:VTIMEZONE
BEGIN:VEVENT
DTSTART;VALUE=DATE:20210716
DTEND;VALUE=DATE:20210717
DTSTAMP:20260422T161406
CREATED:20140902T195655Z
LAST-MODIFIED:20210616T220757Z
UID:42379-1626393600-1626479999@www.greekboston.com
SUMMARY:Greek Comedy Night in Braintree MA
DESCRIPTION:
URL:https://www.greekboston.com/event/comedy-night-braintree/
LOCATION:St. Catherine Greek Orthodox Church\, 119 Common Street\, Braintree\, MA\, 02184\, United States
CATEGORIES:Greek Events in Boston and the New England Area
ATTACH;FMTTYPE=image/jpeg:https://e498h76z5mp.exactdn.com/wp-content/uploads/2014/09/Comedy-Night-Poster-FOR-7-16-2021-scaled.jpg
END:VEVENT
BEGIN:VEVENT
DTSTART;TZID=America/New_York:20210716T080000
DTEND;TZID=America/New_York:20210716T170000
DTSTAMP:20260422T161406
CREATED:20210707T210209Z
LAST-MODIFIED:20210707T210209Z
UID:86794-1626422400-1626454800@www.greekboston.com
SUMMARY:Ladies' Night at Annunciation of the Virgin Mary Greek Church Woburn MA
DESCRIPTION:We are pleased to announce the 1st Annual Ladies’ Night.\nWe look forward to seeing everyone for a great night of fellowship.\n﻿\nPrepaid reservations are required\, through PayPal or having a check into the church office\, made out to the Annunciation of the Virgin Mary\, no later than Sunday\, July 11th\, so we can order and plan accordingly. Please indicate Sangria Sippers in the memo line of the check.
URL:https://www.greekboston.com/event/ladies-night-woburn-ma/
LOCATION:Annunciation of The Virgin Mary Greek Orthodox Church  – Woburn\, MA\, 70 Montvale Avenue \, Woburn\, MA\, 01801 \, United States
CATEGORIES:Greek Events in Boston and the New England Area
ATTACH;FMTTYPE=image/png:https://e498h76z5mp.exactdn.com/wp-content/uploads/2021/07/Sangria-Sippers-_4_.png
END:VEVENT
END:VCALENDAR