BEGIN:VCALENDAR
VERSION:2.0
PRODID:-// - ECPv6.15.20//NONSGML v1.0//EN
CALSCALE:GREGORIAN
METHOD:PUBLISH
X-ORIGINAL-URL:https://www.greekboston.com
X-WR-CALDESC:Events for 
REFRESH-INTERVAL;VALUE=DURATION:PT1H
X-Robots-Tag:noindex
X-PUBLISHED-TTL:PT1H
BEGIN:VTIMEZONE
TZID:America/New_York
BEGIN:DAYLIGHT
TZOFFSETFROM:-0500
TZOFFSETTO:-0400
TZNAME:EDT
DTSTART:20200308T070000
END:DAYLIGHT
BEGIN:STANDARD
TZOFFSETFROM:-0400
TZOFFSETTO:-0500
TZNAME:EST
DTSTART:20201101T060000
END:STANDARD
BEGIN:DAYLIGHT
TZOFFSETFROM:-0500
TZOFFSETTO:-0400
TZNAME:EDT
DTSTART:20210314T070000
END:DAYLIGHT
BEGIN:STANDARD
TZOFFSETFROM:-0400
TZOFFSETTO:-0500
TZNAME:EST
DTSTART:20211107T060000
END:STANDARD
BEGIN:DAYLIGHT
TZOFFSETFROM:-0500
TZOFFSETTO:-0400
TZNAME:EDT
DTSTART:20220313T070000
END:DAYLIGHT
BEGIN:STANDARD
TZOFFSETFROM:-0400
TZOFFSETTO:-0500
TZNAME:EST
DTSTART:20221106T060000
END:STANDARD
END:VTIMEZONE
BEGIN:VEVENT
DTSTART;VALUE=DATE:20210911
DTEND;VALUE=DATE:20210912
DTSTAMP:20260422T195434
CREATED:20210907T174545Z
LAST-MODIFIED:20210907T174545Z
UID:87007-1631318400-1631404799@www.greekboston.com
SUMMARY:Lets Go Legoland for Dormition of the Virgin Mary Greek Orthodox Church Somerville MA
DESCRIPTION:
URL:https://www.greekboston.com/event/legoland-dormition-somerville-ma/
CATEGORIES:Greek Events in Boston and the New England Area
ATTACH;FMTTYPE=image/jpeg:https://e498h76z5mp.exactdn.com/wp-content/uploads/2021/09/241491825_6673421842683502_2576410949767637888_n.jpeg
END:VEVENT
BEGIN:VEVENT
DTSTART;VALUE=DATE:20210915
DTEND;VALUE=DATE:20210916
DTSTAMP:20260422T195434
CREATED:20210809T184808Z
LAST-MODIFIED:20210809T184808Z
UID:86923-1631664000-1631750399@www.greekboston.com
SUMMARY:Art show by Nondas Galiotzakis in Nashua NH
DESCRIPTION:
URL:https://www.greekboston.com/event/art-show-nondas-galiotzakis/
LOCATION:Art Show\, 191 Main Street\, Nashua\, NH\, 03060\, United States
CATEGORIES:Greek Events in Boston and the New England Area
ATTACH;FMTTYPE=image/jpeg:https://e498h76z5mp.exactdn.com/wp-content/uploads/2021/08/IMG_5520.jpg
END:VEVENT
BEGIN:VEVENT
DTSTART;VALUE=DATE:20210925
DTEND;VALUE=DATE:20210926
DTSTAMP:20260422T195434
CREATED:20210806T192637Z
LAST-MODIFIED:20210902T202434Z
UID:86919-1632528000-1632614399@www.greekboston.com
SUMMARY:Picnic for St. Nectarios Greek Church Roslindale MA
DESCRIPTION:
URL:https://www.greekboston.com/event/picnic-st-nectarios-roslindale-ma/
LOCATION:Adams Farm\, 999 North Street\, Walpole\, MA\, 02081\, United States
CATEGORIES:Greek Events in Boston and the New England Area
ATTACH;FMTTYPE=image/png:https://e498h76z5mp.exactdn.com/wp-content/uploads/2021/08/241180261_4370679936311293_55686671950443803_n.png
END:VEVENT
BEGIN:VEVENT
DTSTART;TZID=America/New_York:20210930T183000
DTEND;TZID=America/New_York:20210930T203000
DTSTAMP:20260422T195434
CREATED:20180904T193115Z
LAST-MODIFIED:20210917T200843Z
UID:73224-1633026600-1633033800@www.greekboston.com
SUMMARY:Intro Student Seminar with The Consulate General of Greece in Boston
DESCRIPTION:
URL:https://www.greekboston.com/event/student-seminar-consulate-general/
LOCATION:Consulate General of Greece in Boston\, 86 Beacon Street\, Boston\, Massachusetts 02108\, MA\, 02108\, United States
CATEGORIES:Greek Events in Boston and the New England Area
ATTACH;FMTTYPE=image/png:https://e498h76z5mp.exactdn.com/wp-content/uploads/2018/09/241989249_1856538781191810_8808314992837406306_n.png
END:VEVENT
END:VCALENDAR