BEGIN:VCALENDAR
VERSION:2.0
PRODID:-// - ECPv6.15.20//NONSGML v1.0//EN
CALSCALE:GREGORIAN
METHOD:PUBLISH
X-ORIGINAL-URL:https://www.greekboston.com
X-WR-CALDESC:Events for 
REFRESH-INTERVAL;VALUE=DURATION:PT1H
X-Robots-Tag:noindex
X-PUBLISHED-TTL:PT1H
BEGIN:VTIMEZONE
TZID:America/New_York
BEGIN:DAYLIGHT
TZOFFSETFROM:-0500
TZOFFSETTO:-0400
TZNAME:EDT
DTSTART:20210314T070000
END:DAYLIGHT
BEGIN:STANDARD
TZOFFSETFROM:-0400
TZOFFSETTO:-0500
TZNAME:EST
DTSTART:20211107T060000
END:STANDARD
BEGIN:DAYLIGHT
TZOFFSETFROM:-0500
TZOFFSETTO:-0400
TZNAME:EDT
DTSTART:20220313T070000
END:DAYLIGHT
BEGIN:STANDARD
TZOFFSETFROM:-0400
TZOFFSETTO:-0500
TZNAME:EST
DTSTART:20221106T060000
END:STANDARD
BEGIN:DAYLIGHT
TZOFFSETFROM:-0500
TZOFFSETTO:-0400
TZNAME:EDT
DTSTART:20230312T070000
END:DAYLIGHT
BEGIN:STANDARD
TZOFFSETFROM:-0400
TZOFFSETTO:-0500
TZNAME:EST
DTSTART:20231105T060000
END:STANDARD
END:VTIMEZONE
BEGIN:VEVENT
DTSTART;VALUE=DATE:20220301
DTEND;VALUE=DATE:20220302
DTSTAMP:20260423T060611
CREATED:20180427T192016Z
LAST-MODIFIED:20230110T222336Z
UID:71723-1646092800-1646179199@www.greekboston.com
SUMMARY:Metropolis of Boston Summer Camp
DESCRIPTION:
URL:https://www.greekboston.com/event/metropolis-summer-camp/
LOCATION:Metropolis of Boston Camp\, 329 Camp Merrimac Rd\, Contoocook\, NH\, 03229\, United States
CATEGORIES:Greek Events in Boston and the New England Area
ATTACH;FMTTYPE=image/jpeg:https://e498h76z5mp.exactdn.com/wp-content/uploads/2018/04/323639027_573991327397849_1512581072077786567_n.jpg
END:VEVENT
BEGIN:VEVENT
DTSTART;VALUE=DATE:20220305
DTEND;VALUE=DATE:20220306
DTSTAMP:20260423T060612
CREATED:20220204T191950Z
LAST-MODIFIED:20220204T191950Z
UID:88379-1646438400-1646524799@www.greekboston.com
SUMMARY:Cigar Night Event in Rowley MA
DESCRIPTION:
URL:https://www.greekboston.com/event/cigar-night-rowley-ma/
LOCATION:Tobacco Shack\, 162 Newburyport Turnpike\, Rowley\, MA 01969\, Rowley\, MA\, 01969\, United States
CATEGORIES:Greek Events in Boston and the New England Area
ATTACH;FMTTYPE=image/jpeg:https://e498h76z5mp.exactdn.com/wp-content/uploads/2022/02/272931156_359286522686594_1179144858314644362_n.jpeg
END:VEVENT
BEGIN:VEVENT
DTSTART;VALUE=DATE:20220308
DTEND;VALUE=DATE:20220309
DTSTAMP:20260423T060612
CREATED:20220228T224537Z
LAST-MODIFIED:20220228T224537Z
UID:88502-1646697600-1646783999@www.greekboston.com
SUMMARY:Ladies Philoptochos Society Elpis Event at Holy Apostles Greek Church in Haverhill MA
DESCRIPTION:
URL:https://www.greekboston.com/event/ladies-philoptochos-event-haverhill-ma/
LOCATION:Holy Apostles Greek Orthodox Church\, 156 Winter Street\, Haverhill\, MA\, 01830\, United States
CATEGORIES:Greek Events in Boston and the New England Area
ATTACH;FMTTYPE=image/jpeg:https://e498h76z5mp.exactdn.com/wp-content/uploads/2022/02/275077255_2803028153176967_4023017936481055231_n.jpeg
END:VEVENT
BEGIN:VEVENT
DTSTART;VALUE=DATE:20220309
DTEND;VALUE=DATE:20220310
DTSTAMP:20260423T060612
CREATED:20220228T224816Z
LAST-MODIFIED:20220228T224816Z
UID:88506-1646784000-1646870399@www.greekboston.com
SUMMARY:Young Adult Bible Study at Sts. Constantine & Helen Greek Church Andover MA
DESCRIPTION:
URL:https://www.greekboston.com/event/bible-study-andover-ma/
LOCATION:Sts Constantine and Helen Greek Orthodox Church – Andover\, MA\, 71 Chandler Road\, Andover\, MA\, 01810\, United States
CATEGORIES:Greek Events in Boston and the New England Area
ATTACH;FMTTYPE=image/png:https://e498h76z5mp.exactdn.com/wp-content/uploads/2022/02/274937633_5504002772946532_1045468047480973816_n.png
END:VEVENT
BEGIN:VEVENT
DTSTART;VALUE=DATE:20220310
DTEND;VALUE=DATE:20220311
DTSTAMP:20260423T060612
CREATED:20220221T224309Z
LAST-MODIFIED:20220221T224309Z
UID:88451-1646870400-1646956799@www.greekboston.com
SUMMARY:Conversational Greek For Adults at Sts. Constantine and Helen Greek Church Cambridge MA
DESCRIPTION:
URL:https://www.greekboston.com/event/conversational-adults-cambridge-ma/
LOCATION:Saints Constantine and Helen Greek Orthodox Church – Cambridge\, MA\, 14 Magazine Street\, Cambridge\, MA\, 02139\, United States
CATEGORIES:Greek Events in Boston and the New England Area
ATTACH;FMTTYPE=image/jpeg:https://e498h76z5mp.exactdn.com/wp-content/uploads/2022/02/274366214_1126381424881617_8141226801100341374_n.jpeg
END:VEVENT
BEGIN:VEVENT
DTSTART;VALUE=DATE:20220312
DTEND;VALUE=DATE:20220313
DTSTAMP:20260423T060612
CREATED:20150127T171737Z
LAST-MODIFIED:20220302T230930Z
UID:46023-1647043200-1647129599@www.greekboston.com
SUMMARY:Lenten Church Camp at The Transfiguration Greek Church in Lowell MA
DESCRIPTION:
URL:https://www.greekboston.com/event/lenten-camp-lowell-ma/
LOCATION:Transfiguration Greek Orthodox Church – Lowell\, MA\, 25 Fr. John Sarantos Way\, Lowell\, 01854\, United States
CATEGORIES:Greek Events in Boston and the New England Area
ATTACH;FMTTYPE=image/jpeg:https://e498h76z5mp.exactdn.com/wp-content/uploads/2015/01/274983927_5486443751384805_4388823337098719387_n.jpeg
END:VEVENT
BEGIN:VEVENT
DTSTART;VALUE=DATE:20220319
DTEND;VALUE=DATE:20220320
DTSTAMP:20260423T060612
CREATED:20220303T230958Z
LAST-MODIFIED:20220303T230958Z
UID:88519-1647648000-1647734399@www.greekboston.com
SUMMARY:A Taste of Glendi Drive Thru Event at St George Greek Cathedral Manchester NH
DESCRIPTION:
URL:https://www.greekboston.com/event/taste-glendi-drive-thru-manchester-nh/
LOCATION:St. George Greek Orthodox Cathedral – Manchester\, NH\, 650 Hanover Street\, Manchester\, NH\, 03104\, United States
CATEGORIES:Greek Events in Boston and the New England Area
ATTACH;FMTTYPE=image/jpeg:https://e498h76z5mp.exactdn.com/wp-content/uploads/2022/03/Lamb-Shank-Dinner-3-2022.jpg
END:VEVENT
BEGIN:VEVENT
DTSTART;VALUE=DATE:20220319
DTEND;VALUE=DATE:20220320
DTSTAMP:20260423T060612
CREATED:20210122T190854Z
LAST-MODIFIED:20220210T194704Z
UID:86136-1647648000-1647734399@www.greekboston.com
SUMMARY:Blood Drive at St. Athanasius the Great Greek Church Arlington MA
DESCRIPTION:
URL:https://www.greekboston.com/event/blood-drive-arlington-ma/
LOCATION:St. Athanasius the Great Greek Orthodox Church – Arlington\, MA\, 4 Appleton St\, Arlington\, MA\, 02476\, United States
CATEGORIES:Greek Events in Boston and the New England Area
ATTACH;FMTTYPE=image/jpeg:https://e498h76z5mp.exactdn.com/wp-content/uploads/2021/01/273516868_5571821452866616_754317313097460914_n.jpeg
END:VEVENT
BEGIN:VEVENT
DTSTART;VALUE=DATE:20220321
DTEND;VALUE=DATE:20220322
DTSTAMP:20260423T060612
CREATED:20220317T142727Z
LAST-MODIFIED:20220317T143144Z
UID:88580-1647820800-1647907199@www.greekboston.com
SUMMARY:The Life of Saint Nektarios Movie Showing in Dedham MA
DESCRIPTION:
URL:https://www.greekboston.com/event/the-life-of-saint-nektarios-movie-showing/
LOCATION:Showcase Cinema de Lux Legacy Place Dedham\, 670 Legacy Place\, Dedham\, 02026\, United States
CATEGORIES:Greek Events in Boston and the New England Area
ATTACH;FMTTYPE=image/jpeg:https://e498h76z5mp.exactdn.com/wp-content/uploads/2022/03/275914813_341855614658849_6550880649331838178_n.jpeg
END:VEVENT
BEGIN:VEVENT
DTSTART;VALUE=DATE:20220324
DTEND;VALUE=DATE:20220325
DTSTAMP:20260423T060612
CREATED:20220317T143044Z
LAST-MODIFIED:20220317T143044Z
UID:88584-1648080000-1648166399@www.greekboston.com
SUMMARY:Poetry Reading by Dr. George Kalogeris in Brookline MA
DESCRIPTION:
URL:https://www.greekboston.com/event/poetry-dr-george-kalogeris/
LOCATION:Maliotis Cultural Center\, 50 Goddard Avenue\, Brookline\, MA\, 02130\, United States
CATEGORIES:Greek Events in Boston and the New England Area
ATTACH;FMTTYPE=image/jpeg:https://e498h76z5mp.exactdn.com/wp-content/uploads/2022/03/275759487_341855617992182_6566067744055504233_n.jpeg
END:VEVENT
BEGIN:VEVENT
DTSTART;VALUE=DATE:20220324
DTEND;VALUE=DATE:20220325
DTSTAMP:20260423T060612
CREATED:20180321T141143Z
LAST-MODIFIED:20220320T150840Z
UID:71036-1648080000-1648166399@www.greekboston.com
SUMMARY:Greek Flag Raising Ceremony in Haverhill MA
DESCRIPTION:
URL:https://www.greekboston.com/event/flag-ceremony-haverhill-ma/
LOCATION:Haverhill City Hall \, Haverhill\, MA\, 01830\, United States
CATEGORIES:Greek Events in Boston and the New England Area
ATTACH;FMTTYPE=image/jpeg:https://e498h76z5mp.exactdn.com/wp-content/uploads/2018/03/276991344_2818511568295292_6739659474047694968_n.jpeg
END:VEVENT
BEGIN:VEVENT
DTSTART;VALUE=DATE:20220325
DTEND;VALUE=DATE:20220326
DTSTAMP:20260423T060612
CREATED:20220320T145544Z
LAST-MODIFIED:20220320T145635Z
UID:88599-1648166400-1648252799@www.greekboston.com
SUMMARY:Greek Night Workout at Heroes Fitness Lynnfield MA
DESCRIPTION:
URL:https://www.greekboston.com/event/workout-lynnfield-ma/
LOCATION:Heroes Fitness Lynnfield MA\, 681 Market Street\, Lynnfield\, MA\, 01940\, United States
CATEGORIES:Greek Events in Boston and the New England Area
ATTACH;FMTTYPE=image/jpeg:https://e498h76z5mp.exactdn.com/wp-content/uploads/2022/03/IMG_0203-1.jpg
END:VEVENT
BEGIN:VEVENT
DTSTART;VALUE=DATE:20220326
DTEND;VALUE=DATE:20220327
DTSTAMP:20260423T060612
CREATED:20220314T210551Z
LAST-MODIFIED:20220314T210551Z
UID:88561-1648252800-1648339199@www.greekboston.com
SUMMARY:Mediterranean Greek Music Night in Attleboro MA
DESCRIPTION:
URL:https://www.greekboston.com/event/mediterranean-night-attleboro-ma/
LOCATION:Mediterranean Grill & Pizzeria (Attleboro)\, 595 Washington St\, Attleboro\, MA 02703\, Attleboro\, MA 02703\, MA\, 02703\, United States
CATEGORIES:Greek Events in Boston and the New England Area
ATTACH;FMTTYPE=image/jpeg:https://e498h76z5mp.exactdn.com/wp-content/uploads/2022/03/275514497_5153269764696425_1554424829093541641_n.jpeg
END:VEVENT
BEGIN:VEVENT
DTSTART;VALUE=DATE:20220327
DTEND;VALUE=DATE:20220328
DTSTAMP:20260423T060612
CREATED:20220320T151040Z
LAST-MODIFIED:20220320T151040Z
UID:88606-1648339200-1648425599@www.greekboston.com
SUMMARY:Lenten Luncheon at St. Spyridon Greek Cathedral Worcester MA
DESCRIPTION:
URL:https://www.greekboston.com/event/lenten-luncheon-worcester-ma/
LOCATION:St. Spyridon Greek Orthodox Cathedral – Worcester\, 102 Russell Street\, Worcester\, MA\, 01609\, United States
CATEGORIES:Greek Events in Boston and the New England Area
ATTACH;FMTTYPE=image/jpeg:https://e498h76z5mp.exactdn.com/wp-content/uploads/2022/03/275006504_1940500869469316_313631282612582463_n.jpeg
END:VEVENT
BEGIN:VEVENT
DTSTART;VALUE=DATE:20220327
DTEND;VALUE=DATE:20220328
DTSTAMP:20260423T060612
CREATED:20180227T235308Z
LAST-MODIFIED:20220808T200625Z
UID:70266-1648339200-1648425599@www.greekboston.com
SUMMARY:Potluck Dinner at St. Gregory the Theologian Greek Church Mansfield MA
DESCRIPTION:
URL:https://www.greekboston.com/event/potluck-dinner-mansfield-ma/
LOCATION:St. Gregory the Theologian Greek Orthodox Church – Mansfield\, MA\, 1007 West St\, Mansfield\, MA\, 02048\, United States
CATEGORIES:Greek Events in Boston and the New England Area
ATTACH;FMTTYPE=image/jpeg:https://e498h76z5mp.exactdn.com/wp-content/uploads/2018/02/297226642_6025282214152643_3315626664820868962_n.jpeg
END:VEVENT
BEGIN:VEVENT
DTSTART;VALUE=DATE:20220330
DTEND;VALUE=DATE:20220331
DTSTAMP:20260423T060612
CREATED:20220329T194511Z
LAST-MODIFIED:20220329T194617Z
UID:88627-1648598400-1648684799@www.greekboston.com
SUMMARY:Open Mic and Karaoke Night at Maliotis Cultural Center Brookline MA
DESCRIPTION:
URL:https://www.greekboston.com/event/open-mic-karaoke-night-brookline-ma/
LOCATION:Maliotis Cultural Center\, 50 Goddard Avenue\, Brookline\, MA\, 02130\, United States
CATEGORIES:Greek Events in Boston and the New England Area
ATTACH;FMTTYPE=image/jpeg:https://e498h76z5mp.exactdn.com/wp-content/uploads/2022/03/277664580_349672383877172_7205625868137540069_n.jpeg
END:VEVENT
BEGIN:VEVENT
DTSTART;VALUE=DATE:20220331
DTEND;VALUE=DATE:20220401
DTSTAMP:20260423T060612
CREATED:20220203T185506Z
LAST-MODIFIED:20220203T185506Z
UID:88367-1648684800-1648771199@www.greekboston.com
SUMMARY:Annual Boston Bruins PJ Drive at Annunciation Greek Church Brockton MA
DESCRIPTION:
URL:https://www.greekboston.com/event/bruins-pj-drive-brockton-ma/
CATEGORIES:Greek Events in Boston and the New England Area
ATTACH;FMTTYPE=image/jpeg:https://e498h76z5mp.exactdn.com/wp-content/uploads/2022/02/273330548_10158303037581436_6868430878313112260_n.jpeg
END:VEVENT
END:VCALENDAR